BEGIN:VCALENDAR
VERSION:2.0
PRODID:-//Chicago Cultural Alliance - ECPv6.15.20//NONSGML v1.0//EN
CALSCALE:GREGORIAN
METHOD:PUBLISH
X-ORIGINAL-URL:https://www.chicagoculturalalliance.org
X-WR-CALDESC:Events for Chicago Cultural Alliance
REFRESH-INTERVAL;VALUE=DURATION:PT1H
X-Robots-Tag:noindex
X-PUBLISHED-TTL:PT1H
BEGIN:VTIMEZONE
TZID:America/Chicago
BEGIN:DAYLIGHT
TZOFFSETFROM:-0600
TZOFFSETTO:-0500
TZNAME:CDT
DTSTART:20210314T080000
END:DAYLIGHT
BEGIN:STANDARD
TZOFFSETFROM:-0500
TZOFFSETTO:-0600
TZNAME:CST
DTSTART:20211107T070000
END:STANDARD
BEGIN:DAYLIGHT
TZOFFSETFROM:-0600
TZOFFSETTO:-0500
TZNAME:CDT
DTSTART:20220313T080000
END:DAYLIGHT
BEGIN:STANDARD
TZOFFSETFROM:-0500
TZOFFSETTO:-0600
TZNAME:CST
DTSTART:20221106T070000
END:STANDARD
BEGIN:DAYLIGHT
TZOFFSETFROM:-0600
TZOFFSETTO:-0500
TZNAME:CDT
DTSTART:20230312T080000
END:DAYLIGHT
BEGIN:STANDARD
TZOFFSETFROM:-0500
TZOFFSETTO:-0600
TZNAME:CST
DTSTART:20231105T070000
END:STANDARD
END:VTIMEZONE
BEGIN:VEVENT
DTSTART;TZID=America/Chicago:20220720T190000
DTEND;TZID=America/Chicago:20220720T190000
DTSTAMP:20260425T191341
CREATED:20220712T190553Z
LAST-MODIFIED:20220712T190553Z
UID:10001620-1658343600-1658343600@www.chicagoculturalalliance.org
SUMMARY:“Viva Colombia” - Colombian Independence Day Concert
DESCRIPTION:In collaboration with El Gran Festival Colombiano\, we are excited to present “Viva Colombia” – Colombian Independence Day Concert as part of the Chicago Latino Music Series.\nHeadlined by Ceferina Banquez\, one of the most celebrated and recognized voices of Afro-Colombian music\, the evening features the beautiful music of the plains of Colombia and Venezuela with local superstars Arpa Cafe. This five-piece band led by Colombian harpist Daniel Rojas features traditional acoustic instrumentation with a special surprise guest.\nDoors open at 7:00pm; show starts at 7:30pm.\nTickets:\n$25 General Admission\n$20 ILCC Members
URL:https://www.chicagoculturalalliance.org/event/viva-colombia-colombian-independence-day-concert/
LOCATION:Nichols Concert Hall\, 1490 Chicago Ave\, Evanston\, IL\, United States
CATEGORIES:Cultural Festivals and Fairs,Member Events,Music, Film, and Theater
ATTACH;FMTTYPE=image/jpeg:https://www.chicagoculturalalliance.org/wp-content/uploads/2022/07/291365405_5626627107357221_5252946389952014685_n.jpg
GEO:42.0448949;-87.6808034
X-APPLE-STRUCTURED-LOCATION;VALUE=URI;X-ADDRESS=Nichols Concert Hall 1490 Chicago Ave Evanston IL United States;X-APPLE-RADIUS=500;X-TITLE=1490 Chicago Ave:geo:-87.6808034,42.0448949
END:VEVENT
BEGIN:VEVENT
DTSTART;TZID=America/Chicago:20220720T203000
DTEND;TZID=America/Chicago:20220720T214500
DTSTAMP:20260425T191341
CREATED:20220614T183558Z
LAST-MODIFIED:20220614T190319Z
UID:10001555-1658349000-1658353500@www.chicagoculturalalliance.org
SUMMARY:Film in the Park / Cine en el Parque
DESCRIPTION:Enjoy summertime Chi with our annual Film in the Park/Cine en el Parque! In partnership with the Chicago Park District\, the series runs family-friendly films projected on large screens in various citywide parks for FREE. The goal is to bring Latino films to various communities in Chicago to showcase diverse storytelling and talent. All films are shown in their original language with English subtitles.\nScreenings take place every Wednesday from July 6th – August 3rd\, and begin at dusk approximately 8:30PM. Arrive early for a good spot!\nTHIS IS A FREE EVENT\nTo view our full line-up\, visit our website:\nlatinoculturalcenter.org/programs/film-in-the-park\nSAVE THE DATE\nJuly 6th – Harrison Park\nJuly 13th – Piotrowski Park\nJuly 20th – Kelvyn Park\nJuly 27th – Loyola Park\nAugust 30th – Kilbourn Park
URL:https://www.chicagoculturalalliance.org/event/film-in-the-park-cine-en-el-parque/2022-07-20/
LOCATION:Multiple Venues\, Chicago\, IL\, United States
CATEGORIES:Member Events,Music, Film, and Theater
ATTACH;FMTTYPE=image/jpeg:https://www.chicagoculturalalliance.org/wp-content/uploads/2022/06/286834039_5563144147038851_3006630335639499879_n.jpg
GEO:41.8781136;-87.6297982
END:VEVENT
END:VCALENDAR