BEGIN:VCALENDAR
VERSION:2.0
PRODID:-//Chicago Cultural Alliance - ECPv6.15.20//NONSGML v1.0//EN
CALSCALE:GREGORIAN
METHOD:PUBLISH
X-WR-CALNAME:Chicago Cultural Alliance
X-ORIGINAL-URL:https://www.chicagoculturalalliance.org
X-WR-CALDESC:Events for Chicago Cultural Alliance
REFRESH-INTERVAL;VALUE=DURATION:PT1H
X-Robots-Tag:noindex
X-PUBLISHED-TTL:PT1H
BEGIN:VTIMEZONE
TZID:America/Chicago
BEGIN:DAYLIGHT
TZOFFSETFROM:-0600
TZOFFSETTO:-0500
TZNAME:CDT
DTSTART:20210314T080000
END:DAYLIGHT
BEGIN:STANDARD
TZOFFSETFROM:-0500
TZOFFSETTO:-0600
TZNAME:CST
DTSTART:20211107T070000
END:STANDARD
BEGIN:DAYLIGHT
TZOFFSETFROM:-0600
TZOFFSETTO:-0500
TZNAME:CDT
DTSTART:20220313T080000
END:DAYLIGHT
BEGIN:STANDARD
TZOFFSETFROM:-0500
TZOFFSETTO:-0600
TZNAME:CST
DTSTART:20221106T070000
END:STANDARD
BEGIN:DAYLIGHT
TZOFFSETFROM:-0600
TZOFFSETTO:-0500
TZNAME:CDT
DTSTART:20230312T080000
END:DAYLIGHT
BEGIN:STANDARD
TZOFFSETFROM:-0500
TZOFFSETTO:-0600
TZNAME:CST
DTSTART:20231105T070000
END:STANDARD
END:VTIMEZONE
BEGIN:VEVENT
DTSTART;TZID=America/Chicago:20220910T180000
DTEND;TZID=America/Chicago:20220910T233000
DTSTAMP:20260425T121021
CREATED:20220711T184725Z
LAST-MODIFIED:20220728T164930Z
UID:10001616-1662832800-1662852600@www.chicagoculturalalliance.org
SUMMARY:National Hellenic Museum Gala
DESCRIPTION:Join Us\nfor an evening of fine dining\, music\, dancing and a spectacular auction to benefit the National Hellenic Museum \nSaturday\, September 10\, 2022\nHilton Chicago\n720 South Michigan Ave | Chicago\, IL 60605 \n6:00 pm cocktails\n7:00 pm dinner\, auction\, music\, dancing\nSpecial Performance by Thanos Petrelis \nBlack Tie Optional \nWe look forward to seeing you at our most important fundraising event of the year\, as we celebrate the lasting and enriching Hellenic legacy. \nRSVP for Tickets & Sponsorships at:\nNationalHellenicMuseum.org/Gala2022 \nFor question email development@hellenicmuseum.org \n\nLEARN MORE
URL:https://www.chicagoculturalalliance.org/event/national-hellenic-museum-gala/
LOCATION:Hilton Chicago\, 720 South Michigan Ave\, Chicago\, IL\, 60605\, United States
CATEGORIES:Food and Drink,Member Events,Talks and Gatherings
ATTACH;FMTTYPE=image/jpeg:https://www.chicagoculturalalliance.org/wp-content/uploads/2022/07/NHM-Gala-22.jpg
GEO:41.872494;-87.6248546
X-APPLE-STRUCTURED-LOCATION;VALUE=URI;X-ADDRESS=Hilton Chicago 720 South Michigan Ave Chicago IL 60605 United States;X-APPLE-RADIUS=500;X-TITLE=720 South Michigan Ave:geo:-87.6248546,41.872494
END:VEVENT
END:VCALENDAR