BEGIN:VCALENDAR
VERSION:2.0
PRODID:-//Chicago Cultural Alliance - ECPv6.15.20//NONSGML v1.0//EN
CALSCALE:GREGORIAN
METHOD:PUBLISH
X-ORIGINAL-URL:https://www.chicagoculturalalliance.org
X-WR-CALDESC:Events for Chicago Cultural Alliance
REFRESH-INTERVAL;VALUE=DURATION:PT1H
X-Robots-Tag:noindex
X-PUBLISHED-TTL:PT1H
BEGIN:VTIMEZONE
TZID:America/Chicago
BEGIN:DAYLIGHT
TZOFFSETFROM:-0600
TZOFFSETTO:-0500
TZNAME:CDT
DTSTART:20240310T080000
END:DAYLIGHT
BEGIN:STANDARD
TZOFFSETFROM:-0500
TZOFFSETTO:-0600
TZNAME:CST
DTSTART:20241103T070000
END:STANDARD
BEGIN:DAYLIGHT
TZOFFSETFROM:-0600
TZOFFSETTO:-0500
TZNAME:CDT
DTSTART:20250309T080000
END:DAYLIGHT
BEGIN:STANDARD
TZOFFSETFROM:-0500
TZOFFSETTO:-0600
TZNAME:CST
DTSTART:20251102T070000
END:STANDARD
BEGIN:DAYLIGHT
TZOFFSETFROM:-0600
TZOFFSETTO:-0500
TZNAME:CDT
DTSTART:20260308T080000
END:DAYLIGHT
BEGIN:STANDARD
TZOFFSETFROM:-0500
TZOFFSETTO:-0600
TZNAME:CST
DTSTART:20261101T070000
END:STANDARD
END:VTIMEZONE
BEGIN:VEVENT
DTSTART;TZID=America/Chicago:20251107T080000
DTEND;TZID=America/Chicago:20251107T170000
DTSTAMP:20260423T012635
CREATED:20251112T171639Z
LAST-MODIFIED:20251112T171639Z
UID:10009530-1762502400-1762534800@www.chicagoculturalalliance.org
SUMMARY:Artecito Virtual – Koala
DESCRIPTION:How much do Koalas sleep? \nJoin us online as we explore Koalas with our friends from Artecito! \n🎨 \n¿Cuanto duermen Koalas? \n¡Acompáñanos a explorar sobre los koalas con nuestros amigos de Artecito! \n🎨 \nWhat is Virtual Artecito? \nArtecito is a free\, bilingual online workshop developed by OPEN Center for the Arts and Lincoln Park Zoo that uses the arts to connect families with nature through local culture\, holidays\, and wildlife. Each session includes an art activity that encourages creative thinking about our relationship with the natural world. \n🎨 \n¿Qué es Artecito Virtual? \nArtecito es un taller gratuito en español desarrollado por OPEN Center for the Arts y Lincoln Park Zoo que utiliza las artes para conectar a las familias con la naturaleza\, la cultura y la vida silvestre. Cada sesión incluye una actividad artística que inspira a niños y familias a pensar creativamente sobre su relación con la naturaleza.
URL:https://www.chicagoculturalalliance.org/event/artecito-virtual-koala/
LOCATION:Virtual\, Chicago\, IL\, United States
CATEGORIES:Exhibitions and Gallery Events
ATTACH;FMTTYPE=image/jpeg:https://www.chicagoculturalalliance.org/wp-content/uploads/2025/11/KOALA-FB-VIR-scaled.jpg
GEO:41.8781136;-87.6297982
END:VEVENT
END:VCALENDAR