BEGIN:VCALENDAR
VERSION:2.0
PRODID:-//Chicago Cultural Alliance - ECPv6.15.20//NONSGML v1.0//EN
CALSCALE:GREGORIAN
METHOD:PUBLISH
X-ORIGINAL-URL:https://www.chicagoculturalalliance.org
X-WR-CALDESC:Events for Chicago Cultural Alliance
REFRESH-INTERVAL;VALUE=DURATION:PT1H
X-Robots-Tag:noindex
X-PUBLISHED-TTL:PT1H
BEGIN:VTIMEZONE
TZID:America/Chicago
BEGIN:DAYLIGHT
TZOFFSETFROM:-0600
TZOFFSETTO:-0500
TZNAME:CDT
DTSTART:20210314T080000
END:DAYLIGHT
BEGIN:STANDARD
TZOFFSETFROM:-0500
TZOFFSETTO:-0600
TZNAME:CST
DTSTART:20211107T070000
END:STANDARD
BEGIN:DAYLIGHT
TZOFFSETFROM:-0600
TZOFFSETTO:-0500
TZNAME:CDT
DTSTART:20220313T080000
END:DAYLIGHT
BEGIN:STANDARD
TZOFFSETFROM:-0500
TZOFFSETTO:-0600
TZNAME:CST
DTSTART:20221106T070000
END:STANDARD
BEGIN:DAYLIGHT
TZOFFSETFROM:-0600
TZOFFSETTO:-0500
TZNAME:CDT
DTSTART:20230312T080000
END:DAYLIGHT
BEGIN:STANDARD
TZOFFSETFROM:-0500
TZOFFSETTO:-0600
TZNAME:CST
DTSTART:20231105T070000
END:STANDARD
END:VTIMEZONE
BEGIN:VEVENT
DTSTART;TZID=America/Chicago:20220728T180000
DTEND;TZID=America/Chicago:20220728T200000
DTSTAMP:20260422T221117
CREATED:20220726T220159Z
LAST-MODIFIED:20220726T220159Z
UID:10001641-1659031200-1659038400@www.chicagoculturalalliance.org
SUMMARY:Isla que Vuela
DESCRIPTION:” Isla que vuela” es una instalación fotográfica de José Arturo Ballester Panelli. Trabaja la geometría sagrada \, escogiendo el hexágono\, símbolo que representa el perpetuo movimiento de la creación y el camino que siguen los procesos de transformación a través de la renovación y el cambio.\nBallesta Nueve escoge las chiringas\, papelotes o cometas\, esa forma de nuestra niñez latina\, para realizar su instalación fotográfica. Una vez más\, presenta sus fotografías de paisajes naturales propios del trópico en forma experimental\, configurando mantras voladores que nos invitan al recuerdo\, la nostalgia\, la contemplacion de nuestros entornos naturales. Nos invita a volar \, a transformarnos mientras el reconocimiento de que todos somos tambien naturaleza en perpetuo cambio y transito y que llevamos nuestra isla\, nuestra tierra natal con nosotros a donde quiera que vamos.\n“Isla que vuela” es un tributo a todos los que vuelan lejos y extienden nuestros territorios más allá de cualquier frontera\, ampliando lo que conocemos como hogar.
URL:https://www.chicagoculturalalliance.org/event/isla-que-vuela/
LOCATION:Segundo Ruiz Belvis Cultural Center\, 4046 W. Armitage Ave.\, Chicago\, IL\, 60639\, United States
CATEGORIES:Member Events
ATTACH;FMTTYPE=image/jpeg:https://www.chicagoculturalalliance.org/wp-content/uploads/2022/07/294883368_574633097361958_1640243271336584103_n.jpg
GEO:41.91729;-87.7283967
X-APPLE-STRUCTURED-LOCATION;VALUE=URI;X-ADDRESS=Segundo Ruiz Belvis Cultural Center 4046 W. Armitage Ave. Chicago IL 60639 United States;X-APPLE-RADIUS=500;X-TITLE=4046 W. Armitage Ave.:geo:-87.7283967,41.91729
END:VEVENT
END:VCALENDAR