BEGIN:VCALENDAR
VERSION:2.0
PRODID:-//Chicago Cultural Alliance - ECPv6.15.20//NONSGML v1.0//EN
CALSCALE:GREGORIAN
METHOD:PUBLISH
X-WR-CALNAME:Chicago Cultural Alliance
X-ORIGINAL-URL:https://www.chicagoculturalalliance.org
X-WR-CALDESC:Events for Chicago Cultural Alliance
REFRESH-INTERVAL;VALUE=DURATION:PT1H
X-Robots-Tag:noindex
X-PUBLISHED-TTL:PT1H
BEGIN:VTIMEZONE
TZID:America/Chicago
BEGIN:DAYLIGHT
TZOFFSETFROM:-0600
TZOFFSETTO:-0500
TZNAME:CDT
DTSTART:20240310T080000
END:DAYLIGHT
BEGIN:STANDARD
TZOFFSETFROM:-0500
TZOFFSETTO:-0600
TZNAME:CST
DTSTART:20241103T070000
END:STANDARD
BEGIN:DAYLIGHT
TZOFFSETFROM:-0600
TZOFFSETTO:-0500
TZNAME:CDT
DTSTART:20250309T080000
END:DAYLIGHT
BEGIN:STANDARD
TZOFFSETFROM:-0500
TZOFFSETTO:-0600
TZNAME:CST
DTSTART:20251102T070000
END:STANDARD
BEGIN:DAYLIGHT
TZOFFSETFROM:-0600
TZOFFSETTO:-0500
TZNAME:CDT
DTSTART:20260308T080000
END:DAYLIGHT
BEGIN:STANDARD
TZOFFSETFROM:-0500
TZOFFSETTO:-0600
TZNAME:CST
DTSTART:20261101T070000
END:STANDARD
END:VTIMEZONE
BEGIN:VEVENT
DTSTART;VALUE=DATE:20250801
DTEND;VALUE=DATE:20250802
DTSTAMP:20260422T215747
CREATED:20250807T013712Z
LAST-MODIFIED:20250807T013712Z
UID:10008070-1754006400-1754092799@www.chicagoculturalalliance.org
SUMMARY:Na'wa'hIs' Our Relations
DESCRIPTION:An Art Exhibit by the Levi Family. Step into a visual journey of family\, heritage\, and the sacred bond between Native people and animals\, told through the eyes of three Native artists. Visit this collection of ledger art\, paintings\, textile and photography.
URL:https://www.chicagoculturalalliance.org/event/nawahis-our-relations/2025-08-01/
LOCATION:Trickster Cultural Center\, 190 S Roselle Rd\, Schaumburg\, IL\, 60193\, United States
CATEGORIES:Exhibitions and Gallery Events
ATTACH;FMTTYPE=image/jpeg:https://www.chicagoculturalalliance.org/wp-content/uploads/2025/08/May1-2025-Levi-Family-Art-Exhibit.jpg
GEO:42.0253438;-88.0805137
X-APPLE-STRUCTURED-LOCATION;VALUE=URI;X-ADDRESS=Trickster Cultural Center 190 S Roselle Rd Schaumburg IL 60193 United States;X-APPLE-RADIUS=500;X-TITLE=190 S Roselle Rd:geo:-88.0805137,42.0253438
END:VEVENT
END:VCALENDAR