BEGIN:VCALENDAR
VERSION:2.0
PRODID:-//Chicago Cultural Alliance - ECPv6.15.20//NONSGML v1.0//EN
CALSCALE:GREGORIAN
METHOD:PUBLISH
X-ORIGINAL-URL:https://www.chicagoculturalalliance.org
X-WR-CALDESC:Events for Chicago Cultural Alliance
REFRESH-INTERVAL;VALUE=DURATION:PT1H
X-Robots-Tag:noindex
X-PUBLISHED-TTL:PT1H
BEGIN:VTIMEZONE
TZID:America/Chicago
BEGIN:DAYLIGHT
TZOFFSETFROM:-0600
TZOFFSETTO:-0500
TZNAME:CDT
DTSTART:20210314T080000
END:DAYLIGHT
BEGIN:STANDARD
TZOFFSETFROM:-0500
TZOFFSETTO:-0600
TZNAME:CST
DTSTART:20211107T070000
END:STANDARD
BEGIN:DAYLIGHT
TZOFFSETFROM:-0600
TZOFFSETTO:-0500
TZNAME:CDT
DTSTART:20220313T080000
END:DAYLIGHT
BEGIN:STANDARD
TZOFFSETFROM:-0500
TZOFFSETTO:-0600
TZNAME:CST
DTSTART:20221106T070000
END:STANDARD
BEGIN:DAYLIGHT
TZOFFSETFROM:-0600
TZOFFSETTO:-0500
TZNAME:CDT
DTSTART:20230312T080000
END:DAYLIGHT
BEGIN:STANDARD
TZOFFSETFROM:-0500
TZOFFSETTO:-0600
TZNAME:CST
DTSTART:20231105T070000
END:STANDARD
END:VTIMEZONE
BEGIN:VEVENT
DTSTART;TZID=America/Chicago:20220623T120000
DTEND;TZID=America/Chicago:20220623T123000
DTSTAMP:20260424T203235
CREATED:20220621T195320Z
LAST-MODIFIED:20220621T195320Z
UID:10001575-1655985600-1655987400@www.chicagoculturalalliance.org
SUMMARY:Conversations with Chicago Collections - Ukrainian National Museum of Chicago
DESCRIPTION:CCC is proud to host the next installment of Conversations with Chicago Collections – Ukrainian National Museum of Chicago. Join Halyna Sarancha\, Archivist\, Maria Klimchak\, Museum Curator\, and Lydia Tkaczuk\, President of the Ukrainian National Museum of Chicago as they share how their archival collection of Ukrainian immigration materials contribute to Chicago’s rich cultural tapestry. See how the work of the museum is even more important in these current times.
URL:https://www.chicagoculturalalliance.org/event/conversations-with-chicago-collections-ukrainian-national-museum-of-chicago/
LOCATION:Online Event
CATEGORIES:Member Events,Talks and Gatherings
ATTACH;FMTTYPE=image/jpeg:https://www.chicagoculturalalliance.org/wp-content/uploads/2022/06/UNMProkopivV5-0300-300x200-1.jpg
END:VEVENT
END:VCALENDAR