BEGIN:VCALENDAR
VERSION:2.0
PRODID:-//Chicago Cultural Alliance - ECPv6.15.20//NONSGML v1.0//EN
CALSCALE:GREGORIAN
METHOD:PUBLISH
X-WR-CALNAME:Chicago Cultural Alliance
X-ORIGINAL-URL:https://www.chicagoculturalalliance.org
X-WR-CALDESC:Events for Chicago Cultural Alliance
REFRESH-INTERVAL;VALUE=DURATION:PT1H
X-Robots-Tag:noindex
X-PUBLISHED-TTL:PT1H
BEGIN:VTIMEZONE
TZID:America/Chicago
BEGIN:DAYLIGHT
TZOFFSETFROM:-0600
TZOFFSETTO:-0500
TZNAME:CDT
DTSTART:20210314T080000
END:DAYLIGHT
BEGIN:STANDARD
TZOFFSETFROM:-0500
TZOFFSETTO:-0600
TZNAME:CST
DTSTART:20211107T070000
END:STANDARD
BEGIN:DAYLIGHT
TZOFFSETFROM:-0600
TZOFFSETTO:-0500
TZNAME:CDT
DTSTART:20220313T080000
END:DAYLIGHT
BEGIN:STANDARD
TZOFFSETFROM:-0500
TZOFFSETTO:-0600
TZNAME:CST
DTSTART:20221106T070000
END:STANDARD
BEGIN:DAYLIGHT
TZOFFSETFROM:-0600
TZOFFSETTO:-0500
TZNAME:CDT
DTSTART:20230312T080000
END:DAYLIGHT
BEGIN:STANDARD
TZOFFSETFROM:-0500
TZOFFSETTO:-0600
TZNAME:CST
DTSTART:20231105T070000
END:STANDARD
END:VTIMEZONE
BEGIN:VEVENT
DTSTART;TZID=America/Chicago:20220710T110000
DTEND;TZID=America/Chicago:20220710T160000
DTSTAMP:20260424T215758
CREATED:20220628T164959Z
LAST-MODIFIED:20220628T164959Z
UID:10001591-1657450800-1657468800@www.chicagoculturalalliance.org
SUMMARY:Ukrainian National Museum's Folk Art Market
DESCRIPTION:Summer with Ukraine in your Heart! \nVisit the National Ukrainian Museum’s Folk Art Market! Browse art works\, clothing\, jewelry\, books\, and more! \n 
URL:https://www.chicagoculturalalliance.org/event/ukrainian-national-museums-folk-art-market/2022-07-10/
LOCATION:Ukrainian National Museum\, 2249 W. Superior St.\, Chicago\, IL\, 60612\, United States
CATEGORIES:Member Events
ATTACH;FMTTYPE=image/jpeg:https://www.chicagoculturalalliance.org/wp-content/uploads/2022/06/289747127_682030936471867_4504545496131163358_n.jpg
GEO:41.894571;-87.684031
X-APPLE-STRUCTURED-LOCATION;VALUE=URI;X-ADDRESS=Ukrainian National Museum 2249 W. Superior St. Chicago IL 60612 United States;X-APPLE-RADIUS=500;X-TITLE=2249 W. Superior St.:geo:-87.684031,41.894571
END:VEVENT
END:VCALENDAR