BEGIN:VCALENDAR
VERSION:2.0
PRODID:-//Chicago Cultural Alliance - ECPv6.15.20//NONSGML v1.0//EN
CALSCALE:GREGORIAN
METHOD:PUBLISH
X-ORIGINAL-URL:https://www.chicagoculturalalliance.org
X-WR-CALDESC:Events for Chicago Cultural Alliance
REFRESH-INTERVAL;VALUE=DURATION:PT1H
X-Robots-Tag:noindex
X-PUBLISHED-TTL:PT1H
BEGIN:VTIMEZONE
TZID:America/Chicago
BEGIN:DAYLIGHT
TZOFFSETFROM:-0600
TZOFFSETTO:-0500
TZNAME:CDT
DTSTART:20210314T080000
END:DAYLIGHT
BEGIN:STANDARD
TZOFFSETFROM:-0500
TZOFFSETTO:-0600
TZNAME:CST
DTSTART:20211107T070000
END:STANDARD
BEGIN:DAYLIGHT
TZOFFSETFROM:-0600
TZOFFSETTO:-0500
TZNAME:CDT
DTSTART:20220313T080000
END:DAYLIGHT
BEGIN:STANDARD
TZOFFSETFROM:-0500
TZOFFSETTO:-0600
TZNAME:CST
DTSTART:20221106T070000
END:STANDARD
BEGIN:DAYLIGHT
TZOFFSETFROM:-0600
TZOFFSETTO:-0500
TZNAME:CDT
DTSTART:20230312T080000
END:DAYLIGHT
BEGIN:STANDARD
TZOFFSETFROM:-0500
TZOFFSETTO:-0600
TZNAME:CST
DTSTART:20231105T070000
END:STANDARD
END:VTIMEZONE
BEGIN:VEVENT
DTSTART;VALUE=DATE:20220715
DTEND;VALUE=DATE:20220925
DTSTAMP:20260422T105159
CREATED:20220712T185517Z
LAST-MODIFIED:20220712T185947Z
UID:10001618-1657843200-1664063999@www.chicagoculturalalliance.org
SUMMARY:Exhibition: …of the land: acts of refusal and ratification
DESCRIPTION:A three-person exhibition featuring new and recent works from Chicago-based artists Ajmal ‘Mas Man’ Millar\, Lola Ayisha Ogbara\, and R. Treshawn Williamson exploring homeplace through sculpture\, self-imaging\, & materialism.  \n\n\n…of the land: acts of refusal and ratification features new and recent works from Chicago-based artists Ajmal ‘Mas Man’ Millar\, Lola Ayisha Ogbara\, and R. Treshawn Williamson exploring sculpture\, self-imaging and history through postcolonial lenses\, collective & individual recollection and peculiar materialism. Their use of storytelling holds significance for spatiality and locality to become common ground through the fielding of land\, labor and industry. \nAjmal ‘Mas Man’ Millar expands the sculptural form welding metal\, Trinidadian carnival culture and identity politics alongside the African diaspora. Lola Ayisha Ogbara merges West African and African American interior design aesthetics with bodily sculptural ceramic forms\, with performative photography – that rest and refuse a Western gaze. \nR. Treshawn Williamson creates historical context for his own familial roots in the mining of charcoal material for large scale screen-printed tapestries in a careful consideration of laborious processes as praxis. Millar\, Ogbara and Williamson engage in practices that consider topographic timelines and performance as an essential tool making for an interesting dialogue about homeplace. \n_______________ \n\n\nAjmal ‘MAS MAN’ Millar is a self-taught contemporary visual artist and mas man (carnival costume designer). His work includes mixed–media sculpture that combine collage\, painting\, repurposed materials\, scrap metal\, performance\, and photography interrogating notions of cultural heritage\, sexual and gender identity\, and ritual practices as a first-generation African American black queer man born to Trinidadian immigrants. Ajmal earned an undergraduate degree from Morehouse College in 2008 and earned an MFA from The School of the Art Institute of Chicago in 2021. \n“I am working on a collection of works engaging the Yoruba cosmological concept of Chi and its existence in everything\, alive or inorganic. I create amalgamations of found objects and scraps of steel combined with encaustic. Inspired from my carnival technique of ‘wire bending’\, Afrofuturism\, and Afro Surrealism\, I have an opportunity to express my emotions and thoughts as experienced in the various environments I collect from and exist in. My welding is drawing in space to depict the transcendent properties in masquerade. My goal is to contextualize a queer blackness rarely experienced through imagination\, invention\, and the investigation of dreams\, magic\, and ritual.” \nHe currently lives and works in Chicago\, IL. \n\n\n\n\nLola Ayisha Ogbara (cultural worker & artist) born and raised in Chicago\, Illinois holds many talents under her belt\, i.e. sculpture\, sound\, design\, photography and installation art. \n“My practice explores the multifaceted implications and ramifications of being in regards to the Black experience. I work with clay as a material in order to emphasize a necessary fragility which symbolizes an essential contradiction implicit in empowerments.” \nOgbara holds a Bachelor of Arts in Arts Entertainment & Media Management from Columbia College Chicago in 2013 and a MFA in Visual Arts from Washington University Sam Fox School of Art & Design. \nIn 2017\, Ogbara co-founded Artists in the Room\, a collective of artists and scholars who host artists\, emerging and established\, in hopes of serving as a catalyst for artist development and networking. Ogbara has also received numerous fellowships and awards\, including the Multicultural Fellowship sponsored by the NCECA 52nd Annual Conference\, the Arts + Public Life and Center for the Study of Race\, Politics & Culture Residency at the University of Chicago\, and the Coney Family Fund Award hosted by the Chicago Artists Coalition. Ogbara has exhibited in art spaces across the country and is currently based in Chicago\, IL. \n\n\n\n\nR. Treshawn Williamson is a Chicago based essayist and multidisciplinary artist of Black American descent\, from Prince George’s County\, MD\, by way of Livingston\, Alabama\, and Augusta\, Georgia. \nWilliamson’s work is a meditation on the obstruction and surveillance of the lived histories of African-Americans. He investigates the application of cultural re-imagination in the African Diaspora through the engagement of oral histories\, post-colonial theory\, folklore\, and ethnomusicology. In 2020 Williamson earned his BFA from the School of the Art Institute of Chicago. \nHe currently lives and works in Chicago\, IL.
URL:https://www.chicagoculturalalliance.org/event/exhibition-of-the-land-acts-of-refusal-and-ratification/
LOCATION:South Side Community Art Center\, 3831 S. Michigan Ave.\, Chicago\, IL\, 60653\, United States
CATEGORIES:Exhibitions and Gallery Events,Member Events
ATTACH;FMTTYPE=image/jpeg:https://www.chicagoculturalalliance.org/wp-content/uploads/2022/07/APL_LolaOgbara_PerformancePhotos_Large_2202-1-scaled-e1657041442234.jpg
GEO:41.8245972;-87.6227065
X-APPLE-STRUCTURED-LOCATION;VALUE=URI;X-ADDRESS=South Side Community Art Center 3831 S. Michigan Ave. Chicago IL 60653 United States;X-APPLE-RADIUS=500;X-TITLE=3831 S. Michigan Ave.:geo:-87.6227065,41.8245972
END:VEVENT
BEGIN:VEVENT
DTSTART;VALUE=DATE:20220806
DTEND;VALUE=DATE:20221211
DTSTAMP:20260422T105159
CREATED:20220719T213700Z
LAST-MODIFIED:20220719T213700Z
UID:10001635-1659744000-1670716799@www.chicagoculturalalliance.org
SUMMARY:Exhibition: “Unbearable Memories\, Unspeakable Histories”: Partition Anti-Memorial Project
DESCRIPTION:Through experiential art installations “Unbearable Memories\, Unspeakable Histories” investigates the Partition of India in 1947. \n\n\n\n\n\nThis year marks 75 years since the Partition of India in 1947\, which created Pakistan\, and eventually\, Bangladesh in 1971. Pritika Chowdhry’s experiential art installations are temporary ‘anti-memorials’ to the Partition. \nOften described as the Holocaust of South Asia\, the Partition triggered the largest migration in human history with over 20 million people displaced\, approximately 2 million killed and over 300\,000 women were abducted in the communal violence that ensued. \nThe exhibition addresses the many facets of the Partition from a counter-memory perspective through experiential art installations. The title alludes to the painful and silenced narratives that have been elided from mainstream discourses of the Partition. \nWhen a memory is unbearable\, how does one memorialize it? And when a history is unspeakable\, how does one talk about it? The exhibition’s title\, “Unbearable Memories\, Unspeakable Histories” alludes to the painful and silenced narratives that have been excluded from mainstream discourses of the Partition. \n\n_______________ \nARTIST LED TOURS AT 1PM EVERY OTHER SATURDAY! \nSep 3 and 17 | Oct 01\, 15 and 29 | Nov 12 | Dec 10
URL:https://www.chicagoculturalalliance.org/event/exhibition-unbearable-memories-unspeakable-histories-partition-anti-memorial-project/
LOCATION:South Asia Institute\, 1925 South Michigan Avenue\, Chicago\, IL\, 60616\, United States
CATEGORIES:Exhibitions and Gallery Events,Member Events
ATTACH;FMTTYPE=image/jpeg:https://www.chicagoculturalalliance.org/wp-content/uploads/2022/07/Screenshot-2022-07-19-163214.jpg
GEO:41.8558642;-87.6234583
X-APPLE-STRUCTURED-LOCATION;VALUE=URI;X-ADDRESS=South Asia Institute 1925 South Michigan Avenue Chicago IL 60616 United States;X-APPLE-RADIUS=500;X-TITLE=1925 South Michigan Avenue:geo:-87.6234583,41.8558642
END:VEVENT
BEGIN:VEVENT
DTSTART;TZID=America/Chicago:20220830T180000
DTEND;TZID=America/Chicago:20220830T210000
DTSTAMP:20260422T105159
CREATED:20220822T161342Z
LAST-MODIFIED:20220822T161342Z
UID:10001695-1661882400-1661893200@www.chicagoculturalalliance.org
SUMMARY:Reel Film Club: Sand Eyes (Argentina)
DESCRIPTION:Our August Reel Film Club highlights Argentina through film and food! Sand Eyes (an official selection of the 37th Chicago Latino Film Festival) is a heart-wrenching psychological drama that turns into a powerful unnerving thriller about a couple in search for their kidnapped son. The film is projected in Spanish with English subtitles.\nThe event begins with Argentinean appetizers & wine\, and ends with a post-screening Q&A.\nReception starts at 6:00pm and screening begins promptly at 7:00pm.\n$10 parking validation at 33 W Ontario St. Chicago\, IL 60654.\nTickets (includes appetizers & wine):\n$20 General Admission\n$15 ILCC Member\n—–\nSand Eyes / Ojos de arena\nArgentina / 93 min / Drama\nDirected by Alejandra Merino
URL:https://www.chicagoculturalalliance.org/event/reel-film-club-sand-eyes-argentina/
LOCATION:Instituto Cervantes\, 31 West Ohio Street\, Chicago\, IL\, 60654\, United States
CATEGORIES:Music, Film, and Theater
ATTACH;FMTTYPE=image/jpeg:https://www.chicagoculturalalliance.org/wp-content/uploads/2022/08/reel-film-club-august.jpg
GEO:41.8923227;-87.6291719
X-APPLE-STRUCTURED-LOCATION;VALUE=URI;X-ADDRESS=Instituto Cervantes 31 West Ohio Street Chicago IL 60654 United States;X-APPLE-RADIUS=500;X-TITLE=31 West Ohio Street:geo:-87.6291719,41.8923227
END:VEVENT
BEGIN:VEVENT
DTSTART;TZID=America/Chicago:20220901T180000
DTEND;TZID=America/Chicago:20220901T200000
DTSTAMP:20260422T105159
CREATED:20220802T211521Z
LAST-MODIFIED:20220802T211521Z
UID:10001679-1662055200-1662062400@www.chicagoculturalalliance.org
SUMMARY:Elternabend | Parent's Night Out
DESCRIPTION:6th Floor Skyline Lounge & Terrace\nNeed a night out\, but don’t know what to do with the kids? DANK has you covered!\nJoin us on Thursday\, September 1st from 6-8 pm for a parent’s night out. We will provide childcare and fun\, enriching activities at the Haus for your kids\, while you get to enjoy drinks\, dinner\, and the view of the city from our 6th Floor Skyline Lounge.\nRegistration includes dinner\, two drinks\, and childcare per adult! Children will also receive a meal and juice or water.\nThis time\, we’ll work with the Kinder toon back to school crafts and activities!\n\n_______________\n\nCOST\nWe are pleased to offer a discounted rate for Friends of the DANK Haus (What’s this?)\nAdults (Friends of DANK Haus): $30\nChildren (Friends of DANK Haus): $15\nAdults (General): $35\nChildren (General): $20\nNote: Childcare is available for children ages 3 and up.\nAnyone is welcome! DANK members\, neighbors\, friends – come out and join us for our very first Elternabend (parent evening)!
URL:https://www.chicagoculturalalliance.org/event/elternabend-parents-night-out-2/
LOCATION:DANK Haus German American Cultural Center\, 4740 N. Western Ave.\, Chicago\, IL\, 60625\, United States
CATEGORIES:Food and Drink,Member Events,Talks and Gatherings
ATTACH;FMTTYPE=image/jpeg:https://www.chicagoculturalalliance.org/wp-content/uploads/2022/08/295320814_10160185509384455_161475649401169528_n.jpg
GEO:41.9680013;-87.6890642
X-APPLE-STRUCTURED-LOCATION;VALUE=URI;X-ADDRESS=DANK Haus German American Cultural Center 4740 N. Western Ave. Chicago IL 60625 United States;X-APPLE-RADIUS=500;X-TITLE=4740 N. Western Ave.:geo:-87.6890642,41.9680013
END:VEVENT
BEGIN:VEVENT
DTSTART;TZID=America/Chicago:20220901T180000
DTEND;TZID=America/Chicago:20220901T210000
DTSTAMP:20260422T105159
CREATED:20220830T201157Z
LAST-MODIFIED:20220830T201157Z
UID:10001716-1662055200-1662066000@www.chicagoculturalalliance.org
SUMMARY:Citizens' History of Bronzeville
DESCRIPTION:Join us for a night of lively discussion and discovery of Bronzeville citizens’ history\, culture\, and creativity. \n\n\nAbout this event\n\n\n\nAbout the project: Bronzeville residents\, alumni\, elders\, and interested scholars will participate in workshops at the Jacob H. Carruthers Center to tell\, write\, and share what we know or have learned about Bronzeville’s rich history. We’ll delve into our own knowledge of this thriving African-American community’s cultural\, artistic\, and social development to share this important history with one another\, with the young people in our neighborhood schools\, and with a wider American audience of visitors to the area. Bronzeville’s story is a significant part of this country’s overall history\, a part too often left out. The recollections and accounts will be curated as a permanent display at the Carruthers Center Library for residents\, visitors\, and young people to learn about their valuable heritage.
URL:https://www.chicagoculturalalliance.org/event/citizens-history-of-bronzeville/
LOCATION:Carruthers Center for Inner City Studies (NEIU)\, 700 East Oakwood Blvd\, Chicago\, IL\, 60653\, United States
CATEGORIES:Talks and Gatherings
ATTACH;FMTTYPE=image/png:https://www.chicagoculturalalliance.org/wp-content/uploads/2022/08/citizens-history-of-bronzeville.png
GEO:41.8231382;-87.6093369
X-APPLE-STRUCTURED-LOCATION;VALUE=URI;X-ADDRESS=Carruthers Center for Inner City Studies (NEIU) 700 East Oakwood Blvd Chicago IL 60653 United States;X-APPLE-RADIUS=500;X-TITLE=700 East Oakwood Blvd:geo:-87.6093369,41.8231382
END:VEVENT
BEGIN:VEVENT
DTSTART;TZID=America/Chicago:20220902T180000
DTEND;TZID=America/Chicago:20220902T190000
DTSTAMP:20260422T105159
CREATED:20220802T210359Z
LAST-MODIFIED:20220802T210359Z
UID:10001674-1662141600-1662145200@www.chicagoculturalalliance.org
SUMMARY:Bilingual Skyline Yoga on the Terrace
DESCRIPTION:All levels – BEGINNERS WELCOME!\nDANK Haus 6th Floor\, Terrace\nGeneral Public: $5 | Friends of DANK: Free\nEnjoy gentle Yoga classes on the 6th floor skyline terrace at DANK-Haus.\nIn this class we will be flowing from pose to pose and linking movement with breath. We will combine elements of Hatha and Yin-Yoga as well as Meditation.\nHatha Yoga focuses on postures that practice to align\, strengthen\, and promote flexibility in the body.\nYin poses are passive stretches held for minutes at a time\, preparing the body for stillness by releasing deep-rooted tension.\nBreathing techniques and meditation are also integrated.\nAll Yoga postures will be introduced through step-by-step verbal description and demonstration.\nWHAT TO BRING? Yoga mat\, 1-2 beach towels\n\nAbout Your Instructor:\nMy name is Janina\, I’m originally from Kiel\, Germany. I’ve been a passionate Yogi for about 7 years now and am so happy to bring the essence of Yoga – finding stillness in our body and mind – into other people’s lives.\nSome of you may know me as the Saturday School German instructor or have seen me working in our Pre-School. Aside from my teaching profession I’m also a certified personal trainer for medical fitness and CrossFit athlete.\nI’m so excited for this wonderful opportunity to meet you in this very special Yoga course setting.\n#chicago #yoga #chicagoyoga #movement #wellness #terrace #sunsetyoga #fitness #workout #german #germany
URL:https://www.chicagoculturalalliance.org/event/bilingual-skyline-yoga-on-the-terrace/2022-09-02/
LOCATION:DANK Haus German American Cultural Center\, 4740 N. Western Ave.\, Chicago\, IL\, 60625\, United States
CATEGORIES:Member Events,Workshops and Classes
ATTACH;FMTTYPE=image/jpeg:https://www.chicagoculturalalliance.org/wp-content/uploads/2022/08/287888576_10160115624009455_9208525681048706075_n.jpg
GEO:41.9680013;-87.6890642
X-APPLE-STRUCTURED-LOCATION;VALUE=URI;X-ADDRESS=DANK Haus German American Cultural Center 4740 N. Western Ave. Chicago IL 60625 United States;X-APPLE-RADIUS=500;X-TITLE=4740 N. Western Ave.:geo:-87.6890642,41.9680013
END:VEVENT
BEGIN:VEVENT
DTSTART;TZID=America/Chicago:20220902T180000
DTEND;TZID=America/Chicago:20220902T190000
DTSTAMP:20260422T105159
CREATED:20220902T160417Z
LAST-MODIFIED:20220902T160417Z
UID:10001718-1662141600-1662145200@www.chicagoculturalalliance.org
SUMMARY:Bilingual Yoga on the Terrace
DESCRIPTION:All levels – BEGINNERS WELCOME! \nDANK Haus 6th Floor\, Terrace \nGeneral Public: $5 | Friends of DANK: Free \nEnjoy gentle Yoga classes on the 6th floor skyline terrace at DANK-Haus.\nIn this class we will be flowing from pose to pose and linking movement with breath. We will combine elements of Hatha and Yin-Yoga as well as Meditation.\nHatha Yoga focuses on postures that practice to align\, strengthen\, and promote flexibility in the body.\nYin poses are passive stretches held for minutes at a time\, preparing the body for stillness by releasing deep-rooted tension.\nBreathing techniques and meditation are also integrated. \nAll Yoga postures will be introduced through step-by-step verbal description and demonstration. \nWHAT TO BRING? Yoga mat\, 1-2 beach towels \nAbout Your Instructor:\nMy name is Janina\, I’m originally from Kiel\, Germany. I’ve been a passionate Yogi for about 7 years now and am so happy to bring the essence of Yoga – finding stillness in our body and mind – into other people’s lives. \nSome of you may know me as the Saturday School German instructor or have seen me working in our Pre-School. Aside from my teaching profession I’m also a certified personal trainer for medical fitness and CrossFit athlete. \nI’m so excited for this wonderful opportunity to meet you in this very special Yoga course setting.
URL:https://www.chicagoculturalalliance.org/event/bilingual-yoga-on-the-terrace/
LOCATION:DANK Haus German American Cultural Center\, 4740 N. Western Ave.\, Chicago\, IL\, 60625\, United States
CATEGORIES:Sporting Events,Talks and Gatherings,Workshops and Classes
ATTACH;FMTTYPE=image/jpeg:https://www.chicagoculturalalliance.org/wp-content/uploads/2022/08/287888576_10160115624009455_9208525681048706075_n.jpeg
GEO:41.9680013;-87.6890642
X-APPLE-STRUCTURED-LOCATION;VALUE=URI;X-ADDRESS=DANK Haus German American Cultural Center 4740 N. Western Ave. Chicago IL 60625 United States;X-APPLE-RADIUS=500;X-TITLE=4740 N. Western Ave.:geo:-87.6890642,41.9680013
END:VEVENT
BEGIN:VEVENT
DTSTART;TZID=America/Chicago:20220902T203000
DTEND;TZID=America/Chicago:20220902T203000
DTSTAMP:20260422T105159
CREATED:20220809T180622Z
LAST-MODIFIED:20220809T180622Z
UID:10001681-1662150600-1662150600@www.chicagoculturalalliance.org
SUMMARY:ILCC Latino Music Series: Sidi Wacho
DESCRIPTION:For the first time in Chicago\, Sidi Wacho will put on a performance you can’t miss! The group hails from Chile\, France\, and Algeria\, but claim to be from all over the world. Sidi Wacho has produced four acclaimed albums and have toured the world with their Cumbia\, Hip-Hop\, Balkan fusion in the vein of Manu Chao\, Chico Trujillo\, and Sargent Garcia.\n\n\nGet your tickets at: https://bit.ly/sidiwacho\n—–\n¡Por primera vez en Chicago\, Sidi Wacho realizará una actuación que no te puedes perder! El grupo proviene de Chile\, Francia y Argelia\, pero afirma ser de todo el mundo. Sidi Wacho ha producido cuatro aclamados discos y ha recorrido el mundo con su cumbia\, hip-hop\, fusión balcánica en la línea de Manu Chao\, Chico Trujillo y Sargent García.\n\n\nCompra tus boletos aqui: https://bit.ly/sidiwacho
URL:https://www.chicagoculturalalliance.org/event/ilcc-latino-music-series-sidi-wacho/
LOCATION:Martyrs’\, 3855 N Lincoln Ave\, Chicago\, IL\, United States
CATEGORIES:Member Events,Music, Film, and Theater
ATTACH;FMTTYPE=image/jpeg:https://www.chicagoculturalalliance.org/wp-content/uploads/2022/08/296469404_5721878821165382_6565970352313517698_n.jpg
GEO:41.952231;-87.676819
X-APPLE-STRUCTURED-LOCATION;VALUE=URI;X-ADDRESS=Martyrs’ 3855 N Lincoln Ave Chicago IL United States;X-APPLE-RADIUS=500;X-TITLE=3855 N Lincoln Ave:geo:-87.676819,41.952231
END:VEVENT
BEGIN:VEVENT
DTSTART;TZID=America/Chicago:20220903T130000
DTEND;TZID=America/Chicago:20220903T143000
DTSTAMP:20260422T105159
CREATED:20220830T201742Z
LAST-MODIFIED:20220830T201742Z
UID:10001717-1662210000-1662215400@www.chicagoculturalalliance.org
SUMMARY:D-Composed Gives Family Edition with South Side Community Art Center!
DESCRIPTION:D-Composed brings their Music in Color experience to life at South Side Community Art Center! \n\n\nAbout this event\n\n\n\nFounded in 2017 by Kori Coleman\, D-Composed is a chamber music experience that celebrates & honors Black creativity and culture through the music of Black composers. \nTo date\, D-Composed has gained national recognition with appearances on The Colbert Show alongside Jamila Woods and has collaborated with notable institutions and highly recognized brands such as Apple\, The Museum of Contemporary Art Chicago\, & The Rebuild Foundation. \nThis year D-Composed is featuring commissioned sketches from their Music in Color Vol. 4 coloring book featuring artists Dwight White II\, Amoz Wright\, Kayla Mahaffey\, and Aaliyah Lachele of Peanut Buddarart! \nSSCAC is thrilled to partner with D-Composed and we invite you to become a part of the next renaissance of artists by adding your piece of history to this art-making and music-making event for you and your family!
URL:https://www.chicagoculturalalliance.org/event/d-composed-gives-family-edition-with-south-side-community-art-center/
LOCATION:South Side Community Art Center\, 3831 S. Michigan Ave.\, Chicago\, IL\, 60653\, United States
CATEGORIES:Music, Film, and Theater,Talks and Gatherings
ATTACH;FMTTYPE=image/png:https://www.chicagoculturalalliance.org/wp-content/uploads/2022/08/dcomposed-gives.png
GEO:41.8245972;-87.6227065
X-APPLE-STRUCTURED-LOCATION;VALUE=URI;X-ADDRESS=South Side Community Art Center 3831 S. Michigan Ave. Chicago IL 60653 United States;X-APPLE-RADIUS=500;X-TITLE=3831 S. Michigan Ave.:geo:-87.6227065,41.8245972
END:VEVENT
BEGIN:VEVENT
DTSTART;TZID=America/Chicago:20220903T150000
DTEND;TZID=America/Chicago:20220903T180000
DTSTAMP:20260422T105159
CREATED:20220830T153551Z
LAST-MODIFIED:20220830T153551Z
UID:10001714-1662217200-1662228000@www.chicagoculturalalliance.org
SUMMARY:Opening Reception of "Yuge Zhou: Moon Drawings"
DESCRIPTION:The Chinese American Museum of Chicago (CAMOC) is excited to announce the fourth exhibition of the Spotlight Series\, featuring artist Yuge Zhou. Please join us on Saturday\, September 3\, from 3pm-6pm CT for the opening reception. This exhibition will run from September 3 through October 16. Collateral programs of the exhibition include a poetry session in collaboration with the Chicago Poetry Center and a sound performance by local sound artists Kikù Hibino and Chien-An Yuan. \nRSVP for the opening reception here \nIn Yuge Zhou’s ongoing video series Moon Drawings\, we watch her dragging a suitcase in concentric circles through the winter snow and a summer beach under the moonlight in Chicago. The videos were created during the global pandemic travel bans\, and inspired by a Han Dynasty legend about missing loved ones in a faraway land. Much of Zhou’s recent work centers around the great physical and emotional distance between China and America\, two lands she calls home. \nThe Spotlight Series is a new initiative to showcase recent and past work by emerging and mid-career artists of Chinese descent locally. Curated by Larry Lee (Molar Productions)\, the project aims to introduce\, promote and celebrate the divergent artistic visions and experiences of being Chinese in America looking at and reflecting upon our relationship to contemporary visual culture to a wider audience within our community and Chicago. \nAbout the artist\nZhou has exhibited nationally and internationally in prominent art and public venues with an upcoming premiere of her dance film Love Letters at Art on theMART\, a nightly public art projection onto the facade of the Merchandise Mart\, Chicago. Recent awards include Juried Award in the installation category at ArtPrize 2021\, Artist Fellowship Award in Media Arts from the Illinois Arts Council and Honorary Mention in the 2020 Prix Ars Electronica in Linz\, Austria. (yugezhou.com) \n  \n\nCOLLATERAL PROGRAMS\n\nPoetry Session with Chicago Poetry Center\nDate: Saturday\, September 10\, 2022\nTime: TBA\n\nSound Performance by Kikù Hibino and Chien-An Yuan\nDate: Saturday\, October 15\, 2022\nTime: 1pm – 2:30pm CT\n\nAll events will take place on the 4th floor of the Chinese American Museum of Chicago\, located at 238 W 23rd Street\, Chicago\, IL 60616.
URL:https://www.chicagoculturalalliance.org/event/opening-reception-of-yuge-zhou-moon-drawings/
LOCATION:Chinese American Museum of Chicago\, 238 W. 23rd St\, Chicago\, IL\, 60616\, United States
CATEGORIES:Exhibitions and Gallery Events
ATTACH;FMTTYPE=image/jpeg:https://www.chicagoculturalalliance.org/wp-content/uploads/2022/08/Yuge-Zhou-Moon-Drawings-Poster.jpg
GEO:41.8512186;-87.6335147
X-APPLE-STRUCTURED-LOCATION;VALUE=URI;X-ADDRESS=Chinese American Museum of Chicago 238 W. 23rd St Chicago IL 60616 United States;X-APPLE-RADIUS=500;X-TITLE=238 W. 23rd St:geo:-87.6335147,41.8512186
END:VEVENT
END:VCALENDAR