BEGIN:VCALENDAR
VERSION:2.0
PRODID:-//Chicago Cultural Alliance - ECPv6.15.20//NONSGML v1.0//EN
CALSCALE:GREGORIAN
METHOD:PUBLISH
X-ORIGINAL-URL:https://www.chicagoculturalalliance.org
X-WR-CALDESC:Events for Chicago Cultural Alliance
REFRESH-INTERVAL;VALUE=DURATION:PT1H
X-Robots-Tag:noindex
X-PUBLISHED-TTL:PT1H
BEGIN:VTIMEZONE
TZID:America/Chicago
BEGIN:DAYLIGHT
TZOFFSETFROM:-0600
TZOFFSETTO:-0500
TZNAME:CDT
DTSTART:20220313T080000
END:DAYLIGHT
BEGIN:STANDARD
TZOFFSETFROM:-0500
TZOFFSETTO:-0600
TZNAME:CST
DTSTART:20221106T070000
END:STANDARD
BEGIN:DAYLIGHT
TZOFFSETFROM:-0600
TZOFFSETTO:-0500
TZNAME:CDT
DTSTART:20230312T080000
END:DAYLIGHT
BEGIN:STANDARD
TZOFFSETFROM:-0500
TZOFFSETTO:-0600
TZNAME:CST
DTSTART:20231105T070000
END:STANDARD
BEGIN:DAYLIGHT
TZOFFSETFROM:-0600
TZOFFSETTO:-0500
TZNAME:CDT
DTSTART:20240310T080000
END:DAYLIGHT
BEGIN:STANDARD
TZOFFSETFROM:-0500
TZOFFSETTO:-0600
TZNAME:CST
DTSTART:20241103T070000
END:STANDARD
END:VTIMEZONE
BEGIN:VEVENT
DTSTART;VALUE=DATE:20230106
DTEND;VALUE=DATE:20231001
DTSTAMP:20260421T233305
CREATED:20230123T220127Z
LAST-MODIFIED:20230522T174811Z
UID:10003198-1672963200-1696118399@www.chicagoculturalalliance.org
SUMMARY:Semillas: Artwork by Raul Ortiz Bonilla
DESCRIPTION:Through his signature puntos and semillas\, Puerto Rican artist Raul Ortiz Bonilla presents a story of migration and diaspora.
URL:https://www.chicagoculturalalliance.org/event/semillas-artwork-by-raul-ortiz-bonilla/
LOCATION:The National Museum of Puerto Rican Arts & Culture\, 3015 W Division Street\, Chicago\, IL\, 60622\, United States
ATTACH;FMTTYPE=image/jpeg:https://www.chicagoculturalalliance.org/wp-content/uploads/2023/01/2.jpg
GEO:41.902263;-87.7033286
X-APPLE-STRUCTURED-LOCATION;VALUE=URI;X-ADDRESS=The National Museum of Puerto Rican Arts & Culture 3015 W Division Street Chicago IL 60622 United States;X-APPLE-RADIUS=500;X-TITLE=3015 W Division Street:geo:-87.7033286,41.902263
END:VEVENT
BEGIN:VEVENT
DTSTART;VALUE=DATE:20230310
DTEND;VALUE=DATE:20231217
DTSTAMP:20260421T233305
CREATED:20230220T184316Z
LAST-MODIFIED:20230522T174952Z
UID:10003659-1678406400-1702771199@www.chicagoculturalalliance.org
SUMMARY:Soy Boricua
DESCRIPTION:From digital collage to painting to glasswork to photography\, twelve non-male Diasporican artists explore their expansive identities and how they intersect in their own ways.
URL:https://www.chicagoculturalalliance.org/event/soy-boricua/
LOCATION:The National Museum of Puerto Rican Arts & Culture\, 3015 W Division Street\, Chicago\, IL\, 60622\, United States
CATEGORIES:Exhibitions and Gallery Events
ATTACH;FMTTYPE=image/jpeg:https://www.chicagoculturalalliance.org/wp-content/uploads/2023/02/Copy-of-Soy-Boricua-Catalogue-for-Website-2-600-×-600-px.jpg
GEO:41.902263;-87.7033286
X-APPLE-STRUCTURED-LOCATION;VALUE=URI;X-ADDRESS=The National Museum of Puerto Rican Arts & Culture 3015 W Division Street Chicago IL 60622 United States;X-APPLE-RADIUS=500;X-TITLE=3015 W Division Street:geo:-87.7033286,41.902263
END:VEVENT
BEGIN:VEVENT
DTSTART;VALUE=DATE:20230321
DTEND;VALUE=DATE:20230716
DTSTAMP:20260421T233305
CREATED:20230307T185542Z
LAST-MODIFIED:20230522T175030Z
UID:10003696-1679356800-1689465599@www.chicagoculturalalliance.org
SUMMARY:Pop-Up Books through the Ages
DESCRIPTION:Pop-up books have a longer history than you might think. For centuries\, books with interactive flaps\, dials\, and other moving parts have captivated readers of all ages.
URL:https://www.chicagoculturalalliance.org/event/pop-up-books-through-the-ages/
LOCATION:Newberry Library\, 60 West Walton Street\, Chicago\, IL\, 60610\, United States
CATEGORIES:Exhibitions and Gallery Events
ATTACH;FMTTYPE=image/jpeg:https://www.chicagoculturalalliance.org/wp-content/uploads/2023/03/ord_case_pz_8_c7_po_1932_pop_00004-scaled.jpg
ORGANIZER;CN="Newberry Library":MAILTO:publicprograms@newberry.org
GEO:41.9000052;-87.630131
X-APPLE-STRUCTURED-LOCATION;VALUE=URI;X-ADDRESS=Newberry Library 60 West Walton Street Chicago IL 60610 United States;X-APPLE-RADIUS=500;X-TITLE=60 West Walton Street:geo:-87.630131,41.9000052
END:VEVENT
BEGIN:VEVENT
DTSTART;VALUE=DATE:20230421
DTEND;VALUE=DATE:20230814
DTSTAMP:20260421T233305
CREATED:20230410T182937Z
LAST-MODIFIED:20230522T175732Z
UID:10003839-1682035200-1691971199@www.chicagoculturalalliance.org
SUMMARY:Letters from Home
DESCRIPTION:Artists from Sweden and Chicago collaborate to create original works interpreting early 20th century letters to Chicago immigrant Emil Olsson from his family in Sweden.
URL:https://www.chicagoculturalalliance.org/event/exhibit-opens/
LOCATION:Swedish American Museum\, 5211 N. Clark St.\, Chicago\, IL\, 60640\, United States
ATTACH;FMTTYPE=image/jpeg:https://www.chicagoculturalalliance.org/wp-content/uploads/2023/02/Letters-from-home.jpg
GEO:41.9766451;-87.668015
X-APPLE-STRUCTURED-LOCATION;VALUE=URI;X-ADDRESS=Swedish American Museum 5211 N. Clark St. Chicago IL 60640 United States;X-APPLE-RADIUS=500;X-TITLE=5211 N. Clark St.:geo:-87.668015,41.9766451
END:VEVENT
BEGIN:VEVENT
DTSTART;VALUE=DATE:20230425
DTEND;VALUE=DATE:20231108
DTSTAMP:20260421T233305
CREATED:20230518T195811Z
LAST-MODIFIED:20231127T213608Z
UID:10004038-1682380800-1699401599@www.chicagoculturalalliance.org
SUMMARY:ReFramed: The Future of Cities in Wood
DESCRIPTION:This exhibition tells the story of building with mass timber and features architectural models of mass timber projects\, from public spaces to office buildings.
URL:https://www.chicagoculturalalliance.org/event/reframed-the-future-of-cities-in-wood/
LOCATION:Chicago Architecture Center\, 111 E Wacker Dr\, Chicago\, IL\, 60601\, United States
CATEGORIES:Exhibitions and Gallery Events,Member Events
ATTACH;FMTTYPE=image/png:https://www.chicagoculturalalliance.org/wp-content/uploads/2023/05/341860732_623042585949624_1454994044599878949_n.png
ORGANIZER;CN="Chicago Architecture Center":MAILTO:info@architecture.org
GEO:41.8876241;-87.6236513
X-APPLE-STRUCTURED-LOCATION;VALUE=URI;X-ADDRESS=Chicago Architecture Center 111 E Wacker Dr Chicago IL 60601 United States;X-APPLE-RADIUS=500;X-TITLE=111 E Wacker Dr:geo:-87.6236513,41.8876241
END:VEVENT
BEGIN:VEVENT
DTSTART;VALUE=DATE:20230514
DTEND;VALUE=DATE:20230626
DTSTAMP:20260421T233305
CREATED:20230509T153850Z
LAST-MODIFIED:20230522T180822Z
UID:10003980-1684022400-1687737599@www.chicagoculturalalliance.org
SUMMARY:Chop Suey Men / The Brothers Chen: Chen Yuke Thew\, Suey\, Foon and Fong
DESCRIPTION:The Chop Suey “joint” was a prime target of anti-Chinese discrimination in the late 19th and early 20th centuries. This art exhibition focuses on four sojourners lost to historical haze.
URL:https://www.chicagoculturalalliance.org/event/may-14-chop-suey-men-the-brothers-chen-chen-yuke-thew-suey-foon-and-fong/
LOCATION:Chinese American Museum of Chicago\, 238 W. 23rd St\, Chicago\, IL\, 60616\, United States
ATTACH;FMTTYPE=image/png:https://www.chicagoculturalalliance.org/wp-content/uploads/2023/05/Untitled.png
GEO:41.8512186;-87.6335147
X-APPLE-STRUCTURED-LOCATION;VALUE=URI;X-ADDRESS=Chinese American Museum of Chicago 238 W. 23rd St Chicago IL 60616 United States;X-APPLE-RADIUS=500;X-TITLE=238 W. 23rd St:geo:-87.6335147,41.8512186
END:VEVENT
BEGIN:VEVENT
DTSTART;VALUE=DATE:20230518
DTEND;VALUE=DATE:20230925
DTSTAMP:20260421T233305
CREATED:20230417T170712Z
LAST-MODIFIED:20230522T181612Z
UID:10003868-1684368000-1695599999@www.chicagoculturalalliance.org
SUMMARY:The Girl in The Diary: Searching for Rywka from the Łódz Ghetto
DESCRIPTION:In 1945\, a 14-year-old’s diary was discovered in Auschwitz. The exhibition explores Rywka’s life in the Łódz Ghetto and what might have happened after her deportation to Auschwitz and beyond.
URL:https://www.chicagoculturalalliance.org/event/on-site-exhibition-opening-the-girl-in-the-diary-searching-for-rywka-from-the-lodz-ghetto/
LOCATION:Illinois Holocaust Museum & Education Center\, 9603 Woods Drive\, Skokie\, IL\, 60077\, United States
ATTACH;FMTTYPE=image/png:https://www.chicagoculturalalliance.org/wp-content/uploads/2023/04/girlinthediary-image-min.png
GEO:42.0564867;-87.7607268
X-APPLE-STRUCTURED-LOCATION;VALUE=URI;X-ADDRESS=Illinois Holocaust Museum & Education Center 9603 Woods Drive Skokie IL 60077 United States;X-APPLE-RADIUS=500;X-TITLE=9603 Woods Drive:geo:-87.7607268,42.0564867
END:VEVENT
BEGIN:VEVENT
DTSTART;VALUE=DATE:20230603
DTEND;VALUE=DATE:20230723
DTSTAMP:20260421T233305
CREATED:20230530T171204Z
LAST-MODIFIED:20230605T193009Z
UID:10004175-1685750400-1690070399@www.chicagoculturalalliance.org
SUMMARY:Collectors: Graphics of Pollination
DESCRIPTION:This exhibit links art\, natural and social sciences to represent how migrant pollinator species and human laborers are closely linked – raising environmental and social awareness.
URL:https://www.chicagoculturalalliance.org/event/collectors-graphics-of-pollination-exhibit-opening/2023-06-03/
LOCATION:Casa Michoacán\, 1638 S. Blue Island\, Chicago\, IL\, 60608\, United States
ATTACH;FMTTYPE=image/jpeg:https://www.chicagoculturalalliance.org/wp-content/uploads/2023/05/349781825_3264851047141033_6192530669791486773_n.jpg
GEO:41.8587796;-87.6607525
X-APPLE-STRUCTURED-LOCATION;VALUE=URI;X-ADDRESS=Casa Michoacán 1638 S. Blue Island Chicago IL 60608 United States;X-APPLE-RADIUS=500;X-TITLE=1638 S. Blue Island:geo:-87.6607525,41.8587796
END:VEVENT
BEGIN:VEVENT
DTSTART;VALUE=DATE:20230605
DTEND;VALUE=DATE:20230901
DTSTAMP:20260421T233305
CREATED:20230803T174533Z
LAST-MODIFIED:20230803T174533Z
UID:10004340-1685923200-1693526399@www.chicagoculturalalliance.org
SUMMARY:Summer Weddings
DESCRIPTION:Weddings bring us together. They are a chance to celebrate love and the beginning of a couple’s new life together. Weddings also celebrate our history and culture. Join the Museum for this fun exhibit\, featuring wedding dresses from the past\, as well as from the many cultures that make up Buffalo Grove today\, including Korean\, Indian and Jewish traditions.
URL:https://www.chicagoculturalalliance.org/event/summer-weddings/
LOCATION:Raupp Museum\, 901 Dunham Ln\, Buffalo Grove\, IL\, United States
ATTACH;FMTTYPE=image/jpeg:https://www.chicagoculturalalliance.org/wp-content/uploads/2023/08/358681691_660552056116623_2638156178884486168_n.jpg
GEO:42.1698007;-87.9781526
X-APPLE-STRUCTURED-LOCATION;VALUE=URI;X-ADDRESS=Raupp Museum 901 Dunham Ln Buffalo Grove IL United States;X-APPLE-RADIUS=500;X-TITLE=901 Dunham Ln:geo:-87.9781526,42.1698007
END:VEVENT
BEGIN:VEVENT
DTSTART;VALUE=DATE:20230620
DTEND;VALUE=DATE:20230819
DTSTAMP:20260421T233306
CREATED:20230417T165534Z
LAST-MODIFIED:20230605T171054Z
UID:10003863-1687219200-1692403199@www.chicagoculturalalliance.org
SUMMARY:ECAC Summer Camp
DESCRIPTION:
URL:https://www.chicagoculturalalliance.org/event/ecac-summer-camp/
LOCATION:Ethiopian Community Association of Chicago\, 5800 N Lincoln Ave\, Chicago\, 60659
ATTACH;FMTTYPE=image/jpeg:https://www.chicagoculturalalliance.org/wp-content/uploads/2023/04/341296828_216754617631644_2140746267202090668_n.jpg
GEO:41.9866953;-87.7017482
X-APPLE-STRUCTURED-LOCATION;VALUE=URI;X-ADDRESS=Ethiopian Community Association of Chicago 5800 N Lincoln Ave Chicago 60659;X-APPLE-RADIUS=500;X-TITLE=5800 N Lincoln Ave:geo:-87.7017482,41.9866953
END:VEVENT
BEGIN:VEVENT
DTSTART;VALUE=DATE:20230623
DTEND;VALUE=DATE:20231016
DTSTAMP:20260421T233306
CREATED:20230530T143020Z
LAST-MODIFIED:20230530T143020Z
UID:10004146-1687478400-1697414399@www.chicagoculturalalliance.org
SUMMARY:The Spirit of Place: Earth is Home - Lithography by Kurt Seaberg
DESCRIPTION:Seaberg uses his lithographs of the beautiful natural landscape of Minnesota and Sweden to connect with his Sami heritage and to remind us of beauty\, community\, and sense of place.
URL:https://www.chicagoculturalalliance.org/event/the-spirit-of-place-earth-is-home-lithography-by-kurt-seaberg/2023-06-23/1/
LOCATION:Swedish American Museum\, 5211 N. Clark St.\, Chicago\, IL\, 60640\, United States
ATTACH;FMTTYPE=image/jpeg:https://www.chicagoculturalalliance.org/wp-content/uploads/2023/05/Winter-Night.jpg
GEO:41.9766451;-87.668015
X-APPLE-STRUCTURED-LOCATION;VALUE=URI;X-ADDRESS=Swedish American Museum 5211 N. Clark St. Chicago IL 60640 United States;X-APPLE-RADIUS=500;X-TITLE=5211 N. Clark St.:geo:-87.668015,41.9766451
END:VEVENT
BEGIN:VEVENT
DTSTART;VALUE=DATE:20230624
DTEND;VALUE=DATE:20230626
DTSTAMP:20260421T233306
CREATED:20230602T150456Z
LAST-MODIFIED:20230602T150456Z
UID:10004154-1687564800-1687737599@www.chicagoculturalalliance.org
SUMMARY:Swedish Days in Geneva
DESCRIPTION:The whole family will enjoy fabulous food\, carnival rides\, and live music nightly. The Museum’s Kerstin Andersson Store will participate with a tent that is everything Swedish.
URL:https://www.chicagoculturalalliance.org/event/swedish-days-in-geneva/
LOCATION:IL\, United States
GEO:41.8781136;-87.6297982
END:VEVENT
BEGIN:VEVENT
DTSTART;VALUE=DATE:20230624
DTEND;VALUE=DATE:20230821
DTSTAMP:20260421T233306
CREATED:20230621T195548Z
LAST-MODIFIED:20230622T155442Z
UID:10004202-1687564800-1692575999@www.chicagoculturalalliance.org
SUMMARY:Yulia Gasio: Donbas\, Ukraine 2014 till the Present
DESCRIPTION:The Ukrainian Institute of Modern Art presents Yulia Gasio: Donbas\, Ukraine 2014 till the Present. Join us for the opening reception. Yulia Gasio will give a presentation at 2pm. \n  \n 
URL:https://www.chicagoculturalalliance.org/event/yulia-gasio-donbas-ukraine-2014-till-the-present/2023-06-24/1/
LOCATION:Ukrainian Institute of Modern Art\, 2320 W Chicago Ave\, Chicago\, IL\, 60622\, United States
ATTACH;FMTTYPE=image/png:https://www.chicagoculturalalliance.org/wp-content/uploads/2023/06/Screen-Shot-2023-06-15-at-1.30.06-PM.png
GEO:41.8959672;-87.6850398
X-APPLE-STRUCTURED-LOCATION;VALUE=URI;X-ADDRESS=Ukrainian Institute of Modern Art 2320 W Chicago Ave Chicago IL 60622 United States;X-APPLE-RADIUS=500;X-TITLE=2320 W Chicago Ave:geo:-87.6850398,41.8959672
END:VEVENT
BEGIN:VEVENT
DTSTART;VALUE=DATE:20230625
DTEND;VALUE=DATE:20240101
DTSTAMP:20260421T233306
CREATED:20230803T213855Z
LAST-MODIFIED:20230803T213900Z
UID:10004341-1687651200-1704067199@www.chicagoculturalalliance.org
SUMMARY:M.K Čiurlionis Virtual Reality Film “Trail of Angels”
DESCRIPTION:Take a VR journey through the works of the paintings and music of M.K. Čiurlionis.
URL:https://www.chicagoculturalalliance.org/event/m-k-ciurlionis-virtual-reality-film-trail-of-angels/
LOCATION:Balzekas Museum of Lithuanian Culture\, 6500 South Pulaski Road\, Chicago\, IL\, 60629\, United States
ATTACH;FMTTYPE=image/jpeg:https://www.chicagoculturalalliance.org/wp-content/uploads/2023/08/Pruduct-page.jpg
GEO:41.7746508;-87.7229183
X-APPLE-STRUCTURED-LOCATION;VALUE=URI;X-ADDRESS=Balzekas Museum of Lithuanian Culture 6500 South Pulaski Road Chicago IL 60629 United States;X-APPLE-RADIUS=500;X-TITLE=6500 South Pulaski Road:geo:-87.7229183,41.7746508
END:VEVENT
BEGIN:VEVENT
DTSTART;TZID=America/Chicago:20230625T130000
DTEND;TZID=America/Chicago:20230625T143000
DTSTAMP:20260421T233306
CREATED:20230505T193205Z
LAST-MODIFIED:20230526T170207Z
UID:10003971-1687698000-1687703400@www.chicagoculturalalliance.org
SUMMARY:Birdwatching in Washington Park
DESCRIPTION:Bronzeville History Society will guide bird enthusiasts\, the curious\, and Bronzeville heritage seekers on a birdwatching cultural experience.
URL:https://www.chicagoculturalalliance.org/event/birdwatching-in-washington-park/
LOCATION:Washington Park Monument\, 5030 S King Dr\, Chicago\, IL\, United States
GEO:41.8028653;-87.6166832
X-APPLE-STRUCTURED-LOCATION;VALUE=URI;X-ADDRESS=Washington Park Monument 5030 S King Dr Chicago IL United States;X-APPLE-RADIUS=500;X-TITLE=5030 S King Dr:geo:-87.6166832,41.8028653
END:VEVENT
BEGIN:VEVENT
DTSTART;TZID=America/Chicago:20230625T133000
DTEND;TZID=America/Chicago:20230625T133000
DTSTAMP:20260421T233306
CREATED:20230607T143511Z
LAST-MODIFIED:20230607T143511Z
UID:10004179-1687699800-1687699800@www.chicagoculturalalliance.org
SUMMARY:Gabrielė Labanauskaitė: Author of PLAYS/DRAMOS
DESCRIPTION:Meet Lithuanian playwright Gabriele Labanauskaitė and director Greta Štiormer in a cosy\, intimate dialogue. Labanauskaitė will present works from her collection of plays “Dramas.”
URL:https://www.chicagoculturalalliance.org/event/gabriele-labanauskaite-author-of-plays-dramos/
LOCATION:Balzekas Museum of Lithuanian Culture\, 6500 South Pulaski Road\, Chicago\, IL\, 60629\, United States
ATTACH;FMTTYPE=image/jpeg:https://www.chicagoculturalalliance.org/wp-content/uploads/2023/06/gabriele_labanauskaite_balzekas_museum.jpg
GEO:41.7746508;-87.7229183
X-APPLE-STRUCTURED-LOCATION;VALUE=URI;X-ADDRESS=Balzekas Museum of Lithuanian Culture 6500 South Pulaski Road Chicago IL 60629 United States;X-APPLE-RADIUS=500;X-TITLE=6500 South Pulaski Road:geo:-87.7229183,41.7746508
END:VEVENT
BEGIN:VEVENT
DTSTART;TZID=America/Chicago:20230625T140000
DTEND;TZID=America/Chicago:20230625T153000
DTSTAMP:20260421T233306
CREATED:20230605T165704Z
LAST-MODIFIED:20230605T165704Z
UID:10004166-1687701600-1687707000@www.chicagoculturalalliance.org
SUMMARY:GongFu Tea Ceremony Talk
DESCRIPTION:Join the Heritage Museum of Asian Art for a hands-on tea experience guided by GongFu tea expert! Enjoy the tea and have fun with friends.
URL:https://www.chicagoculturalalliance.org/event/gongfu-tea-ceremony-talk/
LOCATION:Heritage Museum of Asian Art\, 3500 S Morgan St\, Chicago\, IL\, 60609\, United States
CATEGORIES:Workshops and Classes
ATTACH;FMTTYPE=image/png:https://www.chicagoculturalalliance.org/wp-content/uploads/2023/06/Untitled-4.png
GEO:41.8304864;-87.6513977
X-APPLE-STRUCTURED-LOCATION;VALUE=URI;X-ADDRESS=Heritage Museum of Asian Art 3500 S Morgan St Chicago IL 60609 United States;X-APPLE-RADIUS=500;X-TITLE=3500 S Morgan St:geo:-87.6513977,41.8304864
END:VEVENT
BEGIN:VEVENT
DTSTART;TZID=America/Chicago:20230625T193000
DTEND;TZID=America/Chicago:20230625T193000
DTSTAMP:20260421T233306
CREATED:20230512T173845Z
LAST-MODIFIED:20230526T170636Z
UID:10004005-1687721400-1687721400@www.chicagoculturalalliance.org
SUMMARY:El Laberinto del Coco Live at SRBCC
DESCRIPTION:El Laberinto del Coco is an Afro-Puerto Rican Bomba Fusion 13 piece ensemble\, presenting sizzling new musical ideas to the traditional sounds of Puerto Rican Bomba.
URL:https://www.chicagoculturalalliance.org/event/el-laberinto-del-coco-live-at-srbcc/
LOCATION:Segundo Ruiz Belvis Cultural Center\, 4046 W. Armitage Ave.\, Chicago\, IL\, 60639\, United States
ATTACH;FMTTYPE=image/png:https://www.chicagoculturalalliance.org/wp-content/uploads/2023/05/IG-Feed_1080x1080-1-1024x1024-1.png
GEO:41.91729;-87.7283967
X-APPLE-STRUCTURED-LOCATION;VALUE=URI;X-ADDRESS=Segundo Ruiz Belvis Cultural Center 4046 W. Armitage Ave. Chicago IL 60639 United States;X-APPLE-RADIUS=500;X-TITLE=4046 W. Armitage Ave.:geo:-87.7283967,41.91729
END:VEVENT
BEGIN:VEVENT
DTSTART;TZID=America/Chicago:20230626T183000
DTEND;TZID=America/Chicago:20230626T210000
DTSTAMP:20260421T233306
CREATED:20230524T172238Z
LAST-MODIFIED:20230526T204022Z
UID:10004132-1687804200-1687813200@www.chicagoculturalalliance.org
SUMMARY:Millennium Park Summer Music Series: Eddie Palmieri Salsa Orchestra / El Laberinto del Coco
DESCRIPTION:New York salsa and Latin jazz innovator Eddie Palmieri brings his orchestra to perform his greatest hits\, along with Puerto Rican Bomba Fusion ensemble El Laberinto del Coco.
URL:https://www.chicagoculturalalliance.org/event/millennium-park-summer-music-series-eddie-palmieri-salsa-orchestra-el-laberinto-del-coco/
LOCATION:Millennium Park\, 201 E Randolph\, Chicago\, IL\, 60602\, United States
ATTACH;FMTTYPE=image/png:https://www.chicagoculturalalliance.org/wp-content/uploads/2023/05/image-1.png
GEO:41.8834354;-87.6218416
X-APPLE-STRUCTURED-LOCATION;VALUE=URI;X-ADDRESS=Millennium Park 201 E Randolph Chicago IL 60602 United States;X-APPLE-RADIUS=500;X-TITLE=201 E Randolph:geo:-87.6218416,41.8834354
END:VEVENT
BEGIN:VEVENT
DTSTART;TZID=America/Chicago:20230628T120000
DTEND;TZID=America/Chicago:20230628T130000
DTSTAMP:20260421T233306
CREATED:20230410T181113Z
LAST-MODIFIED:20230526T180427Z
UID:10003798-1687953600-1687957200@www.chicagoculturalalliance.org
SUMMARY:River Cruise Stories You May Not Hear
DESCRIPTION:Chicago Architecture Center’s river cruise docents don’t have time to tell every story they know. Listen to CAC docents share extra stories of the Chicago river\, its buildings and people.
URL:https://www.chicagoculturalalliance.org/event/river-cruise-stories-you-may-not-hear/
LOCATION:Online Event
CATEGORIES:Member Events,Online Events,Talks and Gatherings
ATTACH;FMTTYPE=image/jpeg:https://www.chicagoculturalalliance.org/wp-content/uploads/2023/04/wide_lrg_lake-point-tower-ear.jpg
ORGANIZER;CN="Chicago Architecture Center":MAILTO:info@architecture.org
END:VEVENT
BEGIN:VEVENT
DTSTART;TZID=America/Chicago:20230628T160000
DTEND;TZID=America/Chicago:20230628T190000
DTSTAMP:20260421T233306
CREATED:20230605T165341Z
LAST-MODIFIED:20230605T165341Z
UID:10004169-1687968000-1687978800@www.chicagoculturalalliance.org
SUMMARY:Andersonville Farmers Market
DESCRIPTION:Find the Swedish American Museum Store at the Andersonville Farmers Market. A great way to support local business as well as shopping Swedish items after hours.
URL:https://www.chicagoculturalalliance.org/event/andersonville-farmers-market/
LOCATION:IL\, United States
GEO:41.8781136;-87.6297982
END:VEVENT
BEGIN:VEVENT
DTSTART;TZID=America/Chicago:20230628T160000
DTEND;TZID=America/Chicago:20230628T200000
DTSTAMP:20260421T233306
CREATED:20230530T172512Z
LAST-MODIFIED:20230530T172512Z
UID:10004151-1687968000-1687982400@www.chicagoculturalalliance.org
SUMMARY:Celebrando 9 Años - Celebrating 9 Years
DESCRIPTION:OPEN Center for the Arts celebrates 9 years with an open house with food\, art\, and music\, and an exhibit called Mi Neighborhood showcasing artists from Chicago neighborhoods.
URL:https://www.chicagoculturalalliance.org/event/celebrando-9-anos-celebrating-9-years/
LOCATION:OPEN Center for the Arts\, 2214 S. Sacramento Ave.\, Chicago\, IL\, 60623\, United States
ATTACH;FMTTYPE=image/jpeg:https://www.chicagoculturalalliance.org/wp-content/uploads/2023/05/349982436_269894655510138_8981038098353295593_n.jpg
GEO:41.8513187;-87.7005376
X-APPLE-STRUCTURED-LOCATION;VALUE=URI;X-ADDRESS=OPEN Center for the Arts 2214 S. Sacramento Ave. Chicago IL 60623 United States;X-APPLE-RADIUS=500;X-TITLE=2214 S. Sacramento Ave.:geo:-87.7005376,41.8513187
END:VEVENT
BEGIN:VEVENT
DTSTART;TZID=America/Chicago:20230629T170000
DTEND;TZID=America/Chicago:20230629T170000
DTSTAMP:20260421T233306
CREATED:20230626T171446Z
LAST-MODIFIED:20230626T171446Z
UID:10004220-1688058000-1688058000@www.chicagoculturalalliance.org
SUMMARY:Hermanamiento e Intercambio Cultural de las Casas Michoacán y Chínelos Fest
DESCRIPTION:Presentation of the Citlali band and a cast of friends Comparsa de Chinelos and the Dance of the old men.
URL:https://www.chicagoculturalalliance.org/event/hermanamiento-e-intercambio-cultural-de-las-casas-michoacan-y-chinelos-fest/
LOCATION:Casa Michoacán\, 1638 S. Blue Island\, Chicago\, IL\, 60608\, United States
ATTACH;FMTTYPE=image/jpeg:https://www.chicagoculturalalliance.org/wp-content/uploads/2023/06/356424084_588382036776465_2799116264399604305_n.jpg
GEO:41.8587796;-87.6607525
X-APPLE-STRUCTURED-LOCATION;VALUE=URI;X-ADDRESS=Casa Michoacán 1638 S. Blue Island Chicago IL 60608 United States;X-APPLE-RADIUS=500;X-TITLE=1638 S. Blue Island:geo:-87.6607525,41.8587796
END:VEVENT
BEGIN:VEVENT
DTSTART;TZID=America/Chicago:20230629T183000
DTEND;TZID=America/Chicago:20230629T193000
DTSTAMP:20260421T233306
CREATED:20230605T170319Z
LAST-MODIFIED:20230605T170319Z
UID:10004171-1688063400-1688067000@www.chicagoculturalalliance.org
SUMMARY:Factors that Facilitate Resilience Among Haitian Refugees
DESCRIPTION:Join Dr. Pierre Paul\, part of Haitian American Museum of Chicago’s scholar series\, in a discussion on Haitian refugees and the elements which shape and form their perseverance.
URL:https://www.chicagoculturalalliance.org/event/factors-that-facilitate-resilience-among-haitian-refugees/
LOCATION:Haitian American Museum of Chicago\, 4410 N Clark St\, Chicago\, 60640\, United States
ATTACH;FMTTYPE=image/jpeg:https://www.chicagoculturalalliance.org/wp-content/uploads/2023/06/https-__cdn.evbuc_.com_images_528530979_98582227643_1_original-1.jpg
GEO:41.966999;-87.659665
X-APPLE-STRUCTURED-LOCATION;VALUE=URI;X-ADDRESS=Haitian American Museum of Chicago 4410 N Clark St Chicago 60640 United States;X-APPLE-RADIUS=500;X-TITLE=4410 N Clark St:geo:-87.659665,41.966999
END:VEVENT
BEGIN:VEVENT
DTSTART;VALUE=DATE:20230630
DTEND;VALUE=DATE:20230713
DTSTAMP:20260421T233306
CREATED:20230616T143926Z
LAST-MODIFIED:20230627T144016Z
UID:10004194-1688083200-1689206399@www.chicagoculturalalliance.org
SUMMARY:19th Solo Exhibition of Jin Woo Yoon\, Woodwork Artist from Busan\, Korea
DESCRIPTION:Award-winning Korean woodwork artist Jin Woo Yoon will hold a solo exhibition at the Korean Cultural Center of Chicago. He will carve two good luck totem poles for the center.
URL:https://www.chicagoculturalalliance.org/event/19th-solo-exhibition-of-jin-woo-yoon-woodwork-artist-from-busan-korea/2023-06-30/
LOCATION:Korean Cultural Center of Chicago\, 9925 Capitol Dr\, Wheeling\, IL\, United States
ATTACH;FMTTYPE=image/jpeg:https://www.chicagoculturalalliance.org/wp-content/uploads/2023/06/전시회포스터-진짜최종-scaled.jpg
GEO:42.1107829;-87.9082415
X-APPLE-STRUCTURED-LOCATION;VALUE=URI;X-ADDRESS=Korean Cultural Center of Chicago 9925 Capitol Dr Wheeling IL United States;X-APPLE-RADIUS=500;X-TITLE=9925 Capitol Dr:geo:-87.9082415,42.1107829
END:VEVENT
BEGIN:VEVENT
DTSTART;TZID=America/Chicago:20230701T103000
DTEND;TZID=America/Chicago:20230701T113000
DTSTAMP:20260421T233306
CREATED:20230616T150304Z
LAST-MODIFIED:20230616T150304Z
UID:10004199-1688207400-1688211000@www.chicagoculturalalliance.org
SUMMARY:Donguri Kai: Summer Storytime
DESCRIPTION:Listen to children’s stories read aloud by students from Japanese American Service Committee’s children’s Japanese program.
URL:https://www.chicagoculturalalliance.org/event/donguri-kai-summer-storytime/
LOCATION:Japanese American Service Committee\, 4427 N Clark St\, Chicago\, IL\, 60640\, United States
ATTACH;FMTTYPE=image/png:https://www.chicagoculturalalliance.org/wp-content/uploads/2023/06/Summer-Storytime-1-3-768x768-1.png
GEO:41.9627071;-87.6658961
X-APPLE-STRUCTURED-LOCATION;VALUE=URI;X-ADDRESS=Japanese American Service Committee 4427 N Clark St Chicago IL 60640 United States;X-APPLE-RADIUS=500;X-TITLE=4427 N Clark St:geo:-87.6658961,41.9627071
END:VEVENT
BEGIN:VEVENT
DTSTART;VALUE=DATE:20230701
DTEND;VALUE=DATE:20230702
DTSTAMP:20260421T233306
CREATED:20230616T143926Z
LAST-MODIFIED:20230627T144016Z
UID:10004195-1688230800-1688238000@www.chicagoculturalalliance.org
SUMMARY:19th Solo Exhibition of Jin Woo Yoon\, Woodwork Artist from Busan\, Korea
DESCRIPTION:Award-winning Korean woodwork artist Jin Woo Yoon will hold a solo exhibition at the Korean Cultural Center of Chicago. He will carve two good luck totem poles for the center.
URL:https://www.chicagoculturalalliance.org/event/19th-solo-exhibition-of-jin-woo-yoon-woodwork-artist-from-busan-korea/2023-07-01/
LOCATION:Korean Cultural Center of Chicago\, 9925 Capitol Dr\, Wheeling\, IL\, United States
ATTACH;FMTTYPE=image/jpeg:https://www.chicagoculturalalliance.org/wp-content/uploads/2023/06/전시회포스터-진짜최종-scaled.jpg
GEO:42.1107829;-87.9082415
X-APPLE-STRUCTURED-LOCATION;VALUE=URI;X-ADDRESS=Korean Cultural Center of Chicago 9925 Capitol Dr Wheeling IL United States;X-APPLE-RADIUS=500;X-TITLE=9925 Capitol Dr:geo:-87.9082415,42.1107829
END:VEVENT
END:VCALENDAR