BEGIN:VCALENDAR
VERSION:2.0
PRODID:-//Chicago Cultural Alliance - ECPv6.15.20//NONSGML v1.0//EN
CALSCALE:GREGORIAN
METHOD:PUBLISH
X-WR-CALNAME:Chicago Cultural Alliance
X-ORIGINAL-URL:https://www.chicagoculturalalliance.org
X-WR-CALDESC:Events for Chicago Cultural Alliance
REFRESH-INTERVAL;VALUE=DURATION:PT1H
X-Robots-Tag:noindex
X-PUBLISHED-TTL:PT1H
BEGIN:VTIMEZONE
TZID:America/Chicago
BEGIN:DAYLIGHT
TZOFFSETFROM:-0600
TZOFFSETTO:-0500
TZNAME:CDT
DTSTART:20240310T080000
END:DAYLIGHT
BEGIN:STANDARD
TZOFFSETFROM:-0500
TZOFFSETTO:-0600
TZNAME:CST
DTSTART:20241103T070000
END:STANDARD
BEGIN:DAYLIGHT
TZOFFSETFROM:-0600
TZOFFSETTO:-0500
TZNAME:CDT
DTSTART:20250309T080000
END:DAYLIGHT
BEGIN:STANDARD
TZOFFSETFROM:-0500
TZOFFSETTO:-0600
TZNAME:CST
DTSTART:20251102T070000
END:STANDARD
BEGIN:DAYLIGHT
TZOFFSETFROM:-0600
TZOFFSETTO:-0500
TZNAME:CDT
DTSTART:20260308T080000
END:DAYLIGHT
BEGIN:STANDARD
TZOFFSETFROM:-0500
TZOFFSETTO:-0600
TZNAME:CST
DTSTART:20261101T070000
END:STANDARD
END:VTIMEZONE
BEGIN:VEVENT
DTSTART;TZID=America/Chicago:20250610T173000
DTEND;TZID=America/Chicago:20250610T193000
DTSTAMP:20260423T072748
CREATED:20250528T201324Z
LAST-MODIFIED:20250528T201324Z
UID:10007995-1749576600-1749583800@www.chicagoculturalalliance.org
SUMMARY:Get Lit! The Musical
DESCRIPTION:Get Lit: The Musical\n\nCelebrate Pride Month at the American Writers Museum with Get Lit: The Musical\, a sing-along celebration of the iconic\, queer world of musical theatre! Whether you’re a Sondheim fanatic\, a Hamilton devotee\, or just looking to revel in the spotlight\, you’re bound to leave humming a show tune. \nGET TICKETS \n\n\n\n\n\n\n\n\n\nTest your knowledge of musical theatre and Broadway history at Showstoppers Trivia.\nShow off your moves at the Showtunes Dance Party.\nDiscover the writers and works that inspired some of your favorite musicals with the Page to Stage Scavenger Hunt.\nEnjoy beer\, wine\, and the night’s specialty cocktail\, the All that Jazzberry! Non-alcoholic options are also available.\n\nCome dressed as your favorite character or just bring your love for the stage! \nThis is 21+ event. Attendees must show a valid photo ID at the door to enter.
URL:https://www.chicagoculturalalliance.org/event/get-lit-the-musical/
LOCATION:American Writers Museum\, 180 N. Michigan Ave.\, Chicago\, IL\, 60601\, United States
ATTACH;FMTTYPE=image/png:https://www.chicagoculturalalliance.org/wp-content/uploads/2025/05/THE-MUSICAL.png
GEO:41.8855045;-87.6248892
X-APPLE-STRUCTURED-LOCATION;VALUE=URI;X-ADDRESS=American Writers Museum 180 N. Michigan Ave. Chicago IL 60601 United States;X-APPLE-RADIUS=500;X-TITLE=180 N. Michigan Ave.:geo:-87.6248892,41.8855045
END:VEVENT
BEGIN:VEVENT
DTSTART;TZID=America/Chicago:20250612T120000
DTEND;TZID=America/Chicago:20250612T130000
DTSTAMP:20260423T072748
CREATED:20250528T200344Z
LAST-MODIFIED:20250529T035805Z
UID:10007998-1749729600-1749733200@www.chicagoculturalalliance.org
SUMMARY:Constructing Architectural Networks: Ukraine [VIRTUAL]
DESCRIPTION:Join us for a discussion with architects working on material logistics and mutual aid networks during Russia’s invasion of Ukraine. This program is hosted in collaboration with the exhibition Constructing Hope: Ukraine which is currently on view at the CAC through September 1\, 2025. \nThe second exhibition of this work in the United States after premiering at the Center for Architecture in New York in 2024\, Constructing Hope: Ukraine focuses on decentralized reconstruction efforts\, presenting the work of grassroots initiatives happening inside and outside of Ukraine. The speakers\, Kseniia Kalmus (artist and co-founder of Livyi Bereh) and Ada Wordsworth (founder and director of KHARPP)\, will sit with the exhibition curators to discuss their work to provide support for rebuilding and repairs across Ukraine. Come join this special opportunity to hear first-hand accounts of how supporting locally can create a collective good.
URL:https://www.chicagoculturalalliance.org/event/constructing-architectural-networks-ukraine-virtual/
LOCATION:Zoom
CATEGORIES:Online Events,Talks and Gatherings,Workshops and Classes
ATTACH;FMTTYPE=image/png:https://www.chicagoculturalalliance.org/wp-content/uploads/2025/05/Screenshot-2025-05-27-144447.png
ORGANIZER;CN="Chicago Architecture Center":MAILTO:info@architecture.org
END:VEVENT
BEGIN:VEVENT
DTSTART;TZID=America/Chicago:20250612T190000
DTEND;TZID=America/Chicago:20250612T230000
DTSTAMP:20260423T072748
CREATED:20240123T153900Z
LAST-MODIFIED:20240123T153900Z
UID:10004828-1749754800-1749769200@www.chicagoculturalalliance.org
SUMMARY:Neighborhood Nights
DESCRIPTION:Date: \nStart\nThursday\, January 11\, 2024 \nTime:  \nLocation: \nLocation\nDANK Haus\, 6th Floor Skyline Lounge \n\nenjoy a beverage with a spectacular EXPERIENCE in our haus \nA perfect place to meet your neighbors and socialize! All proceeds support the DANK Haus Museum \nWHEN\nEach 2nd & 4th Thursday of the month from 7-11 PM.  \nLocation\nWinter months – Brauhaus Room (2nd floor) \nSummer/Fall months – Skyline Lounge/Terrace (6th floor) \nSubject to change. Be sure to check elevator signs when arriving!
URL:https://www.chicagoculturalalliance.org/event/neighborhood-nights-12/2025-06-12/
LOCATION:DANK Haus German American Cultural Center\, 4740 N. Western Ave.\, Chicago\, IL\, 60625\, United States
CATEGORIES:Food and Drink
GEO:41.9680013;-87.6890642
X-APPLE-STRUCTURED-LOCATION;VALUE=URI;X-ADDRESS=DANK Haus German American Cultural Center 4740 N. Western Ave. Chicago IL 60625 United States;X-APPLE-RADIUS=500;X-TITLE=4740 N. Western Ave.:geo:-87.6890642,41.9680013
END:VEVENT
BEGIN:VEVENT
DTSTART;TZID=America/Chicago:20250613T183000
DTEND;TZID=America/Chicago:20250613T210000
DTSTAMP:20260423T072748
CREATED:20250606T212247Z
LAST-MODIFIED:20250606T212247Z
UID:10008004-1749839400-1749848400@www.chicagoculturalalliance.org
SUMMARY:Book Signing and Presentation: Paris to Pamirs
DESCRIPTION:Join author Jaroslaw Martynuik at the Ukrainian National Museum\, June 13 at 6:30pm for a presentation and signing of his latest book\, Paris to Pamirs: Eurasian Odysseys. \nParis to Pamirs is a sequel to Monte Rosa: Memoir of an Accidental Spy\, a volume that documented the author’s life from WWII to his years in Paris\, where he worked for the IEA/OECD and later as an undercover researcher for Radio Liberty. The fall of Communism in 1991 opened opportunities for travel east of the defunct Iron Curtain. Over the next three decades\, Jaroslaw Martyniuk traveled to forty countries between the Atlantic Ocean and the high Pamir mountains in Tajikistan\, which border China and Afghanistan in Central Asia. Like a latterday Marco Polo\, Martyniuk takes his reader on an adventure from Western and Eastern Europe\, the Balkans\, Baltics\, Belarus\, Ukraine\, and Russia\, to Istanbul\, the Caucasus\, and Central Asia.
URL:https://www.chicagoculturalalliance.org/event/book-signing-and-presentation-paris-to-pamirs/
LOCATION:2249 West Superior Street\, Chicago\, IL 60612\, 2249 West Superior Street\, Chicago\, IL\, 60612\, United States
CATEGORIES:Talks and Gatherings
ATTACH;FMTTYPE=image/jpeg:https://www.chicagoculturalalliance.org/wp-content/uploads/2025/06/WEB-Banners-Mart_Memoir-1.jpg
GEO:41.894571;-87.684031
X-APPLE-STRUCTURED-LOCATION;VALUE=URI;X-ADDRESS=2249 West Superior Street Chicago IL 60612 2249 West Superior Street Chicago IL 60612 United States;X-APPLE-RADIUS=500;X-TITLE=2249 West Superior Street:geo:-87.684031,41.894571
END:VEVENT
BEGIN:VEVENT
DTSTART;TZID=America/Chicago:20250614T103000
DTEND;TZID=America/Chicago:20250614T103000
DTSTAMP:20260423T072748
CREATED:20240123T154630Z
LAST-MODIFIED:20240129T204932Z
UID:10004962-1749897000-1749897000@www.chicagoculturalalliance.org
SUMMARY:Kino\, Kaffee und Kuchen
DESCRIPTION:Date: \nStart\nSaturday\, January 06\, 2024 \nTime:  \nLocation: \nLocation\nDANK Haus Room 206\, 2nd Floor \n\n\n \nKINO\, KAFFEE UND KUCHEN  \nSaturdays at the DANK Haus in Room 206\n10:30 – 11:00 AM | Kaffee und Kuchen \n11:00 – 12:00 PM | Vorfilm \n12:00 PM | Feature Film Begins \n  \nJoin us each Saturday at the DANK Haus in Fall\, Winter\, and Spring for Kaffee\, Kuchen\, und Kino. Each week guests will choose the film they want to watch \nDANK Members: $5 | Non-Members: $7 \n 
URL:https://www.chicagoculturalalliance.org/event/kino-kaffee-und-kuchen/2025-06-14/
LOCATION:DANK Haus German American Cultural Center\, 4740 N. Western Ave.\, Chicago\, IL\, 60625\, United States
CATEGORIES:Music, Film, and Theater
ATTACH;FMTTYPE=image/jpeg:https://www.chicagoculturalalliance.org/wp-content/uploads/2024/01/KINO-KAFFEE-UND-KUCHEN-.jpeg
GEO:41.9680013;-87.6890642
X-APPLE-STRUCTURED-LOCATION;VALUE=URI;X-ADDRESS=DANK Haus German American Cultural Center 4740 N. Western Ave. Chicago IL 60625 United States;X-APPLE-RADIUS=500;X-TITLE=4740 N. Western Ave.:geo:-87.6890642,41.9680013
END:VEVENT
BEGIN:VEVENT
DTSTART;TZID=America/Chicago:20250614T103000
DTEND;TZID=America/Chicago:20250614T143000
DTSTAMP:20260423T072748
CREATED:20240205T165426Z
LAST-MODIFIED:20240205T165426Z
UID:10005261-1749897000-1749911400@www.chicagoculturalalliance.org
SUMMARY:Puerto Rican Arts Alliance: Studio Arts Program
DESCRIPTION:El Rinconcito is a free open art space for creative expression for people ages 12-25. You can meet people like you who are interested in arts\, painting\, drawing\, printmaking\, and others. El Riconcito provides a safe and welcoming studio for art making. An artist and a counselor in the studio can guide you in creative experiences\, but you can opt to do your own artwork. \nJoin us! We provide the art supplies\, and you bring your creativity.
URL:https://www.chicagoculturalalliance.org/event/puerto-rican-arts-alliance-studio-arts-program/2025-06-14/
CATEGORIES:Workshops and Classes
ATTACH;FMTTYPE=image/png:https://www.chicagoculturalalliance.org/wp-content/uploads/2024/02/art-studio.png
END:VEVENT
BEGIN:VEVENT
DTSTART;TZID=America/Chicago:20250614T131500
DTEND;TZID=America/Chicago:20250614T141500
DTSTAMP:20260423T072748
CREATED:20240207T213717Z
LAST-MODIFIED:20240207T213717Z
UID:10005800-1749906900-1749910500@www.chicagoculturalalliance.org
SUMMARY:Constructing Jathi Choreography with Harini Nilakantan
DESCRIPTION:Weekly Saturdays\n1:15 – 2:15 PM\nHarini Nilakantan is a student of Aacharya Choodamani Guru Smt. Roja\nKannan\, and has over two decades of experience in this art form. In this 90-minute class\, dancers will learn new choreography – both how to piece together combinations and increase retention with her for advanced\nrhythmic patterns or Jathis.\nClass focus: execution\, technique\, creativity\, retention
URL:https://www.chicagoculturalalliance.org/event/constructing-jathi-choreography-with-harini-nilakantan/2025-06-14/
LOCATION:Kalapriya Studio\, 2101 S. Wabash Ave.\, Chicago\, United States
CATEGORIES:Dance
ATTACH;FMTTYPE=image/jpeg:https://www.chicagoculturalalliance.org/wp-content/uploads/2024/02/indian-dance.jpg
ORGANIZER;CN="Kalapriya Center for Indian Performing Arts":MAILTO:info@kalapriya.org
GEO:41.8541146;-87.6251552
X-APPLE-STRUCTURED-LOCATION;VALUE=URI;X-ADDRESS=Kalapriya Studio 2101 S. Wabash Ave. Chicago United States;X-APPLE-RADIUS=500;X-TITLE=2101 S. Wabash Ave.:geo:-87.6251552,41.8541146
END:VEVENT
END:VCALENDAR