BEGIN:VCALENDAR
VERSION:2.0
PRODID:-//Chicago Cultural Alliance - ECPv6.15.20//NONSGML v1.0//EN
CALSCALE:GREGORIAN
METHOD:PUBLISH
X-ORIGINAL-URL:https://www.chicagoculturalalliance.org
X-WR-CALDESC:Events for Chicago Cultural Alliance
REFRESH-INTERVAL;VALUE=DURATION:PT1H
X-Robots-Tag:noindex
X-PUBLISHED-TTL:PT1H
BEGIN:VTIMEZONE
TZID:America/Chicago
BEGIN:DAYLIGHT
TZOFFSETFROM:-0600
TZOFFSETTO:-0500
TZNAME:CDT
DTSTART:20240310T080000
END:DAYLIGHT
BEGIN:STANDARD
TZOFFSETFROM:-0500
TZOFFSETTO:-0600
TZNAME:CST
DTSTART:20241103T070000
END:STANDARD
BEGIN:DAYLIGHT
TZOFFSETFROM:-0600
TZOFFSETTO:-0500
TZNAME:CDT
DTSTART:20250309T080000
END:DAYLIGHT
BEGIN:STANDARD
TZOFFSETFROM:-0500
TZOFFSETTO:-0600
TZNAME:CST
DTSTART:20251102T070000
END:STANDARD
BEGIN:DAYLIGHT
TZOFFSETFROM:-0600
TZOFFSETTO:-0500
TZNAME:CDT
DTSTART:20260308T080000
END:DAYLIGHT
BEGIN:STANDARD
TZOFFSETFROM:-0500
TZOFFSETTO:-0600
TZNAME:CST
DTSTART:20261101T070000
END:STANDARD
END:VTIMEZONE
BEGIN:VEVENT
DTSTART;TZID=America/Chicago:20250702T110000
DTEND;TZID=America/Chicago:20250907T160000
DTSTAMP:20260423T145103
CREATED:20250626T165505Z
LAST-MODIFIED:20250626T165505Z
UID:10008022-1751454000-1757260800@www.chicagoculturalalliance.org
SUMMARY:Courage of a Nation
DESCRIPTION:For the first time in the United States\, the photo exhibition Courage of a Nation by Howard G. Buffett will be open to the public in Chicago. \nThe extraordinary photo exhibition Courage of a Nation\, by Howard G. Buffett\, Ukraine’s largest private donor\, will be on display at the Ukrainian National Museum in Chicago from July 2 to September 7\, 2025. Following its museum debut\, the exhibition will relocate to a downtown Chicago location\, where it will remain on view for several months\, offering the public insights into three years of documentation of the Russian full-scale invasion of Ukraine and Mr. Buffett’s visual journey. \nThe photo exhibition is a selection of images that show the courage\, resiliency\, and commitment of the Ukrainian people as they stand strong for democracy and freedom\, taken by Howard G. Buffett\, photographer and chairman and CEO of the Howard G. Buffett Foundation. The images were taken between April 2022 and January 2025\, including more than 63 days along the front lines. \nMr. Buffett crossed the border into Ukraine\, camera in hand\, about six weeks after Russia began its February 2022 full-scale invasion. Since then\, Mr. Buffett has made more than 20 trips to Ukraine\, including trips to Bucha\, Kharkiv\, Sumy\, Kherson\, Vuhledar\, Slovyansk\, and Bakhmut. \n“I want to thank the hundreds of Ukrainians from all walks of life I have met over the past three years who have so generously allowed me to take these images and tell their stories. I am regularly awed by their courage and resiliency–on the front lines\, on the home front\, and everywhere in between. I have had incredible support from many people\, and I have been embraced by individuals who have lost everything they have\, including\, in some cases\, their families. I hope this exhibit allows you to join me to bear witness to their struggle\, recognize their courage\, and offer our collective support as Ukrainians continue to fight for their freedoms.” Said Howard G. Buffett. \nThe exhibition is curated by the world-renowned photographer and two-time Pulitzer Prize winner and changemaker\, Muhammed Muheisen. \n“I am honoured to be the curator of this powerful and moving photo exhibition by my friend Howard\, captured with both his heart and camera. It takes courage to capture courage in a single moment in time. This photo exhibition is all about courage\, the courageous people seen in the photographs\, and the courage of the photographer who captured the photographs.” Said Muhammed Muheisen.
URL:https://www.chicagoculturalalliance.org/event/courage-of-a-nation/
LOCATION:2249 West Superior Street\, Chicago\, IL 60612\, 2249 West Superior Street\, Chicago\, IL\, 60612\, United States
CATEGORIES:Exhibitions and Gallery Events
ATTACH;FMTTYPE=image/png:https://www.chicagoculturalalliance.org/wp-content/uploads/2025/06/COAN.png
GEO:41.894571;-87.684031
X-APPLE-STRUCTURED-LOCATION;VALUE=URI;X-ADDRESS=2249 West Superior Street Chicago IL 60612 2249 West Superior Street Chicago IL 60612 United States;X-APPLE-RADIUS=500;X-TITLE=2249 West Superior Street:geo:-87.684031,41.894571
END:VEVENT
BEGIN:VEVENT
DTSTART;TZID=America/Chicago:20250909T180000
DTEND;TZID=America/Chicago:20250909T191500
DTSTAMP:20260423T145103
CREATED:20250806T194653Z
LAST-MODIFIED:20250806T194653Z
UID:10008082-1757440800-1757445300@www.chicagoculturalalliance.org
SUMMARY:Architect Talk: John Ronan
DESCRIPTION:Don’t miss an evening with John Ronan\, FAIA\, founding principal at internationally-recognized John Ronan Architects\, as he reflects on his firm’s design approach and studio culture\, and vital practice in Chicago and beyond. CAC President & CEO Eleanor Gorski joins John in conversation following the lecture. \nMany will know John for his firm’s widely published\, award-winning Chicago projects including the Poetry Foundation\, Gary Comer Youth Center\, Independence Library and Apartments\, Ed Kaplan Family Institute for Innovation and Tech Entrepreneurship at IIT and most recently the new Chicago Park District Headquarters in Brighton Park. \nIn addition to covering these projects and exploring how Chicago has informed his designs\, John will show some work currently “on the boards.” As these projects suggest\, John Ronan Architects works across a wide range of building types and scales. The firm has also competed in a number of international design competitions and was a finalist for the Obama Presidential Center and the UCD Future Campus project in Dublin. In 2024\, the firm won an invited competition to design the Memorial for Fallen Journalists on the Mall in Washington\, D.C. \nTicket holders are invited to arrive early for light bites and refreshments at 5 p.m. outside the lecture hall with the program beginning at 6 p.m. \n 
URL:https://www.chicagoculturalalliance.org/event/architect-talk-john-ronan/
LOCATION:Chicago Architecture Center\, 111 E Wacker Dr\, Chicago\, IL\, 60601\, United States
CATEGORIES:Talks and Gatherings
ATTACH;FMTTYPE=image/png:https://www.chicagoculturalalliance.org/wp-content/uploads/2025/08/Screenshot-2025-08-05-142617.png
ORGANIZER;CN="Chicago Architecture Center":MAILTO:info@architecture.org
GEO:41.8876241;-87.6236513
X-APPLE-STRUCTURED-LOCATION;VALUE=URI;X-ADDRESS=Chicago Architecture Center 111 E Wacker Dr Chicago IL 60601 United States;X-APPLE-RADIUS=500;X-TITLE=111 E Wacker Dr:geo:-87.6236513,41.8876241
END:VEVENT
BEGIN:VEVENT
DTSTART;TZID=America/Chicago:20250911T190000
DTEND;TZID=America/Chicago:20250911T230000
DTSTAMP:20260423T145103
CREATED:20240123T153900Z
LAST-MODIFIED:20240123T153900Z
UID:10004831-1757617200-1757631600@www.chicagoculturalalliance.org
SUMMARY:Neighborhood Nights
DESCRIPTION:Date: \nStart\nThursday\, January 11\, 2024 \nTime:  \nLocation: \nLocation\nDANK Haus\, 6th Floor Skyline Lounge \n\nenjoy a beverage with a spectacular EXPERIENCE in our haus \nA perfect place to meet your neighbors and socialize! All proceeds support the DANK Haus Museum \nWHEN\nEach 2nd & 4th Thursday of the month from 7-11 PM.  \nLocation\nWinter months – Brauhaus Room (2nd floor) \nSummer/Fall months – Skyline Lounge/Terrace (6th floor) \nSubject to change. Be sure to check elevator signs when arriving!
URL:https://www.chicagoculturalalliance.org/event/neighborhood-nights-12/2025-09-11/
LOCATION:DANK Haus German American Cultural Center\, 4740 N. Western Ave.\, Chicago\, IL\, 60625\, United States
CATEGORIES:Food and Drink
GEO:41.9680013;-87.6890642
X-APPLE-STRUCTURED-LOCATION;VALUE=URI;X-ADDRESS=DANK Haus German American Cultural Center 4740 N. Western Ave. Chicago IL 60625 United States;X-APPLE-RADIUS=500;X-TITLE=4740 N. Western Ave.:geo:-87.6890642,41.9680013
END:VEVENT
BEGIN:VEVENT
DTSTART;VALUE=DATE:20250912
DTEND;VALUE=DATE:20250913
DTSTAMP:20260423T145103
CREATED:20250807T013712Z
LAST-MODIFIED:20250807T013712Z
UID:10008076-1757635200-1757721599@www.chicagoculturalalliance.org
SUMMARY:Na'wa'hIs' Our Relations
DESCRIPTION:An Art Exhibit by the Levi Family. Step into a visual journey of family\, heritage\, and the sacred bond between Native people and animals\, told through the eyes of three Native artists. Visit this collection of ledger art\, paintings\, textile and photography.
URL:https://www.chicagoculturalalliance.org/event/nawahis-our-relations/2025-09-12/
LOCATION:Trickster Cultural Center\, 190 S Roselle Rd\, Schaumburg\, IL\, 60193\, United States
CATEGORIES:Exhibitions and Gallery Events
ATTACH;FMTTYPE=image/jpeg:https://www.chicagoculturalalliance.org/wp-content/uploads/2025/08/May1-2025-Levi-Family-Art-Exhibit.jpg
GEO:42.0253438;-88.0805137
X-APPLE-STRUCTURED-LOCATION;VALUE=URI;X-ADDRESS=Trickster Cultural Center 190 S Roselle Rd Schaumburg IL 60193 United States;X-APPLE-RADIUS=500;X-TITLE=190 S Roselle Rd:geo:-88.0805137,42.0253438
END:VEVENT
BEGIN:VEVENT
DTSTART;TZID=America/Chicago:20250912T193000
DTEND;TZID=America/Chicago:20250912T220000
DTSTAMP:20260423T145103
CREATED:20250811T195752Z
LAST-MODIFIED:20250811T195752Z
UID:10008101-1757705400-1757714400@www.chicagoculturalalliance.org
SUMMARY:Raga Boyz: Sufi Rock Concert
DESCRIPTION:Raga Boyz is a popular sufi-rock band from Pakistan featuring Wali Hamid Ali Khan\, Inam Ali Khan and Nayab Ali Khan. The sibling trio band performs music of all genres\, from Ragas to Rock\, from Sufi to Heavy Metal\, from Folk to Fusion. The Raga boys\, being the sons of legendary Pakistani Ustad Hamid Ali Khan\, are the ninth-generation descendants of the celebrated Patiala Gharana family. \nRaga Boyz has performed across the globe in 18 countries\, including some of the best venues of the world like Wembley Arena and Radio City Music Hall. They have even appeared with singers like Shakira and Rihanna. \nBroaden your horizons and rock out with us this fall at South Asia Institute. \nThe event will include an intermission\, refreshments will be provided.
URL:https://www.chicagoculturalalliance.org/event/raga-boyz-sufi-rock-concert/
LOCATION:South Asia Institute\, 1925 South Michigan Avenue\, Chicago\, IL\, 60616\, United States
CATEGORIES:Music, Film, and Theater
ATTACH;FMTTYPE=image/png:https://www.chicagoculturalalliance.org/wp-content/uploads/2025/08/09-12-2025-09-13-Raga-Boyz-3-website-icon-1080x1080-1.png
GEO:41.8558642;-87.6234583
X-APPLE-STRUCTURED-LOCATION;VALUE=URI;X-ADDRESS=South Asia Institute 1925 South Michigan Avenue Chicago IL 60616 United States;X-APPLE-RADIUS=500;X-TITLE=1925 South Michigan Avenue:geo:-87.6234583,41.8558642
END:VEVENT
BEGIN:VEVENT
DTSTART;TZID=America/Chicago:20250913T103000
DTEND;TZID=America/Chicago:20250913T103000
DTSTAMP:20260423T145103
CREATED:20240123T154630Z
LAST-MODIFIED:20240129T204932Z
UID:10004975-1757759400-1757759400@www.chicagoculturalalliance.org
SUMMARY:Kino\, Kaffee und Kuchen
DESCRIPTION:Date: \nStart\nSaturday\, January 06\, 2024 \nTime:  \nLocation: \nLocation\nDANK Haus Room 206\, 2nd Floor \n\n\n \nKINO\, KAFFEE UND KUCHEN  \nSaturdays at the DANK Haus in Room 206\n10:30 – 11:00 AM | Kaffee und Kuchen \n11:00 – 12:00 PM | Vorfilm \n12:00 PM | Feature Film Begins \n  \nJoin us each Saturday at the DANK Haus in Fall\, Winter\, and Spring for Kaffee\, Kuchen\, und Kino. Each week guests will choose the film they want to watch \nDANK Members: $5 | Non-Members: $7 \n 
URL:https://www.chicagoculturalalliance.org/event/kino-kaffee-und-kuchen/2025-09-13/
LOCATION:DANK Haus German American Cultural Center\, 4740 N. Western Ave.\, Chicago\, IL\, 60625\, United States
CATEGORIES:Music, Film, and Theater
ATTACH;FMTTYPE=image/jpeg:https://www.chicagoculturalalliance.org/wp-content/uploads/2024/01/KINO-KAFFEE-UND-KUCHEN-.jpeg
GEO:41.9680013;-87.6890642
X-APPLE-STRUCTURED-LOCATION;VALUE=URI;X-ADDRESS=DANK Haus German American Cultural Center 4740 N. Western Ave. Chicago IL 60625 United States;X-APPLE-RADIUS=500;X-TITLE=4740 N. Western Ave.:geo:-87.6890642,41.9680013
END:VEVENT
BEGIN:VEVENT
DTSTART;TZID=America/Chicago:20250913T103000
DTEND;TZID=America/Chicago:20250913T143000
DTSTAMP:20260423T145103
CREATED:20240205T165426Z
LAST-MODIFIED:20240205T165426Z
UID:10005274-1757759400-1757773800@www.chicagoculturalalliance.org
SUMMARY:Puerto Rican Arts Alliance: Studio Arts Program
DESCRIPTION:El Rinconcito is a free open art space for creative expression for people ages 12-25. You can meet people like you who are interested in arts\, painting\, drawing\, printmaking\, and others. El Riconcito provides a safe and welcoming studio for art making. An artist and a counselor in the studio can guide you in creative experiences\, but you can opt to do your own artwork. \nJoin us! We provide the art supplies\, and you bring your creativity.
URL:https://www.chicagoculturalalliance.org/event/puerto-rican-arts-alliance-studio-arts-program/2025-09-13/
CATEGORIES:Workshops and Classes
ATTACH;FMTTYPE=image/png:https://www.chicagoculturalalliance.org/wp-content/uploads/2024/02/art-studio.png
END:VEVENT
BEGIN:VEVENT
DTSTART;TZID=America/Chicago:20250913T131500
DTEND;TZID=America/Chicago:20250913T141500
DTSTAMP:20260423T145103
CREATED:20240207T213717Z
LAST-MODIFIED:20240207T213717Z
UID:10005813-1757769300-1757772900@www.chicagoculturalalliance.org
SUMMARY:Constructing Jathi Choreography with Harini Nilakantan
DESCRIPTION:Weekly Saturdays\n1:15 – 2:15 PM\nHarini Nilakantan is a student of Aacharya Choodamani Guru Smt. Roja\nKannan\, and has over two decades of experience in this art form. In this 90-minute class\, dancers will learn new choreography – both how to piece together combinations and increase retention with her for advanced\nrhythmic patterns or Jathis.\nClass focus: execution\, technique\, creativity\, retention
URL:https://www.chicagoculturalalliance.org/event/constructing-jathi-choreography-with-harini-nilakantan/2025-09-13/
LOCATION:Kalapriya Studio\, 2101 S. Wabash Ave.\, Chicago\, United States
CATEGORIES:Dance
ATTACH;FMTTYPE=image/jpeg:https://www.chicagoculturalalliance.org/wp-content/uploads/2024/02/indian-dance.jpg
ORGANIZER;CN="Kalapriya Center for Indian Performing Arts":MAILTO:info@kalapriya.org
GEO:41.8541146;-87.6251552
X-APPLE-STRUCTURED-LOCATION;VALUE=URI;X-ADDRESS=Kalapriya Studio 2101 S. Wabash Ave. Chicago United States;X-APPLE-RADIUS=500;X-TITLE=2101 S. Wabash Ave.:geo:-87.6251552,41.8541146
END:VEVENT
END:VCALENDAR