BEGIN:VCALENDAR
VERSION:2.0
PRODID:-//Chicago Cultural Alliance - ECPv6.15.20//NONSGML v1.0//EN
CALSCALE:GREGORIAN
METHOD:PUBLISH
X-ORIGINAL-URL:https://www.chicagoculturalalliance.org
X-WR-CALDESC:Events for Chicago Cultural Alliance
REFRESH-INTERVAL;VALUE=DURATION:PT1H
X-Robots-Tag:noindex
X-PUBLISHED-TTL:PT1H
BEGIN:VTIMEZONE
TZID:America/Chicago
BEGIN:DAYLIGHT
TZOFFSETFROM:-0600
TZOFFSETTO:-0500
TZNAME:CDT
DTSTART:20240310T080000
END:DAYLIGHT
BEGIN:STANDARD
TZOFFSETFROM:-0500
TZOFFSETTO:-0600
TZNAME:CST
DTSTART:20241103T070000
END:STANDARD
BEGIN:DAYLIGHT
TZOFFSETFROM:-0600
TZOFFSETTO:-0500
TZNAME:CDT
DTSTART:20250309T080000
END:DAYLIGHT
BEGIN:STANDARD
TZOFFSETFROM:-0500
TZOFFSETTO:-0600
TZNAME:CST
DTSTART:20251102T070000
END:STANDARD
BEGIN:DAYLIGHT
TZOFFSETFROM:-0600
TZOFFSETTO:-0500
TZNAME:CDT
DTSTART:20260308T080000
END:DAYLIGHT
BEGIN:STANDARD
TZOFFSETFROM:-0500
TZOFFSETTO:-0600
TZNAME:CST
DTSTART:20261101T070000
END:STANDARD
BEGIN:DAYLIGHT
TZOFFSETFROM:-0600
TZOFFSETTO:-0500
TZNAME:CDT
DTSTART:20270314T080000
END:DAYLIGHT
BEGIN:STANDARD
TZOFFSETFROM:-0500
TZOFFSETTO:-0600
TZNAME:CST
DTSTART:20271107T070000
END:STANDARD
END:VTIMEZONE
BEGIN:VEVENT
DTSTART;TZID=America/Chicago:20250915T080000
DTEND;TZID=America/Chicago:20260601T170000
DTSTAMP:20260423T231734
CREATED:20250917T012438Z
LAST-MODIFIED:20250917T012438Z
UID:10009454-1757923200-1780333200@www.chicagoculturalalliance.org
SUMMARY:African American Civil War Soldiers Honor Roll - Call for names
DESCRIPTION:Dear Friends and Community Members\, \nAcross Chicago\, countless stories of courage and service remain untold. Among them are the legacies of Black men who\, during the Civil War\, donned Union blue and fought for freedom—not only for themselves\, but for generations to come. \nOver the past two years\, Bronzeville Historical Society has encouraged family historians and community members to look closely at their family trees\, to uncover the names and stories of these patriot ancestors. Already\, a few names have been shared with us: \n\n• Enos Bond\n   Nero Cooper\n• Henry Slaughter\n• James Jackson\n• Charles Griffin\n   Mack Reese\n• Zach Bell\n• James Taylor\n• John Litre\n            and more….\nThese men’s sacrifices deserve to be remembered\, honored\, and taught. That is why we are developing a special exhibit that will feature images of these soldiers alongside their biographies. This project will be a lasting tribute\, ensuring that their names live on and inspire future generations. Bronzeville Historical Society is collecting names of African American Union Soldiers of the Civil War\n\nthrough December 2025.  The names will be added to an exhibit proposed for Illinois250 programs in June 2026. \nWe now turn to you. We invite Black Chicagoans to contribute the names of their Civil War ancestors who served. Whether you have a photograph\, a document\, a family story\, or simply a name passed down through the years\, we want to include your ancestor in this historic effort. \nTogether\, we can weave a collective tapestry of remembrance—one that uplifts our community’s role in shaping the nation’s history.\nPlease send names\, stories\, or photographs to: Sherry Williams \n\nEmail: bronzevillehistoricalsociety@gmail.com\nor by mail at 4455 S. King Drive Suite 103\n\n                        Chicago\, IL 60653 \nLet us honor our Civil War heroes by making their bravery visible. Their courage made our future possible; now it is our turn to carry their memory forward.
URL:https://www.chicagoculturalalliance.org/event/african-american-civil-war-soldiers-honor-roll-call-for-names/
LOCATION:Bronzeville Historical Society\, 4455 S King Dr. - Suite 103\, Chicago\, IL\, 60653\, United States
GEO:41.8132703;-87.6158338
X-APPLE-STRUCTURED-LOCATION;VALUE=URI;X-ADDRESS=Bronzeville Historical Society 4455 S King Dr. - Suite 103 Chicago IL 60653 United States;X-APPLE-RADIUS=500;X-TITLE=4455 S King Dr. - Suite 103:geo:-87.6158338,41.8132703
END:VEVENT
BEGIN:VEVENT
DTSTART;TZID=America/Chicago:20251007T173000
DTEND;TZID=America/Chicago:20251007T193000
DTSTAMP:20260423T231734
CREATED:20250729T202116Z
LAST-MODIFIED:20250911T222221Z
UID:10008066-1759858200-1759865400@www.chicagoculturalalliance.org
SUMMARY:Get Lit: Blood Suckers
DESCRIPTION:Get Lit: Blood Suckers\n\n\n\nSink your teeth into a night of spooky fun at Get Lit: Blood Suckers. This vampire-themed event will celebrate the fanged and fearless from your favorite works of American writing. \n\n\n\nTest your knowledge of vampires in film\, tv\, books\, and more in our Bloody Bloody Trivia Challenge.\nPut on your best vampire-inspired fit for the Vampire Costume Contest.\nVisit our friends from the Horror & SciFi Prop Preservation Association (HSPPA)\, a traveling museum of screen-used and production-made props\, costumes\, and film relics.\nFlex your artistic side with vampire inspired crafts.\nGet your Halloween reads from our friend from Bucket O’ Blood Books and Records\, a Chicago store highlighting sci-fi\, fantasy\, & horror\, plus indie rock\, punk & metal records.\nEnjoy beer\, wine\, and the night’s specialty cocktail\, The Blood Bag\, a blood red drink served in a unique container. Non-alcoholic options available as well.\n\nWhether you’re a Dracula devotee\, a Buffy buff\, or a Twilgiht fanatic\, this is sure to be a BLOODY good time. \n  \n\n\nThis is 21+ event. Attendees must show a valid photo ID at the door to enter.
URL:https://www.chicagoculturalalliance.org/event/get-lit-the-case-of-the-book-club-butcher/
LOCATION:American Writers Museum\, 180 N. Michigan Ave.\, Chicago\, IL\, 60601\, United States
CATEGORIES:Exhibitions and Gallery Events
ATTACH;FMTTYPE=image/png:https://www.chicagoculturalalliance.org/wp-content/uploads/2025/07/OCT25.png
GEO:41.8855045;-87.6248892
X-APPLE-STRUCTURED-LOCATION;VALUE=URI;X-ADDRESS=American Writers Museum 180 N. Michigan Ave. Chicago IL 60601 United States;X-APPLE-RADIUS=500;X-TITLE=180 N. Michigan Ave.:geo:-87.6248892,41.8855045
END:VEVENT
BEGIN:VEVENT
DTSTART;TZID=America/Chicago:20251007T183000
DTEND;TZID=America/Chicago:20251007T193000
DTSTAMP:20260423T231734
CREATED:20251008T012800Z
LAST-MODIFIED:20251008T012800Z
UID:10009500-1759861800-1759865400@www.chicagoculturalalliance.org
SUMMARY:Bridging Worlds
DESCRIPTION:Wednesday October 29 \nDescription: Journey with us as the Ukrainian National Museum and Friends of the Gamelan weave together a rich tapestry of cultural storytelling. Vibrant music\, graceful dance\, and timeless traditions will bring Ukrainian and Indonesian heritage to life. While songs and dances are presented in their native languages\, skilled storytellers will share their meaning in English\, allowing every guest to experience the beauty\, humor\, and emotion behind each piece. This is an evening where two worlds meet in a shared celebration of art\, history\, and the connection of stories. Enjoy performances by Ukrainian and Indonesian musical groups.\n\nWhen: Wednesday\, October 29\,  6:30pm – Doors Open 6:00pm\n\nWhere: Ukrainian National Museum Main Hall 2249 W. Superior St. Chicago\, IL 60563
URL:https://www.chicagoculturalalliance.org/event/bridging-worlds/
LOCATION:Ukrainian National Museum\, 2249 W. Superior St.\, Chicago\, IL\, 60612\, United States
CATEGORIES:Music, Film, and Theater,Workshops and Classes
ATTACH;FMTTYPE=image/jpeg:https://www.chicagoculturalalliance.org/wp-content/uploads/2025/10/Bridge-for-Marko-1.jpg
ORGANIZER;CN="Friends of the Gamelan":MAILTO:info@chicagogamelan.org
GEO:41.894571;-87.684031
X-APPLE-STRUCTURED-LOCATION;VALUE=URI;X-ADDRESS=Ukrainian National Museum 2249 W. Superior St. Chicago IL 60612 United States;X-APPLE-RADIUS=500;X-TITLE=2249 W. Superior St.:geo:-87.684031,41.894571
END:VEVENT
BEGIN:VEVENT
DTSTART;VALUE=DATE:20251009
DTEND;VALUE=DATE:20251213
DTSTAMP:20260423T231734
CREATED:20250821T155809Z
LAST-MODIFIED:20250821T155949Z
UID:10008113-1759968000-1765583999@www.chicagoculturalalliance.org
SUMMARY:Daughters of Anacaona: A Groundbreaking Art Exhibition Celebrating Feminine Strength\, Resilience\, and Integrity
DESCRIPTION:The Alliance Française de Chicago\, in partnership with Partners In Health\, proudly announces the opening of Daughters of Anacaona. This groundbreaking art exhibition in celebration of feminine strength and integrity will be on display in the Alliance’s Eleanor Wood Prince Salon. \nThis compelling exhibition invites audiences to reflect on the legacy of Anacaona\, the legendary Taíno cacica (chief)\, poet\, and composer whose resistance and sacrifice symbolize the strength and dignity of Caribbean women across history. Curated by three dynamic exhibiting women artists from the Haitian diaspora—Chantal Bethel\, Véronique De Mesmaeker\, and Persida Louison—this exhibition is a convergence of ancestral memory\, historical truth\, and contemporary creative expression. Their work spans mixed media\, acrylic\, fiber\, ceramics\, and poetry. A special grand opening will be held at 6:00 p.m. Thursday\, October 9 at AF-Chicago in River North. The program will feature a moderated conversation with the artists led by Chantal Bethel and a presentation by Partners In Health\, as well as light refreshments\, drinks\, and cultural exchange. \n$10 Suggested Donation
URL:https://www.chicagoculturalalliance.org/event/daughters-of-anacaona-a-groundbreaking-art-exhibition-celebrating-feminine-strength-resilience-and-integrity/
LOCATION:Alliance Française de Chicago\, 54 West Chicago Avenue\, Chicago\, IL\, 60654\, United States
CATEGORIES:Cultural Festivals and Fairs,Exhibitions and Gallery Events,Member Events,Talks and Gatherings
ATTACH;FMTTYPE=image/png:https://www.chicagoculturalalliance.org/wp-content/uploads/2025/08/Screenshot-2025-08-21-104716.png
ORGANIZER;CN="Alliance Fran%C3%A7aise de Chicago%2C":MAILTO:wpapadopoulos@af-chicago.org
GEO:41.897108;-87.630232
X-APPLE-STRUCTURED-LOCATION;VALUE=URI;X-ADDRESS=Alliance Française de Chicago 54 West Chicago Avenue Chicago IL 60654 United States;X-APPLE-RADIUS=500;X-TITLE=54 West Chicago Avenue:geo:-87.630232,41.897108
END:VEVENT
BEGIN:VEVENT
DTSTART;TZID=America/Chicago:20251009T180000
DTEND;TZID=America/Chicago:20251009T190000
DTSTAMP:20260423T231734
CREATED:20250826T173351Z
LAST-MODIFIED:20250826T173351Z
UID:10009431-1760032800-1760036400@www.chicagoculturalalliance.org
SUMMARY:"Chicago Homes" Book Launch
DESCRIPTION:Celebrate the launch of “Chicago Homes: A Portrait of the City’s Everyday Architecture\,” the definitive guide to Chicago’s unique housing styles. \nCo-authors Carla Bruni and Phil Thompson will share entertaining and illuminating stories of why our homes and neighborhoods look the way they do during the celebration of their book launch. This beautifully illustrated book is for Chicagoans and visitors alike\, anyone who’s ever wondered how to spot a Foursquare\, or where to find pre-Fire Italianate homes\, or how two World’s Fairs revolutionized the way Chicagoans live. It chronicles the emergence of vernacular styles from the mid-1800s through the Second World War. Combining their decades of experience in historic preservation and illustration\, Bruni and Thompson have created an evergreen resource for those with an interest in Chicago history and architecture. \nTicket holders are invited to enjoy light bites and refreshments from 5-6 p.m. outside the Lecture Hall. The program begins at 6 p.m. Following the talk\, the authors will sign copies of their book\, available for purchase at the CAC Design Store in person or online.
URL:https://www.chicagoculturalalliance.org/event/chicago-homes-book-launch/
LOCATION:Chicago Architecture Center\, 111 E Wacker Dr\, Chicago\, IL\, 60601\, United States
CATEGORIES:Food and Drink,Talks and Gatherings
ATTACH;FMTTYPE=image/png:https://www.chicagoculturalalliance.org/wp-content/uploads/2025/08/Screenshot-2025-08-21-095153-1.png
ORGANIZER;CN="Chicago Architecture Center":MAILTO:info@architecture.org
GEO:41.8876241;-87.6236513
X-APPLE-STRUCTURED-LOCATION;VALUE=URI;X-ADDRESS=Chicago Architecture Center 111 E Wacker Dr Chicago IL 60601 United States;X-APPLE-RADIUS=500;X-TITLE=111 E Wacker Dr:geo:-87.6236513,41.8876241
END:VEVENT
BEGIN:VEVENT
DTSTART;TZID=America/Chicago:20251009T190000
DTEND;TZID=America/Chicago:20251009T230000
DTSTAMP:20260423T231734
CREATED:20240123T153900Z
LAST-MODIFIED:20240123T153900Z
UID:10004832-1760036400-1760050800@www.chicagoculturalalliance.org
SUMMARY:Neighborhood Nights
DESCRIPTION:Date: \nStart\nThursday\, January 11\, 2024 \nTime:  \nLocation: \nLocation\nDANK Haus\, 6th Floor Skyline Lounge \n\nenjoy a beverage with a spectacular EXPERIENCE in our haus \nA perfect place to meet your neighbors and socialize! All proceeds support the DANK Haus Museum \nWHEN\nEach 2nd & 4th Thursday of the month from 7-11 PM.  \nLocation\nWinter months – Brauhaus Room (2nd floor) \nSummer/Fall months – Skyline Lounge/Terrace (6th floor) \nSubject to change. Be sure to check elevator signs when arriving!
URL:https://www.chicagoculturalalliance.org/event/neighborhood-nights-12/2025-10-09/
LOCATION:DANK Haus German American Cultural Center\, 4740 N. Western Ave.\, Chicago\, IL\, 60625\, United States
CATEGORIES:Food and Drink
GEO:41.9680013;-87.6890642
X-APPLE-STRUCTURED-LOCATION;VALUE=URI;X-ADDRESS=DANK Haus German American Cultural Center 4740 N. Western Ave. Chicago IL 60625 United States;X-APPLE-RADIUS=500;X-TITLE=4740 N. Western Ave.:geo:-87.6890642,41.9680013
END:VEVENT
BEGIN:VEVENT
DTSTART;TZID=America/Chicago:20251010T183000
DTEND;TZID=America/Chicago:20251010T193000
DTSTAMP:20260423T231734
CREATED:20250829T182346Z
LAST-MODIFIED:20250925T114027Z
UID:10009436-1760121000-1760124600@www.chicagoculturalalliance.org
SUMMARY:Horror Writing and Religion – An American Prophets Program
DESCRIPTION:Join us for a panel discussion about religion\, spirituality\, and horror writing! \nLeading writers of horror and suspense discuss their use of religion in their work\, from magic and voodoo in Tananarive Due’s The Good House\, to historical cults in Matt Ruff’s Lovecraft Country. What frightens us so deeply about religion\, and how do different kinds of writing explore the topic? This discussion will be moderated by author Juan Martinez. \nThis program takes place at the University of Chicago Divinity School\, 1025 E 58th St\, Chicago\, IL 60637. Books will be available for purchase and the authors will sign them following the program. \nThis program is presented in conjunction with the AWM’s forthcoming special exhibit American Prophets: Writers\, Religion\, and Culture\, opening November 2025. American Prophets is supported by a grant from Lilly Endowment Inc. through its Religion and Cultural Institutions Initiative. \n\n\n\n\nAbout the authors: \nTANANARIVE DUE is an award-winning author who teaches Black Horror and Afrofuturism at UCLA. A leading voice in Black speculative fiction for more than 20 years\, Due has won an American Book Award\, an NAACP Image Award\, and a British Fantasy Award\, and her writing has been included in best-of-the-year anthologies. Her books include The Reformatory (winner of a Los Angeles Times Book Prize\, Chautauqua Prize\, Bram Stoker Award\, Shirley Jackson Award\, World Fantasy Award\, and a New York Times Notable Book)\, The Wishing Pool and Other Stories\, Ghost Summer: Stories\, My Soul to Keep\, and The Good House. She and her late mother\, civil rights activist Patricia Stephens Due\, co-authored Freedom in the Family: A Mother-Daughter Memoir of the Fight for Civil Rights. \nShe was an executive producer on Shudder’s groundbreaking documentary Horror Noire: A History of Black Horror. She and her husband/collaborator\, Steven Barnes\, wrote “A Small Town” for Season 2 of Jordan Peele’s The Twilight Zone on Paramount Plus\, and two segments of Shudder’s anthology film Horror Noire. They also co-wrote their Black Horror graphic novel The Keeper\, illustrated by Marco Finnegan. Due and Barnes co-host a podcast\, “Lifewriting: Write for Your Life!” She and her husband live with their son\, Jason. \nJUAN MARTINEZ is a writer and an associate professor of English at Northwestern University. He is the author of the horror novel Extended Stay (University of Arizona Press / Camino del Sol\, 2023) and of the story collection Best Worst American (Small Beer Press\, 2017). He is also the fiction editor for Jackleg Press. Juan lives with his family near Chicago.
URL:https://www.chicagoculturalalliance.org/event/horror-writing-and-religion-an-american-prophets-program/
LOCATION:University of Chicago Divinity School\, 1025 E 58th Street\, Chicago\, IL\, 60637\, United States
CATEGORIES:Talks and Gatherings
ATTACH;FMTTYPE=image/png:https://www.chicagoculturalalliance.org/wp-content/uploads/2025/08/Horror-Writing-and-Religion-Square.png
END:VEVENT
BEGIN:VEVENT
DTSTART;TZID=America/Chicago:20251011T103000
DTEND;TZID=America/Chicago:20251011T103000
DTSTAMP:20260423T231734
CREATED:20240123T154630Z
LAST-MODIFIED:20240129T204932Z
UID:10004979-1760178600-1760178600@www.chicagoculturalalliance.org
SUMMARY:Kino\, Kaffee und Kuchen
DESCRIPTION:Date: \nStart\nSaturday\, January 06\, 2024 \nTime:  \nLocation: \nLocation\nDANK Haus Room 206\, 2nd Floor \n\n\n \nKINO\, KAFFEE UND KUCHEN  \nSaturdays at the DANK Haus in Room 206\n10:30 – 11:00 AM | Kaffee und Kuchen \n11:00 – 12:00 PM | Vorfilm \n12:00 PM | Feature Film Begins \n  \nJoin us each Saturday at the DANK Haus in Fall\, Winter\, and Spring for Kaffee\, Kuchen\, und Kino. Each week guests will choose the film they want to watch \nDANK Members: $5 | Non-Members: $7 \n 
URL:https://www.chicagoculturalalliance.org/event/kino-kaffee-und-kuchen/2025-10-11/
LOCATION:DANK Haus German American Cultural Center\, 4740 N. Western Ave.\, Chicago\, IL\, 60625\, United States
CATEGORIES:Music, Film, and Theater
ATTACH;FMTTYPE=image/jpeg:https://www.chicagoculturalalliance.org/wp-content/uploads/2024/01/KINO-KAFFEE-UND-KUCHEN-.jpeg
GEO:41.9680013;-87.6890642
X-APPLE-STRUCTURED-LOCATION;VALUE=URI;X-ADDRESS=DANK Haus German American Cultural Center 4740 N. Western Ave. Chicago IL 60625 United States;X-APPLE-RADIUS=500;X-TITLE=4740 N. Western Ave.:geo:-87.6890642,41.9680013
END:VEVENT
BEGIN:VEVENT
DTSTART;TZID=America/Chicago:20251011T103000
DTEND;TZID=America/Chicago:20251011T143000
DTSTAMP:20260423T231734
CREATED:20240205T165426Z
LAST-MODIFIED:20240205T165426Z
UID:10005278-1760178600-1760193000@www.chicagoculturalalliance.org
SUMMARY:Puerto Rican Arts Alliance: Studio Arts Program
DESCRIPTION:El Rinconcito is a free open art space for creative expression for people ages 12-25. You can meet people like you who are interested in arts\, painting\, drawing\, printmaking\, and others. El Riconcito provides a safe and welcoming studio for art making. An artist and a counselor in the studio can guide you in creative experiences\, but you can opt to do your own artwork. \nJoin us! We provide the art supplies\, and you bring your creativity.
URL:https://www.chicagoculturalalliance.org/event/puerto-rican-arts-alliance-studio-arts-program/2025-10-11/
CATEGORIES:Workshops and Classes
ATTACH;FMTTYPE=image/png:https://www.chicagoculturalalliance.org/wp-content/uploads/2024/02/art-studio.png
END:VEVENT
BEGIN:VEVENT
DTSTART;TZID=America/Chicago:20251011T131500
DTEND;TZID=America/Chicago:20251011T141500
DTSTAMP:20260423T231734
CREATED:20240207T213717Z
LAST-MODIFIED:20240207T213717Z
UID:10005817-1760188500-1760192100@www.chicagoculturalalliance.org
SUMMARY:Constructing Jathi Choreography with Harini Nilakantan
DESCRIPTION:Weekly Saturdays\n1:15 – 2:15 PM\nHarini Nilakantan is a student of Aacharya Choodamani Guru Smt. Roja\nKannan\, and has over two decades of experience in this art form. In this 90-minute class\, dancers will learn new choreography – both how to piece together combinations and increase retention with her for advanced\nrhythmic patterns or Jathis.\nClass focus: execution\, technique\, creativity\, retention
URL:https://www.chicagoculturalalliance.org/event/constructing-jathi-choreography-with-harini-nilakantan/2025-10-11/
LOCATION:Kalapriya Studio\, 2101 S. Wabash Ave.\, Chicago\, United States
CATEGORIES:Dance
ATTACH;FMTTYPE=image/jpeg:https://www.chicagoculturalalliance.org/wp-content/uploads/2024/02/indian-dance.jpg
ORGANIZER;CN="Kalapriya Center for Indian Performing Arts":MAILTO:info@kalapriya.org
GEO:41.8541146;-87.6251552
X-APPLE-STRUCTURED-LOCATION;VALUE=URI;X-ADDRESS=Kalapriya Studio 2101 S. Wabash Ave. Chicago United States;X-APPLE-RADIUS=500;X-TITLE=2101 S. Wabash Ave.:geo:-87.6251552,41.8541146
END:VEVENT
BEGIN:VEVENT
DTSTART;TZID=America/Chicago:20251011T193000
DTEND;TZID=America/Chicago:20251011T210000
DTSTAMP:20260423T231734
CREATED:20251007T164531Z
LAST-MODIFIED:20251007T164531Z
UID:10009498-1760211000-1760216400@www.chicagoculturalalliance.org
SUMMARY:Echoes of Bollywood: Cinematic Strings and Stories
DESCRIPTION:Chicago Sinfonietta and the South Asia Institute present a special program exploring the rich world of Bollywood film music. Featuring the Chicago Sinfonietta String Quartet and scholar Rochona Majumdar\, the event combines live performance\, film clips\, and commentary to reveal the history\, meaning\, and cultural impact of these iconic scores. \nExpect a sneak peak into Sinfonietta’s upcoming performances “Bollywood & Beyond”\, a journey through both traditional and modern arrangements of beloved tunes\, fusing Bollywood vocal art with a full orchestra\, then expanding into a East-meets-West experience featuring music from China\, Taiwan\, India\, France\, and more.
URL:https://www.chicagoculturalalliance.org/event/echoes-of-bollywood-cinematic-strings-and-stories/
LOCATION:South Asia Institute\, 1925 South Michigan Avenue\, Chicago\, IL\, 60616\, United States
CATEGORIES:Music, Film, and Theater
ATTACH;FMTTYPE=image/png:https://www.chicagoculturalalliance.org/wp-content/uploads/2025/10/10-11-2025-Sinfonietta-3-website-icon-1080x1080-2.png
GEO:41.8558642;-87.6234583
X-APPLE-STRUCTURED-LOCATION;VALUE=URI;X-ADDRESS=South Asia Institute 1925 South Michigan Avenue Chicago IL 60616 United States;X-APPLE-RADIUS=500;X-TITLE=1925 South Michigan Avenue:geo:-87.6234583,41.8558642
END:VEVENT
END:VCALENDAR