BEGIN:VCALENDAR
VERSION:2.0
PRODID:-//Chicago Cultural Alliance - ECPv6.15.20//NONSGML v1.0//EN
CALSCALE:GREGORIAN
METHOD:PUBLISH
X-ORIGINAL-URL:https://www.chicagoculturalalliance.org
X-WR-CALDESC:Events for Chicago Cultural Alliance
REFRESH-INTERVAL;VALUE=DURATION:PT1H
X-Robots-Tag:noindex
X-PUBLISHED-TTL:PT1H
BEGIN:VTIMEZONE
TZID:America/Chicago
BEGIN:DAYLIGHT
TZOFFSETFROM:-0600
TZOFFSETTO:-0500
TZNAME:CDT
DTSTART:20230312T080000
END:DAYLIGHT
BEGIN:STANDARD
TZOFFSETFROM:-0500
TZOFFSETTO:-0600
TZNAME:CST
DTSTART:20231105T070000
END:STANDARD
BEGIN:DAYLIGHT
TZOFFSETFROM:-0600
TZOFFSETTO:-0500
TZNAME:CDT
DTSTART:20240310T080000
END:DAYLIGHT
BEGIN:STANDARD
TZOFFSETFROM:-0500
TZOFFSETTO:-0600
TZNAME:CST
DTSTART:20241103T070000
END:STANDARD
BEGIN:DAYLIGHT
TZOFFSETFROM:-0600
TZOFFSETTO:-0500
TZNAME:CDT
DTSTART:20250309T080000
END:DAYLIGHT
BEGIN:STANDARD
TZOFFSETFROM:-0500
TZOFFSETTO:-0600
TZNAME:CST
DTSTART:20251102T070000
END:STANDARD
END:VTIMEZONE
BEGIN:VEVENT
DTSTART;TZID=America/Chicago:20241130T080000
DTEND;TZID=America/Chicago:20241130T170000
DTSTAMP:20260422T034359
CREATED:20241017T204603Z
LAST-MODIFIED:20241017T204603Z
UID:10007298-1732953600-1732986000@www.chicagoculturalalliance.org
SUMMARY:Support | Shop | Explore 2024 SMALL BUSINESS SATURDAY—Bronzeville "Support Local\, Grow Together!"
DESCRIPTION:“Join us for the 9th Annual Small Business Saturday 🎉 in Chicago’s historic Bronzeville neighborhood! Sponsored by American Express. Discover unique local shops\, family activities\, and holiday cheer on November 30\, 2024. 3521 S. King Drive\, Chicago\, IL 60653. 8 am until 5 pm. Free rear lot parking. Support small businesses and celebrate the season with us! 🎄🛍️ \nAmerican Express Neighborhood Champion\, Absolutely Anything Essential gift shop\, along with over 20 vendors\, service providers and small business owners invite you to support\, shop and explore in Bronzeville. This event is great for the entire family\, diverse shoppers\, those who love being creative and small business supporters seeking an all in one Southside Holiday kick-off experience and showcase. \nDeemed the largest Southside Holiday themed media noted community building event\, kicks off with the invite-only V.I.P. Breakfast of Champions from 8:00 am to 10 am held inside of the historic previously noted as the Supreme Life Building\, followed by a full day of shopping and our “Love Local” Family Fun Zone with excursions from 1 pm to 4 pm sponsored by The Black Star Project. Additional Holiday fun follows with our mid-afternoon “Warm Wishes Gate and Window Walk” with free cocoa\, carolers\, live dance performances and Christmas Tree Lighting along the 35th and King Dr.\, business corridor sponsored by My Block My Hood My City\, the Bud Billiken Parade and the Defender Charities.
URL:https://www.chicagoculturalalliance.org/event/support-shop-explore-2024-small-business-saturday-bronzeville-support-local-grow-together/
LOCATION:Absolutely Anything Essential\, 3521 S. King Drive\, Chicago\, I\, 60653\, United States
ATTACH;FMTTYPE=image/jpeg:https://www.chicagoculturalalliance.org/wp-content/uploads/2024/10/SmallBusinessSaturday24-2.jpg
ORGANIZER;CN="Absolutely Anything Essential":MAILTO:absolutelyanythingessential@gmail.com
END:VEVENT
END:VCALENDAR