BEGIN:VCALENDAR
VERSION:2.0
PRODID:-//Chicago Cultural Alliance - ECPv6.15.20//NONSGML v1.0//EN
CALSCALE:GREGORIAN
METHOD:PUBLISH
X-WR-CALNAME:Chicago Cultural Alliance
X-ORIGINAL-URL:https://www.chicagoculturalalliance.org
X-WR-CALDESC:Events for Chicago Cultural Alliance
REFRESH-INTERVAL;VALUE=DURATION:PT1H
X-Robots-Tag:noindex
X-PUBLISHED-TTL:PT1H
BEGIN:VTIMEZONE
TZID:America/Chicago
BEGIN:DAYLIGHT
TZOFFSETFROM:-0600
TZOFFSETTO:-0500
TZNAME:CDT
DTSTART:20210314T080000
END:DAYLIGHT
BEGIN:STANDARD
TZOFFSETFROM:-0500
TZOFFSETTO:-0600
TZNAME:CST
DTSTART:20211107T070000
END:STANDARD
BEGIN:DAYLIGHT
TZOFFSETFROM:-0600
TZOFFSETTO:-0500
TZNAME:CDT
DTSTART:20220313T080000
END:DAYLIGHT
BEGIN:STANDARD
TZOFFSETFROM:-0500
TZOFFSETTO:-0600
TZNAME:CST
DTSTART:20221106T070000
END:STANDARD
BEGIN:DAYLIGHT
TZOFFSETFROM:-0600
TZOFFSETTO:-0500
TZNAME:CDT
DTSTART:20230312T080000
END:DAYLIGHT
BEGIN:STANDARD
TZOFFSETFROM:-0500
TZOFFSETTO:-0600
TZNAME:CST
DTSTART:20231105T070000
END:STANDARD
BEGIN:DAYLIGHT
TZOFFSETFROM:-0600
TZOFFSETTO:-0500
TZNAME:CDT
DTSTART:20240310T080000
END:DAYLIGHT
BEGIN:STANDARD
TZOFFSETFROM:-0500
TZOFFSETTO:-0600
TZNAME:CST
DTSTART:20241103T070000
END:STANDARD
END:VTIMEZONE
BEGIN:VEVENT
DTSTART;TZID=America/Chicago:20230712T180000
DTEND;TZID=America/Chicago:20230712T200000
DTSTAMP:20260421T113550
CREATED:20230706T022346Z
LAST-MODIFIED:20230706T022346Z
UID:10004230-1689184800-1689192000@www.chicagoculturalalliance.org
SUMMARY:CAMBODIAN MUSIC: The Living Tradition!
DESCRIPTION:The Crossing Borders Music String Quartet joins Nisa Pov\, roneat ak (Cambodian xylophone) performer for an amazing night of new arrangements of Cambodian classics!
URL:https://www.chicagoculturalalliance.org/event/cambodian-music-the-living-tradition/
LOCATION:Art Center Highland Park\, 1957 Sheridan Rd\, Highland Park\, IL\, United States
ATTACH;FMTTYPE=image/jpeg:https://www.chicagoculturalalliance.org/wp-content/uploads/2023/07/https-__cdn.evbuc_.com_images_517083479_471270808915_1_original.jpg
GEO:42.188135;-87.7973682
X-APPLE-STRUCTURED-LOCATION;VALUE=URI;X-ADDRESS=Art Center Highland Park 1957 Sheridan Rd Highland Park IL United States;X-APPLE-RADIUS=500;X-TITLE=1957 Sheridan Rd:geo:-87.7973682,42.188135
END:VEVENT
BEGIN:VEVENT
DTSTART;TZID=America/Chicago:20230521T140000
DTEND;TZID=America/Chicago:20230521T140000
DTSTAMP:20260421T113550
CREATED:20230512T172750Z
LAST-MODIFIED:20230512T172750Z
UID:10004002-1684677600-1684677600@www.chicagoculturalalliance.org
SUMMARY:Live: Cambodian Museum Mahori Musicians and Crossing Borders Music
DESCRIPTION:Crossing Borders Music joins the National Cambodian Heritage Museum Traditional Music Ensemble for an amazing afternoon of musical fusion! \n\n\n\nCrossing Borders Music joins the National Cambodian Heritage Museum Traditional Music Ensemble for an amazing afternoon of new arrangements of Cambodian classics! The performance includes beautiful new arrangements made by Crossing Borders Music violinist Rasa Mahmoudian and overseen by Nisa Pov for the 2021 Cambodian Day of Remembrance. Be one of the first people to ever hear this amazing fusion of Cambodian and European traditional instruments – live and in-person!
URL:https://www.chicagoculturalalliance.org/event/live-cambodian-museum-mahori-musicians-and-crossing-borders-music/
LOCATION:Global Citizenship Experience Lab School\, 9 W Washington St\, Floor 4\, Chicago\, IL\, 60602\, United States
GEO:41.8829811;-87.6284743
X-APPLE-STRUCTURED-LOCATION;VALUE=URI;X-ADDRESS=Global Citizenship Experience Lab School 9 W Washington St Floor 4 Chicago IL 60602 United States;X-APPLE-RADIUS=500;X-TITLE=9 W Washington St\, Floor 4:geo:-87.6284743,41.8829811
END:VEVENT
BEGIN:VEVENT
DTSTART;TZID=America/Chicago:20221115T193000
DTEND;TZID=America/Chicago:20221115T203000
DTSTAMP:20260421T113550
CREATED:20220824T164750Z
LAST-MODIFIED:20220824T164750Z
UID:10001703-1668540600-1668544200@www.chicagoculturalalliance.org
SUMMARY:Beyond the Headlines: Haiti in Music
DESCRIPTION:New Music Chicago presents Crossing Borders Music celebrating its first decade with a return to its first-ever program\, “Beyond the Headlines: Haiti in Music”! Featuring music highlighting Haiti’s rich history and cultural traditions\, the Haitian diaspora\, and the accomplishments of its young artists\, this program remains as relevant as ever! \nView the concert online at their Facebook page.\nPictured: a poster for “Beyond the Headlines: Haiti in Music” from 2012. \n 
URL:https://www.chicagoculturalalliance.org/event/beyond-the-headlines-haiti-in-music/
LOCATION:Online Event
CATEGORIES:Music, Film, and Theater,Online Events
ATTACH;FMTTYPE=image/jpeg:https://www.chicagoculturalalliance.org/wp-content/uploads/2022/08/beyond-the-headlines.jpeg
END:VEVENT
BEGIN:VEVENT
DTSTART;TZID=America/Chicago:20221016T130000
DTEND;TZID=America/Chicago:20221016T180000
DTSTAMP:20260421T113550
CREATED:20220920T173845Z
LAST-MODIFIED:20220927T145133Z
UID:10001772-1665925200-1665943200@www.chicagoculturalalliance.org
SUMMARY:Journey Chicago: We Walk: A Celebration of Black Community
DESCRIPTION:This event is part of Journey Chicago\, the Chicago Cultural Alliance’s annual citywide festival of cross-cultural events. \nThe Haitian American Museum of Chicago will bring its outdoor\, community\, traveling exhibition to North Lawndale for the second year in the row. We Walk: A Celebration of Black Community\, was originally organized in 2020\, in the Uptown neighborhood\, in direct response to the Black Lives Matter protests and the disproportionate effect of the Covid-19 Pandemic on the Black community. The primary collaborators of the exhibition came from the African-American and Black Diasporic communities\, including BILPOC (Black\, Indigenous\, Latinx\, People of Color) led organizations\, immigrant groups\, small business owners\, local historians\, cultural experts\, artists and activists. The exhibition is an empowering cultural outlet that highlights positive Black contributions.\n\nCrossing Borders Music will perform at 1PM.\n\nHAMOC is collaborating with Crossing Borders Music\, Lawndale Pop Up Spot\, the Department of Cultural Affairs and Special Events (DCASE) and Chicago Department of Transportation (CDOT) to expand on the exhibition and transform it into a festival-like event.
URL:https://www.chicagoculturalalliance.org/event/journey-chicago-we-walk-a-celebration-of-black-community/
LOCATION:Douglas Boulevard and Central Park Ave\, W Douglas Blvd & Central Park Ave\, Chicago\, 60623
CATEGORIES:Alliance Events,Cultural Festivals and Fairs
ATTACH;FMTTYPE=image/png:https://www.chicagoculturalalliance.org/wp-content/uploads/2021/08/JourneyChicagoLogo-05.png
GEO:41.862852;-87.7153139
X-APPLE-STRUCTURED-LOCATION;VALUE=URI;X-ADDRESS=Douglas Boulevard and Central Park Ave W Douglas Blvd & Central Park Ave Chicago 60623;X-APPLE-RADIUS=500;X-TITLE=W Douglas Blvd & Central Park Ave:geo:-87.7153139,41.862852
END:VEVENT
BEGIN:VEVENT
DTSTART;TZID=America/Chicago:20220911T120000
DTEND;TZID=America/Chicago:20220911T170000
DTSTAMP:20260421T113550
CREATED:20220809T185332Z
LAST-MODIFIED:20220809T185332Z
UID:10001682-1662897600-1662915600@www.chicagoculturalalliance.org
SUMMARY:We Walk: A Celebration of Black Community
DESCRIPTION:Join the Haitian American Museum of Chicago (HAMOC) and Crossing Borders Music for the one-day outdoor exhibition We Walk: A Celebration of Black Community.\nThis community exhibition highlights the excellence and contributions of Black America in the local community and beyond. Featuring exhibits on Black artists\, history\, food\, and more!\nPlus\, a LIVE Crossing Borders Music concert of music by Black composers at 2PM with guest artist Kailie Holliday\, featuring music commissioned for this program by The Honourable Elizabeth A Baker\, Jessica T Carter\, and Jordyn Davis in honor of Juneteenth and the ongoing African-American journey from slavery to justice.\nFree and open to the public! Stroll through the exhibition with us!\nTaking place at Dawes Park east of Sheridan Rd between Lake Street and Greenwood St (around 1413 Sheridan Rd)\, Evanston\, IL\n“We Walk: A Celebration of Black Community” is a program created in 2020 by the Haitian American Museum of Chicago (HAMOC) who invited Crossing Borders Music’s participation in this ongoing\, uplifting project.\nThis project is partially supported by a grant from the Evanston Arts Council\, an agency supported by the City of Evanston\, Illinois Arts Council Agency\, and the National Endowment for the Arts. This project is partially supported by a grant from the National Endowment for the Arts\, the MacArthur Funds for Culture\, Equity\, and the Arts at the Richard H. Driehaus Foundation\, and the Paul M Angell Family Foundation. Crossing Borders Music acknowledges the support of the Illinois Arts Council Agency.\nPictured: At 2021’s “We Walk” in Dawes Park\, Dr. Cranston Knight speaks with passers-by at an exhibit on Black internationalism. Photo credit Carlos Bossard
URL:https://www.chicagoculturalalliance.org/event/we-walk-a-celebration-of-black-community/
LOCATION:Dawes Park\, 1700 N Sheridan Rd\, Evanston\, IL\, United States
CATEGORIES:Food and Drink,Member Events,Music, Film, and Theater
ATTACH;FMTTYPE=image/jpeg:https://www.chicagoculturalalliance.org/wp-content/uploads/2022/08/296345765_5634184029949483_2157434028689162354_n.jpg
GEO:41.9330633;-87.6397792
X-APPLE-STRUCTURED-LOCATION;VALUE=URI;X-ADDRESS=Dawes Park 1700 N Sheridan Rd Evanston IL United States;X-APPLE-RADIUS=500;X-TITLE=1700 N Sheridan Rd:geo:-87.6397792,41.9330633
END:VEVENT
BEGIN:VEVENT
DTSTART;TZID=America/Chicago:20220621T113000
DTEND;TZID=America/Chicago:20220621T124500
DTSTAMP:20260421T113550
CREATED:20220614T201101Z
LAST-MODIFIED:20220614T201720Z
UID:10001560-1655811000-1655815500@www.chicagoculturalalliance.org
SUMMARY:Celebrating Juneteenth! at Buttercup Park
DESCRIPTION:Be one of the first people to ever hear the healing breaths and sounds of “this is a notice” by the incredible artist The Honourable Elizabeth A Baker\, commissioned by Crossing Borders Music in celebration of Juneteenth! Plus\, Crossing Borders Music will be joined by young artist and special guest cellist Kailie Holliday! And\, we’ve chosen lots of our old favorite tunes\, just for you! See you in Uptown! \nThis Night Out in the Parks/Make Music Chicago program is FREE and open to EVERYONE!\nThis program is a part of the Chicago Park District’s Night Out in the Parks.\nCelebrating 10 years\, Night Out in the Parks activates parks across the city with robust cultural events – bringing neighbors together to laugh\, dance\, sing\, and engage. \nThis program made possible in part by a grant from the National Endowment for the Arts\, by the Paul M Angell Family Foundation\, and by the City of Chicago’s Department of Cultural Affairs and Special Events. Crossing Borders Music acknowledges support from the Illinois Arts Council Agency.
URL:https://www.chicagoculturalalliance.org/event/celebrating-juneteenth-at-buttercup-park/
LOCATION:Buttercup Park\, 4901 N Sheridan Rd\, Chicago\, IL\, 60640\, United States
CATEGORIES:Member Events,Music, Film, and Theater
ATTACH;FMTTYPE=image/jpeg:https://www.chicagoculturalalliance.org/wp-content/uploads/2022/06/284649830_5436723046362250_7132845484476910381_n.jpg
GEO:41.9721536;-87.6545678
X-APPLE-STRUCTURED-LOCATION;VALUE=URI;X-ADDRESS=Buttercup Park 4901 N Sheridan Rd Chicago IL 60640 United States;X-APPLE-RADIUS=500;X-TITLE=4901 N Sheridan Rd:geo:-87.6545678,41.9721536
END:VEVENT
BEGIN:VEVENT
DTSTART;TZID=America/Chicago:20220617T150000
DTEND;TZID=America/Chicago:20220617T161500
DTSTAMP:20260421T113550
CREATED:20220614T201626Z
LAST-MODIFIED:20220614T201626Z
UID:10001561-1655478000-1655482500@www.chicagoculturalalliance.org
SUMMARY:From Slavery to Justice: the Ongoing Journey
DESCRIPTION:“From Slavery to Justice: the Ongoing Journey” uses music to tell stories of African-American liberation. To celebrate Juneteenth\, a historic date that commemorates the emancipation of enslaved people\, Crossing Borders Music commissioned new music of The Honourable Elizabeth A. Baker\, Jordyn Davis\, and Jessica T. Carter. \nBe one of the first people to hear their amazing works! The program will also include “Lead Me Home” by Brittany J. Green based on the hymn “Precious Lord” famously sung by Mahalia Jackson\, and the 2021 revised version of String Quartet No. 1 by AJ Isaacson-Zvidzwa. The program will be the subject of a short documentary by Chicago filmmaker Rubye Lane\, and is the brainchild of Crossing Borders Music board member and Strategic Planning Committee Chair Marjorie Adam Clark\, who is also co-chair of the Forest Park Juneteenth Committee and Illinois Juneteenth Committee. Juneteenth\, Marjorie says\, is “a holiday of racial healing.”\nView the event on the library website at http://skokielibrary.info/…/the-ongoing-journey-from… \nThis program is presented by the Skokie Public Library. The program is supported in part by a grant from the National Endowment for the Arts.\nThis program is made possible in part by the Paul M Angell Family Foundation.\nCrossing Borders Music acknowledges support from the Illinois Arts Council Agency. \n 
URL:https://www.chicagoculturalalliance.org/event/from-slavery-to-justice-the-ongoing-journey/
LOCATION:Skokie Public Library\, 5215 Oakton St\, Skokie\, IL\, United States
CATEGORIES:Member Events,Music, Film, and Theater
ATTACH;FMTTYPE=image/jpeg:https://www.chicagoculturalalliance.org/wp-content/uploads/2022/06/283990271_5439244672776754_6916953433528315865_n.jpg
GEO:42.0257452;-87.7581893
X-APPLE-STRUCTURED-LOCATION;VALUE=URI;X-ADDRESS=Skokie Public Library 5215 Oakton St Skokie IL United States;X-APPLE-RADIUS=500;X-TITLE=5215 Oakton St:geo:-87.7581893,42.0257452
END:VEVENT
BEGIN:VEVENT
DTSTART;TZID=America/Chicago:20220612T130000
DTEND;TZID=America/Chicago:20220612T143000
DTSTAMP:20260421T113550
CREATED:20220314T224637Z
LAST-MODIFIED:20220509T173449Z
UID:10001403-1655038800-1655044200@www.chicagoculturalalliance.org
SUMMARY:Composers with Disabilities and Momenta Dance!
DESCRIPTION:Join us to revel in the beautiful music of composers with disabilities! This unique program features the world premiere performance of Rylan Gleave’s piano quintet “Boyh (bringer of your hair)” alongside world premiere choreography by Julia Cox\, danced by Robby Williams and Connor Cornelius of Momenta Dance Company! In addition to these commissioned works\, the program includes works selected from an international call for submissions for music creators with disabilities!\nThis event will be broadcast live on the Crossing Borders Music Facebook and YouTube channels.\nMomenta Dance Company cultivates and presents repertory and contemporary dance works that strive to educate\, innovate and amplify the artistry of students and professionals\, inclusive of artists with disabilities.\nFeaturing Marianne Parker; piano; Rasa Mahmoudian and Jennifer Leckie\, violins; Seth Van Embden\, viola; and Tom Clowes\, cello; with special thanks to Thavary Krouch for her technical support.\nThis program is made possible in part by the Paul M Angell Family Foundation and City of Chicago’s Department of Cultural Affairs and Special Events.\nCrossing Borders Music acknowledges support from the Illinois Arts Council Agency.\nWe recognize that some artists in this program prefer identity-first language (“disabled artists”)\, while others prefer person-first language (“artists with disabilities”).\nImage Description: Dancer Robby Williams on a dark stage in front of a black curtain leans backwards with his head turned left while reaching his arm to the back of the left wheel of the manual wheelchair he’s using. Photo credit Momenta Dance.
URL:https://www.chicagoculturalalliance.org/event/composers-with-disabilities-and-momenta-dance/
LOCATION:Online Event
CATEGORIES:Music, Film, and Theater,Online Events
ATTACH;FMTTYPE=image/jpeg:https://www.chicagoculturalalliance.org/wp-content/uploads/2022/03/composers-with-disabilities.jpeg
END:VEVENT
BEGIN:VEVENT
DTSTART;TZID=America/Chicago:20220511T123000
DTEND;TZID=America/Chicago:20220511T133000
DTSTAMP:20260421T113550
CREATED:20220314T224424Z
LAST-MODIFIED:20220414T190435Z
UID:10001402-1652272200-1652275800@www.chicagoculturalalliance.org
SUMMARY:Streamable Learning: Cambodian Music: The Living Tradition
DESCRIPTION:In partnership with the National Cambodian Heritage Museum and Killing Fields Memorial and its Resident Artist Punisa Pov\, Crossing Borders Music shares a program of newly arranged Cambodian songs\, through which we’ll learn about Cambodian history\, culture\, and the rich\, living tradition of Cambodian arts and music.\nThis educational livestream is for grades 6-12 students and teachers and open to all Chicago Public Schools teachers and students plus other Streamable Learning subscribers\, and registration is required.
URL:https://www.chicagoculturalalliance.org/event/streamable-learning-cambodian-music-the-living-tradition/
LOCATION:Online Event
CATEGORIES:Music, Film, and Theater,Online Events
ATTACH;FMTTYPE=image/jpeg:https://www.chicagoculturalalliance.org/wp-content/uploads/2022/03/cambodian-streamable-learning.jpeg
END:VEVENT
BEGIN:VEVENT
DTSTART;TZID=America/Chicago:20220327T080000
DTEND;TZID=America/Chicago:20220327T093000
DTSTAMP:20260421T113550
CREATED:20220314T223751Z
LAST-MODIFIED:20220314T223751Z
UID:10001400-1648368000-1648373400@www.chicagoculturalalliance.org
SUMMARY:Voices of the Proud: LGBT+ Composers
DESCRIPTION:On the Sunday before Transgender Day of Visibility\, join us to celebrate LGBT+ culture with “Voices of the Proud: LGBT+ Composers”! The program features the beauty\, love\, grief\, playfulness\, creativity\, and pride of music by LGBT+ artists chosen from a call for submissions.\nThis event will be broadcast live on the Crossing Borders Music Facebook and YouTube channels.\nEnjoy Xenia St. Charles Gilbert’s “How to Spot a Trans Woman According to My Neurosurgeon\,” performed brilliantly by violist Seth Van Embden\, along with the clever wordplay of a voiceover by the composer herself!\nTony Doubek’s “Mind Over Matter” is his own\, brand new arrangement of the final movement what he calls his “3 movement piece depicting my experience living with Bipolar II” from his “collection of intensely personal pieces.” It is stunning\, intensely beautiful\, and hopeful.\nFrida V. de la Sota’s “elegía de una pandemia” captures the stillness\, mourning\, and grief of the almost universal sense of loss during the pandemic.\nThe livestream will share the world premiere of Rylan Gleave’s “biomimicry” for piano quintet. Rylan took the idea of biomimicry\, which he calls “the emulation of natural elements\, for the purpose of solving complex human problems” and asks\, “What if we apply this idea to music?”\nEthan Soledad’s lush and romantic “In effect it is this: that I love you” was “inspired by a love letter written by renowned WWI poet Wilfred Owen to his colonel\, mentor\, and fellow poet Siegfried Sassoon. Both literary legends were known for their raw depictions of the war in their poetry with Sassoon serving as a major influence to Owen’s own work. Both were also closeted homosexuals in a time and place where it was criminalized. Even so\, the incredible bond the two formed during their time together is so evident in the unrelenting love and admiration that Owen exemplifies in this letter.”\nMiguel del Aguila’s exciting and wild “Tamboreño” is a pandemic creation inspired by carnival parades in Miguel’s home town in Uruguay\, with electric musical energy!\nLeland Harris’s “In the Outside: Queer Dances” finds authentic joy in its playful rhythms!\nFeaturing Marianne Parker; piano; Jennifer Leckie and Rasa Mahmoudian\, violins; Seth Van Embden\, viola; and Tom Clowes\, cello; Aidan Kranz\, cinematography; with special thanks to Thavary Krouch for her technical support.\nThis program is made possible in part by the Paul M Angell Family Foundation and City of Chicago’s Department of Cultural Affairs and Special Events.\nCrossing Borders Music acknowledges support from the Illinois Arts Council Agency.\nPictured: composer Ethan Gonzalez Soledad\, sitting outside on a bench in a white button-down shirt and dark pants\, posing with a hand behind his head. Photo credit Freddy Velasquez
URL:https://www.chicagoculturalalliance.org/event/voices-of-the-proud-lgbt-composers/
LOCATION:Online Event
CATEGORIES:Music, Film, and Theater,Online Events
ATTACH;FMTTYPE=image/jpeg:https://www.chicagoculturalalliance.org/wp-content/uploads/2022/03/voices-of-the-proud.jpeg
END:VEVENT
BEGIN:VEVENT
DTSTART;TZID=America/Chicago:20220207T133000
DTEND;TZID=America/Chicago:20220207T153000
DTSTAMP:20260421T113550
CREATED:20220107T031047Z
LAST-MODIFIED:20220120T014418Z
UID:10001269-1644240600-1644247800@www.chicagoculturalalliance.org
SUMMARY:First Blacks Chicago Concert
DESCRIPTION:  \nMon\, Feb 7\, 2022\, 7:30 PM CST \nUsing music as a lens to celebrate Black History\, Crossing Borders Music Collective presents works honoring the legacies of four black Chicago trailblazers: Chicago’s Haitian founder\, Jean Baptiste Pointe du Sable; Chicago’s first black mayor\, Harold Washington; the first black president of the United States\, Barack Obama; and Chicago’s first black female mayor\, Lori Lightfoot. Performing music that was commissioned especially for this program\, the musicians will use both live music and visual art to tell the stories of these important figures. \nAttend this concert in-person or watch it online! Simply choose your preference when purchasing your ticket. \n$10-$20\nPURCHASE TICKETS HERE: https://www.eventbrite.com/e/first-blacks-chicago-tickets-168277842557
URL:https://www.chicagoculturalalliance.org/event/first-blacks-chicago-concert/
LOCATION:First Congregational Church of Dundee\, 900 South 8th Street\, West Dundee\, IL\, 60118\, United States
CATEGORIES:Member Events,Music, Film, and Theater
ATTACH;FMTTYPE=image/jpeg:https://www.chicagoculturalalliance.org/wp-content/uploads/2022/01/first-blacks-chicago-concert.jpeg
GEO:42.0882879;-88.2904369
X-APPLE-STRUCTURED-LOCATION;VALUE=URI;X-ADDRESS=First Congregational Church of Dundee 900 South 8th Street West Dundee IL 60118 United States;X-APPLE-RADIUS=500;X-TITLE=900 South 8th Street:geo:-88.2904369,42.0882879
END:VEVENT
END:VCALENDAR