BEGIN:VCALENDAR
VERSION:2.0
PRODID:-//Chicago Cultural Alliance - ECPv6.15.20//NONSGML v1.0//EN
CALSCALE:GREGORIAN
METHOD:PUBLISH
X-ORIGINAL-URL:https://www.chicagoculturalalliance.org
X-WR-CALDESC:Events for Chicago Cultural Alliance
REFRESH-INTERVAL;VALUE=DURATION:PT1H
X-Robots-Tag:noindex
X-PUBLISHED-TTL:PT1H
BEGIN:VTIMEZONE
TZID:America/Chicago
BEGIN:DAYLIGHT
TZOFFSETFROM:-0600
TZOFFSETTO:-0500
TZNAME:CDT
DTSTART:20210314T080000
END:DAYLIGHT
BEGIN:STANDARD
TZOFFSETFROM:-0500
TZOFFSETTO:-0600
TZNAME:CST
DTSTART:20211107T070000
END:STANDARD
BEGIN:DAYLIGHT
TZOFFSETFROM:-0600
TZOFFSETTO:-0500
TZNAME:CDT
DTSTART:20220313T080000
END:DAYLIGHT
BEGIN:STANDARD
TZOFFSETFROM:-0500
TZOFFSETTO:-0600
TZNAME:CST
DTSTART:20221106T070000
END:STANDARD
BEGIN:DAYLIGHT
TZOFFSETFROM:-0600
TZOFFSETTO:-0500
TZNAME:CDT
DTSTART:20230312T080000
END:DAYLIGHT
BEGIN:STANDARD
TZOFFSETFROM:-0500
TZOFFSETTO:-0600
TZNAME:CST
DTSTART:20231105T070000
END:STANDARD
END:VTIMEZONE
BEGIN:VEVENT
DTSTART;TZID=America/Chicago:20220718T190000
DTEND;TZID=America/Chicago:20220718T203000
DTSTAMP:20260423T091358
CREATED:20220621T202553Z
LAST-MODIFIED:20220621T202553Z
UID:10001579-1658170800-1658176200@www.chicagoculturalalliance.org
SUMMARY:The Sweetest Season: Indigenous Spoken Word and Song
DESCRIPTION:Since time immemorial\, Chicago has been a meeting place for Native peoples. With words of wisdom\, stories\, and histories old and new\, we expand traditions of performance with an evening of music\, dance\, and spoken word\, featuring local artists in a program curated by Vincent Romero (Laguna Pueblo).
URL:https://www.chicagoculturalalliance.org/event/the-sweetest-season-indigenous-spoken-word-and-song/
LOCATION:Goodman Theatre\, 170 N Dearborn St\, Chicago\, IL\, 60601\, United States
CATEGORIES:Member Events,Music, Film, and Theater
ATTACH;FMTTYPE=image/jpeg:https://www.chicagoculturalalliance.org/wp-content/uploads/2022/06/2122_Sweetest_Web_900x600.jpg
GEO:41.8851191;-87.6297396
X-APPLE-STRUCTURED-LOCATION;VALUE=URI;X-ADDRESS=Goodman Theatre 170 N Dearborn St Chicago IL 60601 United States;X-APPLE-RADIUS=500;X-TITLE=170 N Dearborn St:geo:-87.6297396,41.8851191
END:VEVENT
END:VCALENDAR