BEGIN:VCALENDAR
VERSION:2.0
PRODID:-//Chicago Cultural Alliance - ECPv6.15.20//NONSGML v1.0//EN
CALSCALE:GREGORIAN
METHOD:PUBLISH
X-WR-CALNAME:Chicago Cultural Alliance
X-ORIGINAL-URL:https://www.chicagoculturalalliance.org
X-WR-CALDESC:Events for Chicago Cultural Alliance
REFRESH-INTERVAL;VALUE=DURATION:PT1H
X-Robots-Tag:noindex
X-PUBLISHED-TTL:PT1H
BEGIN:VTIMEZONE
TZID:America/Chicago
BEGIN:DAYLIGHT
TZOFFSETFROM:-0600
TZOFFSETTO:-0500
TZNAME:CDT
DTSTART:20220313T080000
END:DAYLIGHT
BEGIN:STANDARD
TZOFFSETFROM:-0500
TZOFFSETTO:-0600
TZNAME:CST
DTSTART:20221106T070000
END:STANDARD
BEGIN:DAYLIGHT
TZOFFSETFROM:-0600
TZOFFSETTO:-0500
TZNAME:CDT
DTSTART:20230312T080000
END:DAYLIGHT
BEGIN:STANDARD
TZOFFSETFROM:-0500
TZOFFSETTO:-0600
TZNAME:CST
DTSTART:20231105T070000
END:STANDARD
BEGIN:DAYLIGHT
TZOFFSETFROM:-0600
TZOFFSETTO:-0500
TZNAME:CDT
DTSTART:20240310T080000
END:DAYLIGHT
BEGIN:STANDARD
TZOFFSETFROM:-0500
TZOFFSETTO:-0600
TZNAME:CST
DTSTART:20241103T070000
END:STANDARD
BEGIN:DAYLIGHT
TZOFFSETFROM:-0600
TZOFFSETTO:-0500
TZNAME:CDT
DTSTART:20250309T080000
END:DAYLIGHT
BEGIN:STANDARD
TZOFFSETFROM:-0500
TZOFFSETTO:-0600
TZNAME:CST
DTSTART:20251102T070000
END:STANDARD
END:VTIMEZONE
BEGIN:VEVENT
DTSTART;TZID=America/Chicago:20240413T160000
DTEND;TZID=America/Chicago:20240413T170000
DTSTAMP:20260422T085404
CREATED:20240405T191907Z
LAST-MODIFIED:20240405T191923Z
UID:10006271-1713024000-1713027600@www.chicagoculturalalliance.org
SUMMARY:Fresh Legacies: A Conversation with Joel Hall Dance Center
DESCRIPTION:How did the Joel Hall Dancers get their start? What’s their future? How do you keep a Chicago legacy fresh and vibrant – while championing new visions and growth? \nJoin Co-Founder and Artistic Director Emeritus Joel Hall and Interim Artistic Director William Gill in conversation with Nicole Clarke-Springer\, artistic director for Deeply Rooted Dance Theatre\, at the Newberry Library on Saturday\, April 13. Part of the 50th Anniversary events for Joel Hall Dancers & Center\, this conversation closes a day of inspiring dance education and the WERKQ that distinguishes Joel Hall Dancers & Center as a dance pioneer in Chicago. \nPresented in partnership with the Newberry Library and the Ruth Page Center for the Arts. Special thanks to the Chicago Dance History Project. \n50th Anniversary events for Joel Hall Dancers & Center are supported by the National Endowment for the Arts. We are grateful to them – and all of our supporters. Learn how YOU can help support the next half-century of electrifying Urban Jazz dance.
URL:https://www.chicagoculturalalliance.org/event/fresh-legacies-a-conversation-with-joel-hall-dancers-center/
LOCATION:Newberry Library\, 60 West Walton Street\, Chicago\, IL\, 60610\, United States
CATEGORIES:Dance,Talks and Gatherings
ATTACH;FMTTYPE=image/png:https://www.chicagoculturalalliance.org/wp-content/uploads/2024/04/032824_Fresh-Legacies-Tile.png
GEO:41.9000052;-87.630131
X-APPLE-STRUCTURED-LOCATION;VALUE=URI;X-ADDRESS=Newberry Library 60 West Walton Street Chicago IL 60610 United States;X-APPLE-RADIUS=500;X-TITLE=60 West Walton Street:geo:-87.630131,41.9000052
END:VEVENT
BEGIN:VEVENT
DTSTART;TZID=America/Chicago:20240413T120000
DTEND;TZID=America/Chicago:20240413T150000
DTSTAMP:20260422T085404
CREATED:20240402T210304Z
LAST-MODIFIED:20240402T210304Z
UID:10006270-1713009600-1713020400@www.chicagoculturalalliance.org
SUMMARY:Urban Jazz Day: Joel Hall @ Ruth Page
DESCRIPTION:Join members of the Joel Hall Dancers & Center family at the Ruth Page Center for the Arts for FREE classes in the signature style of the Joel Hall Dancers\, Urban Jazz. Part of our 50th Anniversary celebration activities\, join us and experience some of the WERKQ that makes Joel Hall Dancers & Center unique in Chicago. \n\nFrom Noon – 1:30 PM\, join First Company Member Melissa Metro in a FREE open-level Urban Jazz class\, the signature style of the Joel Hall Dancers. Reserve your spot\, today!\nFrom 1:30 – 3 PM\, join Co-Founder and Artistic Director Emeritus Joel Hall for 90-minutes of his Breathing Floor WERKQ Barre technique. Reserve your spot\, today!\n\nThese classes are generously supported by the Ruth Page Center for the Arts and the National Endowment for the Arts. We are grateful for their generosity – and the generosity of all our supporters! Learn how YOU can support Joel Hall Dancers & Center as it begins another fifty years of electrifying Chicago and the nation with Urban Jazz.
URL:https://www.chicagoculturalalliance.org/event/urban-jazz-day-joel-hall-ruth-page/
LOCATION:Ruth Page Center for the Arts\, 1016 N. Dearborn St\, Chicago\, 60610
CATEGORIES:Music, Film, and Theater
ATTACH;FMTTYPE=image/png:https://www.chicagoculturalalliance.org/wp-content/uploads/2024/04/032824_Ruth-Page-Open-Classes.png
END:VEVENT
BEGIN:VEVENT
DTSTART;TZID=America/Chicago:20230924T120000
DTEND;TZID=America/Chicago:20230924T180000
DTSTAMP:20260422T085404
CREATED:20230831T204010Z
LAST-MODIFIED:20230831T204010Z
UID:10004398-1695556800-1695578400@www.chicagoculturalalliance.org
SUMMARY:Chicago Live! 2023
DESCRIPTION:Celebrating Chicago’s vibrant arts and cultural community\, more than 80 artists and organizations will perform in back-to-back performances\, Pier-wide\, across three stages.
URL:https://www.chicagoculturalalliance.org/event/chicago-live-2023/2023-09-24/
LOCATION:Navy Pier\, 600 East Grand Avenue\, Chicago\, IL\, 60611\, United States
GEO:41.8917065;-87.6084807
X-APPLE-STRUCTURED-LOCATION;VALUE=URI;X-ADDRESS=Navy Pier 600 East Grand Avenue Chicago IL 60611 United States;X-APPLE-RADIUS=500;X-TITLE=600 East Grand Avenue:geo:-87.6084807,41.8917065
END:VEVENT
BEGIN:VEVENT
DTSTART;TZID=America/Chicago:20230923T120000
DTEND;TZID=America/Chicago:20230923T210000
DTSTAMP:20260422T085404
CREATED:20230831T204010Z
LAST-MODIFIED:20230831T204010Z
UID:10004397-1695470400-1695502800@www.chicagoculturalalliance.org
SUMMARY:Chicago Live! 2023
DESCRIPTION:Celebrating Chicago’s vibrant arts and cultural community\, more than 80 artists and organizations will perform in back-to-back performances\, Pier-wide\, across three stages.
URL:https://www.chicagoculturalalliance.org/event/chicago-live-2023/2023-09-23/
LOCATION:Navy Pier\, 600 East Grand Avenue\, Chicago\, IL\, 60611\, United States
GEO:41.8917065;-87.6084807
X-APPLE-STRUCTURED-LOCATION;VALUE=URI;X-ADDRESS=Navy Pier 600 East Grand Avenue Chicago IL 60611 United States;X-APPLE-RADIUS=500;X-TITLE=600 East Grand Avenue:geo:-87.6084807,41.8917065
END:VEVENT
BEGIN:VEVENT
DTSTART;TZID=America/Chicago:20230910T110000
DTEND;TZID=America/Chicago:20230910T130000
DTSTAMP:20260422T085404
CREATED:20230907T160720Z
LAST-MODIFIED:20230907T160720Z
UID:10004426-1694343600-1694350800@www.chicagoculturalalliance.org
SUMMARY:Urban Jazz with Melissa Metro
DESCRIPTION:Joel Hall Dancer Melissa Metro will lead introductory classes in Urban Jazz\, uniquely Chicago Jazz Dance technique.
URL:https://www.chicagoculturalalliance.org/event/urban-jazz-with-melissa-metro/
LOCATION:Mayfair Arts Center\, 8701 S. Bennett Ave.\, Chicago\, United States
ATTACH;FMTTYPE=image/png:https://www.chicagoculturalalliance.org/wp-content/uploads/2023/09/unnamed.png
GEO:41.7368296;-87.5777455
X-APPLE-STRUCTURED-LOCATION;VALUE=URI;X-ADDRESS=Mayfair Arts Center 8701 S. Bennett Ave. Chicago United States;X-APPLE-RADIUS=500;X-TITLE=8701 S. Bennett Ave.:geo:-87.5777455,41.7368296
END:VEVENT
END:VCALENDAR