BEGIN:VCALENDAR
VERSION:2.0
PRODID:-//Chicago Cultural Alliance - ECPv6.15.20//NONSGML v1.0//EN
CALSCALE:GREGORIAN
METHOD:PUBLISH
X-WR-CALNAME:Chicago Cultural Alliance
X-ORIGINAL-URL:https://www.chicagoculturalalliance.org
X-WR-CALDESC:Events for Chicago Cultural Alliance
REFRESH-INTERVAL;VALUE=DURATION:PT1H
X-Robots-Tag:noindex
X-PUBLISHED-TTL:PT1H
BEGIN:VTIMEZONE
TZID:America/Chicago
BEGIN:DAYLIGHT
TZOFFSETFROM:-0600
TZOFFSETTO:-0500
TZNAME:CDT
DTSTART:20220313T080000
END:DAYLIGHT
BEGIN:STANDARD
TZOFFSETFROM:-0500
TZOFFSETTO:-0600
TZNAME:CST
DTSTART:20221106T070000
END:STANDARD
BEGIN:DAYLIGHT
TZOFFSETFROM:-0600
TZOFFSETTO:-0500
TZNAME:CDT
DTSTART:20230312T080000
END:DAYLIGHT
BEGIN:STANDARD
TZOFFSETFROM:-0500
TZOFFSETTO:-0600
TZNAME:CST
DTSTART:20231105T070000
END:STANDARD
BEGIN:DAYLIGHT
TZOFFSETFROM:-0600
TZOFFSETTO:-0500
TZNAME:CDT
DTSTART:20240310T080000
END:DAYLIGHT
BEGIN:STANDARD
TZOFFSETFROM:-0500
TZOFFSETTO:-0600
TZNAME:CST
DTSTART:20241103T070000
END:STANDARD
END:VTIMEZONE
BEGIN:VEVENT
DTSTART;TZID=America/Chicago:20230214T190000
DTEND;TZID=America/Chicago:20230214T190000
DTSTAMP:20260422T085350
CREATED:20230206T153144Z
LAST-MODIFIED:20230206T153144Z
UID:10003240-1676401200-1676401200@www.chicagoculturalalliance.org
SUMMARY:Kaoru Watanabe: Incense
DESCRIPTION:The Music Program’s artist-in-residence for the spring 2023 semester\, Kaoru Watanabe\, will present a recital with special guest Angel Bat Dawid. \nThe solo performance features taiko drums\, shinobue flutes\, and vocals\, mixed with electronic loops and samples as Watanabe explores the dual uses and meanings of the piece’s title—burning and calming\, smoldering and healing\, provocation and release—as they relate to personal ritual\, social conflict and rising above the tumultuous moment. Developed during the pandemic and premiered live at Joe’s Pub in NYC\, Watanabe has since performed the work at Dartmouth College\, Lincoln Center\, as well as excerpts of the project at Hirshorn Museum\, Centre Musique de Monde in Montreal\, Antenna Cloud Farm in Gil\, MA and elsewhere. \nTo read more about this performance\, please visit Kaoru Watanabe’s website. \nTo read more about Angel Bat Dawid\, please view Dawid’s bio and music.
URL:https://www.chicagoculturalalliance.org/event/kaoru-watanabe-incense/
LOCATION:Skowronski Music Hall\, 1020 W Sheridan Rd\, Chicago\, IL\, 60660\, United States
GEO:41.9986947;-87.6566156
X-APPLE-STRUCTURED-LOCATION;VALUE=URI;X-ADDRESS=Skowronski Music Hall 1020 W Sheridan Rd Chicago IL 60660 United States;X-APPLE-RADIUS=500;X-TITLE=1020 W Sheridan Rd:geo:-87.6566156,41.9986947
END:VEVENT
END:VCALENDAR