BEGIN:VCALENDAR
VERSION:2.0
PRODID:-//Chicago Cultural Alliance - ECPv6.15.20//NONSGML v1.0//EN
CALSCALE:GREGORIAN
METHOD:PUBLISH
X-ORIGINAL-URL:https://www.chicagoculturalalliance.org
X-WR-CALDESC:Events for Chicago Cultural Alliance
REFRESH-INTERVAL;VALUE=DURATION:PT1H
X-Robots-Tag:noindex
X-PUBLISHED-TTL:PT1H
BEGIN:VTIMEZONE
TZID:America/Chicago
BEGIN:DAYLIGHT
TZOFFSETFROM:-0600
TZOFFSETTO:-0500
TZNAME:CDT
DTSTART:20230312T080000
END:DAYLIGHT
BEGIN:STANDARD
TZOFFSETFROM:-0500
TZOFFSETTO:-0600
TZNAME:CST
DTSTART:20231105T070000
END:STANDARD
BEGIN:DAYLIGHT
TZOFFSETFROM:-0600
TZOFFSETTO:-0500
TZNAME:CDT
DTSTART:20240310T080000
END:DAYLIGHT
BEGIN:STANDARD
TZOFFSETFROM:-0500
TZOFFSETTO:-0600
TZNAME:CST
DTSTART:20241103T070000
END:STANDARD
BEGIN:DAYLIGHT
TZOFFSETFROM:-0600
TZOFFSETTO:-0500
TZNAME:CDT
DTSTART:20250309T080000
END:DAYLIGHT
BEGIN:STANDARD
TZOFFSETFROM:-0500
TZOFFSETTO:-0600
TZNAME:CST
DTSTART:20251102T070000
END:STANDARD
END:VTIMEZONE
BEGIN:VEVENT
DTSTART;TZID=America/Chicago:20240907T120000
DTEND;TZID=America/Chicago:20240907T170000
DTSTAMP:20260423T105622
CREATED:20240828T181647Z
LAST-MODIFIED:20240828T181647Z
UID:10007204-1725710400-1725728400@www.chicagoculturalalliance.org
SUMMARY:INDIGIFEST 2024
DESCRIPTION:Join us for Indigifest 2024 on September 7 from noon to 5 p.m. at Harrison Park in Pilsen (1824 Wood St).\nThis celebration of Indigenous cultures features captivating performances\, exhibitions\, and delicious food. Experience Native powwow dancing\, drumming\, and singing\, along with West African dance\, Cumbia dancing\, Quechua performances\, Aztec dancing\, and more.\nThis event offers a unique opportunity to connect with the Indigenous community\, learn about diverse cultures\, and celebrate the resilience and creativity of Indigenous peoples. Indigifest 2024 promises an unforgettable day of unity\, education\, and festivity. Don’t miss out on this extraordinary event!
URL:https://www.chicagoculturalalliance.org/event/indigifest-2024/
LOCATION:1824 S Wood St\, Chicago\, 60608\, United States
CATEGORIES:Cultural Festivals and Fairs
ATTACH;FMTTYPE=image/png:https://www.chicagoculturalalliance.org/wp-content/uploads/2024/08/indigifest-card.png
END:VEVENT
END:VCALENDAR