BEGIN:VCALENDAR
VERSION:2.0
PRODID:-//Chicago Cultural Alliance - ECPv6.15.20//NONSGML v1.0//EN
CALSCALE:GREGORIAN
METHOD:PUBLISH
X-ORIGINAL-URL:https://www.chicagoculturalalliance.org
X-WR-CALDESC:Events for Chicago Cultural Alliance
REFRESH-INTERVAL;VALUE=DURATION:PT1H
X-Robots-Tag:noindex
X-PUBLISHED-TTL:PT1H
BEGIN:VTIMEZONE
TZID:America/Chicago
BEGIN:DAYLIGHT
TZOFFSETFROM:-0600
TZOFFSETTO:-0500
TZNAME:CDT
DTSTART:20220313T080000
END:DAYLIGHT
BEGIN:STANDARD
TZOFFSETFROM:-0500
TZOFFSETTO:-0600
TZNAME:CST
DTSTART:20221106T070000
END:STANDARD
BEGIN:DAYLIGHT
TZOFFSETFROM:-0600
TZOFFSETTO:-0500
TZNAME:CDT
DTSTART:20230312T080000
END:DAYLIGHT
BEGIN:STANDARD
TZOFFSETFROM:-0500
TZOFFSETTO:-0600
TZNAME:CST
DTSTART:20231105T070000
END:STANDARD
BEGIN:DAYLIGHT
TZOFFSETFROM:-0600
TZOFFSETTO:-0500
TZNAME:CDT
DTSTART:20240310T080000
END:DAYLIGHT
BEGIN:STANDARD
TZOFFSETFROM:-0500
TZOFFSETTO:-0600
TZNAME:CST
DTSTART:20241103T070000
END:STANDARD
END:VTIMEZONE
BEGIN:VEVENT
DTSTART;TZID=America/Chicago:20230219T143000
DTEND;TZID=America/Chicago:20230219T163000
DTSTAMP:20260421T164025
CREATED:20230130T223230Z
LAST-MODIFIED:20230130T223230Z
UID:10003229-1676817000-1676824200@www.chicagoculturalalliance.org
SUMMARY:Олимпиада “Левски” - 2023
DESCRIPTION:Заповядайте на 17-то издание на детска Олимпиада “Левски” – 2023\, посветена на 150 годишнината от гибелта на Апостола! \n19 февруари от 14:30ч.- 16:30ч.\nNorth Gym 2121 S. Goebbert Rd.\, Arlington Hgts\, IL 60005 \nЗа поредна година Културен център “Магура”- Българо- американски център за културно наследство и библиотека\, организира Олимпиадата с участието на българските училища в Чикаго и всички деца\, желаещи да се присъединят към спортните игри\, викторина и изложба. \nСъбитието се осъществява с подкрепата на Генералното консулство в Чикаго Consulate General of Bulgaria in Chicago\, МОН Министерство на образованието и науката\, Национален музей „Васил Левски“ в гр. Карлово и Изпълнителна агенция за българите в чужбина. \nНаши партньори са колегите от организациите на:\n• Олимпийски Клуб “Васил Левски” Чикаго Олимпийски Клуб “Васил Левски” Чикаго\n• Ансамбъл „Хоро”\, Dance Ensemble “Horo”\n• Royal Academy\, Royal Academy\n• Българо-американска полицейска асоциация\, Bulgarian American Police Association\n• Българските медии в Чикаго: BG VOICE Новинарският лидер\, Bulgaria Sega в-к „България Сега” България Сега – Вестникът на българите в САЩ и Канада\, Eurochicago.com и Chicago.BG. \nВ програмата е включена викторина за Левски за учениците от българските училища\, подготвена от водещата на събитието\, историчката Камелия Попова. Включени са стихотворения\, песни\, фолклорни и спортни танци в изпълнение на децата от училищата. \nОчаквайте традиционните спортните игри\, където децата ще имат възможност да спортуват и се състезават на скок\, да скачат на въже и игри с топка.\nЩе бъдат раздадени грамоти и медали за тяхното участие. Те ще получат и книги от екипа на национален музей “Васил Левски”- гр. Карлово\, изпратени специално за участниците. \nИ нека със „задружни сили”\, както ни завеща и Апостолът на свободата-Олимпиада “Левски”2023 в Чикаго продължи традицията да събира българските деца в чужбина\, да слушат и учат за подвига на Васил Левски\, чрез викторини и стихотворения\, да спортуват и скачат „Лъвски скок”\, за да е жива паметта на героите!
URL:https://www.chicagoculturalalliance.org/event/%d0%be%d0%bb%d0%b8%d0%bc%d0%bf%d0%b8%d0%b0%d0%b4%d0%b0-%d0%bb%d0%b5%d0%b2%d1%81%d0%ba%d0%b8-2023/
LOCATION:2121 S. Goebbert Rd.\, Arlington Hgts\, IL 60005\, 2121 S. Goebbert Rd\, Arlington Heights\, IL\, 60005\, United States
GEO:42.0463368;-87.9735968
X-APPLE-STRUCTURED-LOCATION;VALUE=URI;X-ADDRESS=2121 S. Goebbert Rd. Arlington Hgts IL 60005 2121 S. Goebbert Rd Arlington Heights IL 60005 United States;X-APPLE-RADIUS=500;X-TITLE=2121 S. Goebbert Rd:geo:-87.9735968,42.0463368
END:VEVENT
END:VCALENDAR