BEGIN:VCALENDAR
VERSION:2.0
PRODID:-//Chicago Cultural Alliance - ECPv6.15.20//NONSGML v1.0//EN
CALSCALE:GREGORIAN
METHOD:PUBLISH
X-ORIGINAL-URL:https://www.chicagoculturalalliance.org
X-WR-CALDESC:Events for Chicago Cultural Alliance
REFRESH-INTERVAL;VALUE=DURATION:PT1H
X-Robots-Tag:noindex
X-PUBLISHED-TTL:PT1H
BEGIN:VTIMEZONE
TZID:America/Chicago
BEGIN:DAYLIGHT
TZOFFSETFROM:-0600
TZOFFSETTO:-0500
TZNAME:CDT
DTSTART:20220313T080000
END:DAYLIGHT
BEGIN:STANDARD
TZOFFSETFROM:-0500
TZOFFSETTO:-0600
TZNAME:CST
DTSTART:20221106T070000
END:STANDARD
BEGIN:DAYLIGHT
TZOFFSETFROM:-0600
TZOFFSETTO:-0500
TZNAME:CDT
DTSTART:20230312T080000
END:DAYLIGHT
BEGIN:STANDARD
TZOFFSETFROM:-0500
TZOFFSETTO:-0600
TZNAME:CST
DTSTART:20231105T070000
END:STANDARD
BEGIN:DAYLIGHT
TZOFFSETFROM:-0600
TZOFFSETTO:-0500
TZNAME:CDT
DTSTART:20240310T080000
END:DAYLIGHT
BEGIN:STANDARD
TZOFFSETFROM:-0500
TZOFFSETTO:-0600
TZNAME:CST
DTSTART:20241103T070000
END:STANDARD
END:VTIMEZONE
BEGIN:VEVENT
DTSTART;TZID=America/Chicago:20230728T180000
DTEND;TZID=America/Chicago:20230728T210000
DTSTAMP:20260421T113835
CREATED:20230718T145614Z
LAST-MODIFIED:20230718T145614Z
UID:10004316-1690567200-1690578000@www.chicagoculturalalliance.org
SUMMARY:Avenida Peru Restaurant Independence Celebration
DESCRIPTION:Enjoy Peruvian gastronomy accompanied by a show that shows the multiculturalism of Peruvian dances celebrated on the 202nd anniversary of the independence of Peru.
URL:https://www.chicagoculturalalliance.org/event/avenida-peru-restaurant-independence-celebration/
LOCATION:Avenida Peru Restaurant\, 3131 N. Central Ave.\, Chicago\, IL\, 60634\, United States
ATTACH;FMTTYPE=image/png:https://www.chicagoculturalalliance.org/wp-content/uploads/2023/07/avenidaperulogo.png
GEO:41.9377673;-87.7662435
X-APPLE-STRUCTURED-LOCATION;VALUE=URI;X-ADDRESS=Avenida Peru Restaurant 3131 N. Central Ave. Chicago IL 60634 United States;X-APPLE-RADIUS=500;X-TITLE=3131 N. Central Ave.:geo:-87.7662435,41.9377673
END:VEVENT
END:VCALENDAR