BEGIN:VCALENDAR
VERSION:2.0
PRODID:-//Chicago Cultural Alliance - ECPv6.15.20//NONSGML v1.0//EN
CALSCALE:GREGORIAN
METHOD:PUBLISH
X-ORIGINAL-URL:https://www.chicagoculturalalliance.org
X-WR-CALDESC:Events for Chicago Cultural Alliance
REFRESH-INTERVAL;VALUE=DURATION:PT1H
X-Robots-Tag:noindex
X-PUBLISHED-TTL:PT1H
BEGIN:VTIMEZONE
TZID:America/Chicago
BEGIN:DAYLIGHT
TZOFFSETFROM:-0600
TZOFFSETTO:-0500
TZNAME:CDT
DTSTART:20210314T080000
END:DAYLIGHT
BEGIN:STANDARD
TZOFFSETFROM:-0500
TZOFFSETTO:-0600
TZNAME:CST
DTSTART:20211107T070000
END:STANDARD
BEGIN:DAYLIGHT
TZOFFSETFROM:-0600
TZOFFSETTO:-0500
TZNAME:CDT
DTSTART:20220313T080000
END:DAYLIGHT
BEGIN:STANDARD
TZOFFSETFROM:-0500
TZOFFSETTO:-0600
TZNAME:CST
DTSTART:20221106T070000
END:STANDARD
BEGIN:DAYLIGHT
TZOFFSETFROM:-0600
TZOFFSETTO:-0500
TZNAME:CDT
DTSTART:20230312T080000
END:DAYLIGHT
BEGIN:STANDARD
TZOFFSETFROM:-0500
TZOFFSETTO:-0600
TZNAME:CST
DTSTART:20231105T070000
END:STANDARD
END:VTIMEZONE
BEGIN:VEVENT
DTSTART;TZID=America/Chicago:20221002T140000
DTEND;TZID=America/Chicago:20221002T160000
DTSTAMP:20260425T171427
CREATED:20220920T053051Z
LAST-MODIFIED:20220920T053743Z
UID:10001749-1664719200-1664726400@www.chicagoculturalalliance.org
SUMMARY:Film screening: Everything Stays
DESCRIPTION:Oct 2\, Sunday at 2pm to 4pm – 2022 FAHM Celebration Kickoff. The Filipino American History Month celebration kickoff event will be held at the Bolingbrook Fountaindale Library at 300 W Briarcliff Rd\, Bolingbrook\, IL 60440. There will be a film screening of “Everything Stays” followed by Q&A with film director Cole Bacani in-person. Contact Tito Ruben tito.rubens@gmail.com.
URL:https://www.chicagoculturalalliance.org/event/film-screening-everything-stays/
LOCATION:Bolingbrook Fountaindale Library\, 300 W Briarcliff Rd\, Bolingbrook\, IL\, 60440\, United States
CATEGORIES:Music, Film, and Theater
ATTACH;FMTTYPE=image/jpeg:https://www.chicagoculturalalliance.org/wp-content/uploads/2022/09/307486390_2062007977303334_3822803307075911770_n.jpeg
GEO:41.6990367;-88.078301
X-APPLE-STRUCTURED-LOCATION;VALUE=URI;X-ADDRESS=Bolingbrook Fountaindale Library 300 W Briarcliff Rd Bolingbrook IL 60440 United States;X-APPLE-RADIUS=500;X-TITLE=300 W Briarcliff Rd:geo:-88.078301,41.6990367
END:VEVENT
END:VCALENDAR