BEGIN:VCALENDAR
VERSION:2.0
PRODID:-//Chicago Cultural Alliance - ECPv6.15.20//NONSGML v1.0//EN
CALSCALE:GREGORIAN
METHOD:PUBLISH
X-ORIGINAL-URL:https://www.chicagoculturalalliance.org
X-WR-CALDESC:Events for Chicago Cultural Alliance
REFRESH-INTERVAL;VALUE=DURATION:PT1H
X-Robots-Tag:noindex
X-PUBLISHED-TTL:PT1H
BEGIN:VTIMEZONE
TZID:America/Chicago
BEGIN:DAYLIGHT
TZOFFSETFROM:-0600
TZOFFSETTO:-0500
TZNAME:CDT
DTSTART:20240310T080000
END:DAYLIGHT
BEGIN:STANDARD
TZOFFSETFROM:-0500
TZOFFSETTO:-0600
TZNAME:CST
DTSTART:20241103T070000
END:STANDARD
BEGIN:DAYLIGHT
TZOFFSETFROM:-0600
TZOFFSETTO:-0500
TZNAME:CDT
DTSTART:20250309T080000
END:DAYLIGHT
BEGIN:STANDARD
TZOFFSETFROM:-0500
TZOFFSETTO:-0600
TZNAME:CST
DTSTART:20251102T070000
END:STANDARD
BEGIN:DAYLIGHT
TZOFFSETFROM:-0600
TZOFFSETTO:-0500
TZNAME:CDT
DTSTART:20260308T080000
END:DAYLIGHT
BEGIN:STANDARD
TZOFFSETFROM:-0500
TZOFFSETTO:-0600
TZNAME:CST
DTSTART:20261101T070000
END:STANDARD
END:VTIMEZONE
BEGIN:VEVENT
DTSTART;TZID=America/Chicago:20250515T180000
DTEND;TZID=America/Chicago:20250515T190000
DTSTAMP:20260420T030517
CREATED:20250424T195741Z
LAST-MODIFIED:20250424T195741Z
UID:10007915-1747332000-1747335600@www.chicagoculturalalliance.org
SUMMARY:Dave Barry: "Class Clown"
DESCRIPTION:How does the son of a Presbyterian minister wind up winning a Pulitzer Prize for writing a wildly inaccurate newspaper column read by millions of people? America’s most beloved wiseass\, Dave Barry\, finally tells his life story with all the humor you’d expect from a man who made a career out of making fun of pretty much everything. Barry will be interviewed by Mark Bazer of The Interview Show on WTTW. Books will be sold at the event and Barry will sign them following the program. \nThis is event takes place at Chicago Hope Academy. The entrance to the auditorium is through the parking lot at 2156 W. Ogden Ave.\, Chicago\, IL 60612. This lot can be used for parking\, as well as additional street parking on neighboring streets. Please leave enough time for transportation and parking. The program begins promptly at 6:00 pm CT. \nThis program is part of the AWM’s American Prophets: Writers\, Religion\, and Culture exhibit and programming series\, which examines the relationship between American writers and religion. American Prophets opens November 2025 and is supported by a grant from Lilly Endowment Inc. through its Religion and Cultural Institutions Initiative.
URL:https://www.chicagoculturalalliance.org/event/dave-barry-class-clown/
LOCATION:Chicago Hope Academy\, 2156 West Ogden Avenue\, Chicago\, 60612
CATEGORIES:Talks and Gatherings
ATTACH;FMTTYPE=image/png:https://www.chicagoculturalalliance.org/wp-content/uploads/2025/04/3-1.png
END:VEVENT
END:VCALENDAR