BEGIN:VCALENDAR
VERSION:2.0
PRODID:-//Chicago Cultural Alliance - ECPv6.15.20//NONSGML v1.0//EN
CALSCALE:GREGORIAN
METHOD:PUBLISH
X-WR-CALNAME:Chicago Cultural Alliance
X-ORIGINAL-URL:https://www.chicagoculturalalliance.org
X-WR-CALDESC:Events for Chicago Cultural Alliance
REFRESH-INTERVAL;VALUE=DURATION:PT1H
X-Robots-Tag:noindex
X-PUBLISHED-TTL:PT1H
BEGIN:VTIMEZONE
TZID:America/Chicago
BEGIN:DAYLIGHT
TZOFFSETFROM:-0600
TZOFFSETTO:-0500
TZNAME:CDT
DTSTART:20220313T080000
END:DAYLIGHT
BEGIN:STANDARD
TZOFFSETFROM:-0500
TZOFFSETTO:-0600
TZNAME:CST
DTSTART:20221106T070000
END:STANDARD
BEGIN:DAYLIGHT
TZOFFSETFROM:-0600
TZOFFSETTO:-0500
TZNAME:CDT
DTSTART:20230312T080000
END:DAYLIGHT
BEGIN:STANDARD
TZOFFSETFROM:-0500
TZOFFSETTO:-0600
TZNAME:CST
DTSTART:20231105T070000
END:STANDARD
BEGIN:DAYLIGHT
TZOFFSETFROM:-0600
TZOFFSETTO:-0500
TZNAME:CDT
DTSTART:20240310T080000
END:DAYLIGHT
BEGIN:STANDARD
TZOFFSETFROM:-0500
TZOFFSETTO:-0600
TZNAME:CST
DTSTART:20241103T070000
END:STANDARD
BEGIN:DAYLIGHT
TZOFFSETFROM:-0600
TZOFFSETTO:-0500
TZNAME:CDT
DTSTART:20250309T080000
END:DAYLIGHT
BEGIN:STANDARD
TZOFFSETFROM:-0500
TZOFFSETTO:-0600
TZNAME:CST
DTSTART:20251102T070000
END:STANDARD
BEGIN:DAYLIGHT
TZOFFSETFROM:-0600
TZOFFSETTO:-0500
TZNAME:CDT
DTSTART:20260308T080000
END:DAYLIGHT
BEGIN:STANDARD
TZOFFSETFROM:-0500
TZOFFSETTO:-0600
TZNAME:CST
DTSTART:20261101T070000
END:STANDARD
BEGIN:DAYLIGHT
TZOFFSETFROM:-0600
TZOFFSETTO:-0500
TZNAME:CDT
DTSTART:20270314T080000
END:DAYLIGHT
BEGIN:STANDARD
TZOFFSETFROM:-0500
TZOFFSETTO:-0600
TZNAME:CST
DTSTART:20271107T070000
END:STANDARD
END:VTIMEZONE
BEGIN:VEVENT
DTSTART;TZID=America/Chicago:20260307T160000
DTEND;TZID=America/Chicago:20260307T180000
DTSTAMP:20260423T095258
CREATED:20260305T051712Z
LAST-MODIFIED:20260305T051712Z
UID:10010747-1772899200-1772906400@www.chicagoculturalalliance.org
SUMMARY:Holi
DESCRIPTION:Come celebrate Holi with Kalapriya! Famously known as the Festival of Colors\, Holi is an annual celebration of spring\, love\, and new life throughout North India. This exciting celebration is filled with dancing\, singing\, and throwing of colored powder and water. We’ll have dancing\, music\, food\, arts & crafts\, and more… \nBuild your community & friendships!\nSavor some Indian appetizers!\nDance away with Bollywood songs!\nSplash some colors and have unlimited fun!
URL:https://www.chicagoculturalalliance.org/event/holi/
LOCATION:Chicago Women’s Park & Gardens\, 1801 S Indiana Ave\, Chicago\, IL\, 60616\, United States
CATEGORIES:Cultural Festivals and Fairs
ATTACH;FMTTYPE=image/jpeg:https://www.chicagoculturalalliance.org/wp-content/uploads/2026/02/IMG_6642-scaled.jpeg
ORGANIZER;CN="Kalapriya Center for Indian Performing Arts":MAILTO:info@kalapriya.org
GEO:41.8577287;-87.6220181
X-APPLE-STRUCTURED-LOCATION;VALUE=URI;X-ADDRESS=Chicago Women’s Park & Gardens 1801 S Indiana Ave Chicago IL 60616 United States;X-APPLE-RADIUS=500;X-TITLE=1801 S Indiana Ave:geo:-87.6220181,41.8577287
END:VEVENT
BEGIN:VEVENT
DTSTART;TZID=America/Chicago:20231111T170000
DTEND;TZID=America/Chicago:20231111T190000
DTSTAMP:20260423T095258
CREATED:20231016T183126Z
LAST-MODIFIED:20231102T213457Z
UID:10004551-1699722000-1699729200@www.chicagoculturalalliance.org
SUMMARY:Deepavali/Diwali Festival
DESCRIPTION:Join us at the Chicago Women’s Park & Garden for an evening celebrating Deepavali (also known as Diwali in the Northern part of India)\, the Indian festival of Lights\, with joy and community with food\, sparklers\, and art!
URL:https://www.chicagoculturalalliance.org/event/deepavali-diwali-festival/
LOCATION:Chicago Women’s Park & Gardens\, 1801 S Indiana Ave\, Chicago\, IL\, 60616\, United States
ATTACH;FMTTYPE=image/png:https://www.chicagoculturalalliance.org/wp-content/uploads/2023/10/Deepavali1.png
ORGANIZER;CN="Kalapriya Center for Indian Performing Arts":MAILTO:info@kalapriya.org
GEO:41.8577287;-87.6220181
X-APPLE-STRUCTURED-LOCATION;VALUE=URI;X-ADDRESS=Chicago Women’s Park & Gardens 1801 S Indiana Ave Chicago IL 60616 United States;X-APPLE-RADIUS=500;X-TITLE=1801 S Indiana Ave:geo:-87.6220181,41.8577287
END:VEVENT
BEGIN:VEVENT
DTSTART;TZID=America/Chicago:20230716T120000
DTEND;TZID=America/Chicago:20230716T203000
DTSTAMP:20260423T095258
CREATED:20230524T150714Z
LAST-MODIFIED:20230712T194343Z
UID:10004126-1689508800-1689539400@www.chicagoculturalalliance.org
SUMMARY:South Asian Mela
DESCRIPTION:Join Kalapriya Center for Indian Arts for an all-day family event with live performances\, henna artists\, arts and craft activities\, Indian food\, and a Bollywood Dance competition!
URL:https://www.chicagoculturalalliance.org/event/outdoor-mela-fair-of-street-arts-with-food-bazaar/
LOCATION:Chicago Women’s Park & Gardens\, 1801 S Indiana Ave\, Chicago\, IL\, 60616\, United States
ATTACH;FMTTYPE=image/jpeg:https://www.chicagoculturalalliance.org/wp-content/uploads/2023/05/unsplash-image-yEvzrtqDga8.jpg
ORGANIZER;CN="Kalapriya Center for Indian Performing Arts":MAILTO:info@kalapriya.org
GEO:41.8577287;-87.6220181
X-APPLE-STRUCTURED-LOCATION;VALUE=URI;X-ADDRESS=Chicago Women’s Park & Gardens 1801 S Indiana Ave Chicago IL 60616 United States;X-APPLE-RADIUS=500;X-TITLE=1801 S Indiana Ave:geo:-87.6220181,41.8577287
END:VEVENT
END:VCALENDAR