BEGIN:VCALENDAR
VERSION:2.0
PRODID:-//Chicago Cultural Alliance - ECPv6.15.20//NONSGML v1.0//EN
CALSCALE:GREGORIAN
METHOD:PUBLISH
X-ORIGINAL-URL:https://www.chicagoculturalalliance.org
X-WR-CALDESC:Events for Chicago Cultural Alliance
REFRESH-INTERVAL;VALUE=DURATION:PT1H
X-Robots-Tag:noindex
X-PUBLISHED-TTL:PT1H
BEGIN:VTIMEZONE
TZID:America/Chicago
BEGIN:DAYLIGHT
TZOFFSETFROM:-0600
TZOFFSETTO:-0500
TZNAME:CDT
DTSTART:20220313T080000
END:DAYLIGHT
BEGIN:STANDARD
TZOFFSETFROM:-0500
TZOFFSETTO:-0600
TZNAME:CST
DTSTART:20221106T070000
END:STANDARD
BEGIN:DAYLIGHT
TZOFFSETFROM:-0600
TZOFFSETTO:-0500
TZNAME:CDT
DTSTART:20230312T080000
END:DAYLIGHT
BEGIN:STANDARD
TZOFFSETFROM:-0500
TZOFFSETTO:-0600
TZNAME:CST
DTSTART:20231105T070000
END:STANDARD
BEGIN:DAYLIGHT
TZOFFSETFROM:-0600
TZOFFSETTO:-0500
TZNAME:CDT
DTSTART:20240310T080000
END:DAYLIGHT
BEGIN:STANDARD
TZOFFSETFROM:-0500
TZOFFSETTO:-0600
TZNAME:CST
DTSTART:20241103T070000
END:STANDARD
END:VTIMEZONE
BEGIN:VEVENT
DTSTART;TZID=America/Chicago:20230225T093000
DTEND;TZID=America/Chicago:20230225T180000
DTSTAMP:20260423T075458
CREATED:20230220T182307Z
LAST-MODIFIED:20230220T182307Z
UID:10003654-1677317400-1677348000@www.chicagoculturalalliance.org
SUMMARY:Andean Carnival Tinkuy
DESCRIPTION:*EARLY REGISTRATION ENCOURAGED HERE*\nhttps://forms.gle/7VZPWq8z2C1dQ81G6\n*NO ENTRANCE FEE*\n*ALL AGES WELCOME*\n Saturday\, February 25\, 2023\n 9:30 am – 6:00 pm\n Edward Crown Center for the Humanities\, Loyola University\, Chicago\n Free\, validated parking at Main Parking Structure (1110 W Sheridan Rd\, Chicago\, IL 60660)\nSponsored by Call to Action to Address Racism & Social Injustice Research Program and the Center for Latin American and Caribbean\nStudies at the University of Illinois\, Urbana-Champaign\, and the Latin American and Latino Studies Program at Loyola University\, Chicago.\nEvent Program: https://tinyurl.com/mssydd7j\nCome celebrate Andean Heritage in Chicago!     \nFree authentic Andean food and drinks\, games\, activities\, and\nQuechua language lesson for all ages.\n Dance performances by\n– Renacer Boliviano \n– Center of Peruvian Arts \n Featured presenters on Quechua language\, culture\, and spirituality:\n– Agustín Panizo (Peruvian linguist)\n– Hipólito Peralta Ccama (Quechua educator and Andean spirituality activist)\n– Rubén Pachas (Peruvian Indigenous arts educator)
URL:https://www.chicagoculturalalliance.org/event/andean-carnival-tinkuy/
LOCATION:Edward Crown Center for the Humanities\, 1001 W Loyola Ave\, Chicago\, IL\, 60626\, United States
GEO:42.0013272;-87.6566105
X-APPLE-STRUCTURED-LOCATION;VALUE=URI;X-ADDRESS=Edward Crown Center for the Humanities 1001 W Loyola Ave Chicago IL 60626 United States;X-APPLE-RADIUS=500;X-TITLE=1001 W Loyola Ave:geo:-87.6566105,42.0013272
END:VEVENT
END:VCALENDAR