BEGIN:VCALENDAR
VERSION:2.0
PRODID:-//Chicago Cultural Alliance - ECPv6.15.20//NONSGML v1.0//EN
CALSCALE:GREGORIAN
METHOD:PUBLISH
X-ORIGINAL-URL:https://www.chicagoculturalalliance.org
X-WR-CALDESC:Events for Chicago Cultural Alliance
REFRESH-INTERVAL;VALUE=DURATION:PT1H
X-Robots-Tag:noindex
X-PUBLISHED-TTL:PT1H
BEGIN:VTIMEZONE
TZID:America/Chicago
BEGIN:DAYLIGHT
TZOFFSETFROM:-0600
TZOFFSETTO:-0500
TZNAME:CDT
DTSTART:20230312T080000
END:DAYLIGHT
BEGIN:STANDARD
TZOFFSETFROM:-0500
TZOFFSETTO:-0600
TZNAME:CST
DTSTART:20231105T070000
END:STANDARD
BEGIN:DAYLIGHT
TZOFFSETFROM:-0600
TZOFFSETTO:-0500
TZNAME:CDT
DTSTART:20240310T080000
END:DAYLIGHT
BEGIN:STANDARD
TZOFFSETFROM:-0500
TZOFFSETTO:-0600
TZNAME:CST
DTSTART:20241103T070000
END:STANDARD
BEGIN:DAYLIGHT
TZOFFSETFROM:-0600
TZOFFSETTO:-0500
TZNAME:CDT
DTSTART:20250309T080000
END:DAYLIGHT
BEGIN:STANDARD
TZOFFSETFROM:-0500
TZOFFSETTO:-0600
TZNAME:CST
DTSTART:20251102T070000
END:STANDARD
BEGIN:DAYLIGHT
TZOFFSETFROM:-0600
TZOFFSETTO:-0500
TZNAME:CDT
DTSTART:20260308T080000
END:DAYLIGHT
BEGIN:STANDARD
TZOFFSETFROM:-0500
TZOFFSETTO:-0600
TZNAME:CST
DTSTART:20261101T070000
END:STANDARD
END:VTIMEZONE
BEGIN:VEVENT
DTSTART;TZID=America/Chicago:20250419T110000
DTEND;TZID=America/Chicago:20250419T140000
DTSTAMP:20260422T035754
CREATED:20241218T165244Z
LAST-MODIFIED:20241218T165244Z
UID:10007372-1745060400-1745071200@www.chicagoculturalalliance.org
SUMMARY:Teen Saturday Studio - Miniature Marvels: Model Making
DESCRIPTION:Dive into the art of miniature model making in this hands-on workshop for teens. Learn to design detailed architectural models\, create tiny furniture\, or build imaginative miniature worlds. No experience is needed—just bring your creativity! This program will guide you step-by-step\, and by the end\, you’ll take home your own handcrafted miniature model along with the skills to keep designing at home. \nFREE – ADVANCED REGISTRATION REQUIRED
URL:https://www.chicagoculturalalliance.org/event/teen-saturday-studio-miniature-marvels-model-making/
LOCATION:Harold Washington College\, 30 E Lake St Chicago\, Chicago\, 60601
CATEGORIES:Workshops and Classes
ATTACH;FMTTYPE=image/png:https://www.chicagoculturalalliance.org/wp-content/uploads/2024/12/Screenshot-2024-12-13-122344-4.png
ORGANIZER;CN="Chicago Architecture Center":MAILTO:info@architecture.org
END:VEVENT
BEGIN:VEVENT
DTSTART;TZID=America/Chicago:20250322T110000
DTEND;TZID=America/Chicago:20250322T140000
DTSTAMP:20260422T035754
CREATED:20250217T172755Z
LAST-MODIFIED:20250217T172755Z
UID:10007805-1742641200-1742652000@www.chicagoculturalalliance.org
SUMMARY:Teen Saturday Studio - Design a city: Planning with Purpose
DESCRIPTION:Teen Saturday Studios\, now in partnership with Harold Washington College\, offers completely free 3-hour workshops for high school students (grades 9-12) who are interested in exploring the world of architecture and design. \nDesign a city: Planning with Purpose: Dive into the world of urban planning and community design in this interactive workshop for teens. Work collaboratively to develop a shared vision for a city and explore how neighborhoods can become more inclusive and resilient. Through real-world examples and hands-on problem-solving\, participants will address local challenges\, design at the scale of neighborhoods and streets and create a manifesto for values-driven design. Discover how cities reflect our collective values and how you can help shape their future. \nFREE – Advance registration required
URL:https://www.chicagoculturalalliance.org/event/teen-saturday-studio-design-a-city-planning-with-purpose/
LOCATION:Harold Washington College\, 30 E Lake St Chicago\, Chicago\, 60601
CATEGORIES:Workshops and Classes
ATTACH;FMTTYPE=image/png:https://www.chicagoculturalalliance.org/wp-content/uploads/2025/02/Teen-Saturday-Studios.png
ORGANIZER;CN="Chicago Architecture Center":MAILTO:info@architecture.org
END:VEVENT
BEGIN:VEVENT
DTSTART;TZID=America/Chicago:20250322T110000
DTEND;TZID=America/Chicago:20250322T140000
DTSTAMP:20260422T035754
CREATED:20250107T184447Z
LAST-MODIFIED:20250107T184447Z
UID:10007413-1742641200-1742652000@www.chicagoculturalalliance.org
SUMMARY:Teen Saturday Studios – Architecture CGI
DESCRIPTION:Teen Saturday Studios – Architecture CGI \nSaturday\, March 22nd from 11 AM – 2 PM at Harold Washington College \nFREE \nDescription: \nExplore the world of urban planning in this hands-on workshop for teens. Learn how cities function\, grow\, and thrive by studying transportation\, green spaces and zoning. Through real-world examples and problem-solving challenges\, participants will discover how cities shape our lives and how to help create more inclusive and resilient communities. \n\nFREE with Advanced Registration \n\nMore about Teen Saturday Studios: \nThis exciting program\, now in partnership with Harold Washington College\, offers completely free 3-hour workshops for high school students (grades 9-12) who are interested in exploring the world of architecture and design. \n\nLed by experienced professionals in architecture\, design\, engineering\, and other related fields\, Teen Saturday Studios offer a unique opportunity to learn from those in the field and develop valuable skills that can be applied in a range of real-world settings.
URL:https://www.chicagoculturalalliance.org/event/teen-saturday-studios-architecture-cgi-2/
LOCATION:Harold Washington College\, 30 E Lake St Chicago\, Chicago\, 60601
CATEGORIES:Workshops and Classes
ATTACH;FMTTYPE=image/png:https://www.chicagoculturalalliance.org/wp-content/uploads/2025/01/Screenshot-2024-12-13-122344-1.png
ORGANIZER;CN="Chicago Architecture Center":MAILTO:info@architecture.org
END:VEVENT
BEGIN:VEVENT
DTSTART;TZID=America/Chicago:20250215T110000
DTEND;TZID=America/Chicago:20250215T140000
DTSTAMP:20260422T035754
CREATED:20250107T184309Z
LAST-MODIFIED:20250107T184309Z
UID:10007412-1739617200-1739628000@www.chicagoculturalalliance.org
SUMMARY:Teen Saturday Studios – Architecture CGI
DESCRIPTION:Teen Saturday Studios – Architecture CGI \nSaturday\, February 15th from 11 AM – 2 PM at Harold Washington College har \nFREE \nLearn about architecture visualization in this unique workshop for teens interested in architecture and digital design. Learn to use CGI to transform architectural concepts into stunning\, lifelike images and animations. Throughout this workshop\, you’ll explore 3D modeling\, texturing\, lighting and rendering techniques to bring your architecture ideas to life. \n\nFREE with Advanced Registration \n\nMore about Teen Saturday Studios: \nThis exciting program\, now in partnership with Harold Washington College\, offers completely free 3-hour workshops for high school students (grades 9-12) who are interested in exploring the world of architecture and design. \n\nLed by experienced professionals in architecture\, design\, engineering\, and other related fields\, Teen Saturday Studios offer a unique opportunity to learn from those in the field and develop valuable skills that can be applied in a range of real-world settings.
URL:https://www.chicagoculturalalliance.org/event/teen-saturday-studios-architecture-cgi/
LOCATION:Harold Washington College\, 30 E Lake St Chicago\, Chicago\, 60601
CATEGORIES:Workshops and Classes
ATTACH;FMTTYPE=image/png:https://www.chicagoculturalalliance.org/wp-content/uploads/2025/01/Screenshot-2024-12-13-122344-1.png
ORGANIZER;CN="Chicago Architecture Center":MAILTO:info@architecture.org
END:VEVENT
BEGIN:VEVENT
DTSTART;TZID=America/Chicago:20241221T110000
DTEND;TZID=America/Chicago:20241221T140000
DTSTAMP:20260422T035754
CREATED:20240529T171220Z
LAST-MODIFIED:20240813T160703Z
UID:10006476-1734778800-1734789600@www.chicagoculturalalliance.org
SUMMARY:Teen Saturday Studio - Culinary Architecture: Gingerbread City
DESCRIPTION:Whether you’re a baking enthusiast\, aspiring architect\, or simply love getting creative with food\, our gingerbread architecture workshop is sure to delight and inspire. From cottages to modern masterpieces\, learn how to incorporate symmetry\, balance\, and creativity into your gingerbread creations. Join us for a memorable experience filled with laughter\, creativity\, and plenty of festive cheer! \nFREE; advance registration required
URL:https://www.chicagoculturalalliance.org/event/teen-saturday-studio-culinary-architecture-gingerbread-city/
LOCATION:Harold Washington College\, 30 E Lake St Chicago\, Chicago\, 60601
CATEGORIES:Workshops and Classes
ATTACH;FMTTYPE=image/jpeg:https://www.chicagoculturalalliance.org/wp-content/uploads/2024/05/wide_lrg_teens-saturday-studio-05-6-6.jpg
ORGANIZER;CN="Chicago Architecture Center":MAILTO:info@architecture.org
END:VEVENT
BEGIN:VEVENT
DTSTART;TZID=America/Chicago:20241116T110000
DTEND;TZID=America/Chicago:20241116T140000
DTSTAMP:20260422T035754
CREATED:20240529T170711Z
LAST-MODIFIED:20240529T170711Z
UID:10006475-1731754800-1731765600@www.chicagoculturalalliance.org
SUMMARY:Teen Saturday Studio - Design with LEGO
DESCRIPTION:This workshop is designed to introduce you to the principles and practices of architecture and provide you with hands-on experience in building your own structures. Through a series of interactive activities and design challenges\, you’ll learn about the design process and how architects think and create. Using LEGO bricks\, teens will work in small groups to generate their own design solutions\, and discover how to start small and build BIG! \nFREE; advance registration required
URL:https://www.chicagoculturalalliance.org/event/teen-saturday-studio-design-with-lego/
LOCATION:Harold Washington College\, 30 E Lake St Chicago\, Chicago\, 60601
CATEGORIES:Workshops and Classes
ATTACH;FMTTYPE=image/jpeg:https://www.chicagoculturalalliance.org/wp-content/uploads/2024/05/wide_lrg_teens-saturday-studio-05-6-5.jpg
ORGANIZER;CN="Chicago Architecture Center":MAILTO:info@architecture.org
END:VEVENT
BEGIN:VEVENT
DTSTART;TZID=America/Chicago:20241019T110000
DTEND;TZID=America/Chicago:20241019T140000
DTSTAMP:20260422T035754
CREATED:20240528T184538Z
LAST-MODIFIED:20240528T184538Z
UID:10006474-1729335600-1729346400@www.chicagoculturalalliance.org
SUMMARY:Teen Saturday Studio - Capturing Architecture: Architecture Photography
DESCRIPTION:Do you dream of capturing stunning images that showcase the intricate details and grandeur of buildings? Join us for an immersive workshop where teens will embark on a journey to explore the art of architectural photography. In this exciting workshop\, participants will learn how to merge their love for photography with their appreciation for architecture. Led by seasoned photographers and architectural enthusiasts\, teens will delve into the fundamental principles of composition\, lighting\, and perspective as they uncover the secrets to capturing captivating architectural images. \nFREE; advance registration required
URL:https://www.chicagoculturalalliance.org/event/teen-saturday-studio-capturing-architecture-architecture-photography/
LOCATION:Harold Washington College\, 30 E Lake St Chicago\, Chicago\, 60601
CATEGORIES:Workshops and Classes
ATTACH;FMTTYPE=image/jpeg:https://www.chicagoculturalalliance.org/wp-content/uploads/2024/05/wide_lrg_teens-saturday-studio-05-6-4.jpg
ORGANIZER;CN="Chicago Architecture Center":MAILTO:info@architecture.org
END:VEVENT
BEGIN:VEVENT
DTSTART;TZID=America/Chicago:20240921T110000
DTEND;TZID=America/Chicago:20240921T140000
DTSTAMP:20260422T035754
CREATED:20240529T171743Z
LAST-MODIFIED:20240529T171743Z
UID:10006473-1726916400-1726927200@www.chicagoculturalalliance.org
SUMMARY:Teen Saturday Studio - Façade Design: Architectural Aesthetics
DESCRIPTION:Are you curious about the art of façade design and the elements that contribute to aesthetic appeal? Join us for a workshop where teens will explore the fascinating world of architectural aesthetics! \nIn this dynamic workshop\, participants will embark on a creative journey to understand the importance of façade design in shaping the character and identity of a building. Led by experienced architects and design enthusiasts\, teens will dive into the principles of form\, texture\, color\, and proportion as they discover how these elements come together to create visually captivating façades. \nFREE; advance registration required
URL:https://www.chicagoculturalalliance.org/event/teen-saturday-studio-facade-design-architectural-aesthetics/
LOCATION:Harold Washington College\, 30 E Lake St Chicago\, Chicago\, 60601
CATEGORIES:Workshops and Classes
ATTACH;FMTTYPE=image/jpeg:https://www.chicagoculturalalliance.org/wp-content/uploads/2024/05/wide_lrg_teens-saturday-studio-05-6-3.jpg
ORGANIZER;CN="Chicago Architecture Center":MAILTO:info@architecture.org
END:VEVENT
BEGIN:VEVENT
DTSTART;TZID=America/Chicago:20240817T110000
DTEND;TZID=America/Chicago:20240817T140000
DTSTAMP:20260422T035754
CREATED:20240529T171114Z
LAST-MODIFIED:20240529T171114Z
UID:10006471-1723892400-1723903200@www.chicagoculturalalliance.org
SUMMARY:Teen Saturday Studio - Architectural Drafting: Intro To Sketching
DESCRIPTION:Explore the art of architectural drafting in our engaging workshop and learn essential practices to bring your architectural visions to life on paper. Teens will explore the basics\, learn sketching tools\, practice perspective drawing and sketch architectural elements. Learn tips and techniques to improve your sketching skills and refine your design process. \nFREE; advance registration required
URL:https://www.chicagoculturalalliance.org/event/teen-saturday-studio-architectural-drafting-intro-to-sketching/
LOCATION:Harold Washington College\, 30 E Lake St Chicago\, Chicago\, 60601
CATEGORIES:Workshops and Classes
ATTACH;FMTTYPE=image/jpeg:https://www.chicagoculturalalliance.org/wp-content/uploads/2024/05/wide_lrg_teens-saturday-studio-05-6-1.jpg
ORGANIZER;CN="Chicago Architecture Center":MAILTO:info@architecture.org
END:VEVENT
BEGIN:VEVENT
DTSTART;TZID=America/Chicago:20240615T110000
DTEND;TZID=America/Chicago:20240615T140000
DTSTAMP:20260422T035754
CREATED:20240401T230640Z
LAST-MODIFIED:20240401T230640Z
UID:10006260-1718449200-1718460000@www.chicagoculturalalliance.org
SUMMARY:Design a City: Urban Planning - Teen Saturday Studios
DESCRIPTION:Join us for an exciting and engaging workshop on urban planning\, in which participants will learn how to design a city that is sustainable\, equitable\, and livable. Teens will explore key principles of urban planning\, including zoning\, transportation\, public spaces\, and community engagement. this workshop is an opportunity to engage with the critical issues facing our urban landscapes and learn how to shape the future of our communities. Don’t miss out on this chance to be part of the solution! To register for our programs\, please ensure that you log in or create an account before proceeding to the checkout. \nLed by experienced professionals in architecture\, design\, engineering\, and other related fields\, Teen Saturday Studios offer a unique opportunity to learn from those in the field and develop valuable skills that can be applied in a range of real-world settings. Participants are welcome to enroll in individual sessions\, though are encouraged to experience the scope of opportunities. Spots are limited\, so stay connected and register soon! \nFREE; advance registration required
URL:https://www.chicagoculturalalliance.org/event/design-a-city-urban-planning-teen-saturday-studios/
LOCATION:Harold Washington College\, 30 E Lake St Chicago\, Chicago\, 60601
CATEGORIES:Workshops and Classes
ATTACH;FMTTYPE=image/png:https://www.chicagoculturalalliance.org/wp-content/uploads/2024/03/wide_lrg_what-s-going-on-homepage-2-2-1.png
ORGANIZER;CN="Chicago Architecture Center":MAILTO:info@architecture.org
END:VEVENT
BEGIN:VEVENT
DTSTART;TZID=America/Chicago:20240217T100000
DTEND;TZID=America/Chicago:20240217T140000
DTSTAMP:20260422T035754
CREATED:20240124T192456Z
LAST-MODIFIED:20240129T174440Z
UID:10004878-1708164000-1708178400@www.chicagoculturalalliance.org
SUMMARY:Teen Saturday Studio: Digital Architectural Spacers - CGI
DESCRIPTION:This workshop is designed to provide youth with hands-on experience in creating 2D visualizations of architectural designs using cutting-edge computer-generated imagery (CGI) software. Teens will discover how architects use CGI software to bring their designs to life and learn about tools and techniques used to create stunning visualizations of buildings\, interiors\, and landscapes. Using CGI software\, teens will work independently to develop a floor plan and turn their design ideas into visualizations.  To register for our programs\, please ensure that you log in or create an account before proceeding to the checkout. \nFree with Registration
URL:https://www.chicagoculturalalliance.org/event/teen-saturday-studio-digital-architectural-spacers-cgi/
LOCATION:Harold Washington College\, 30 E Lake St Chicago\, Chicago\, 60601
CATEGORIES:Workshops and Classes
ATTACH;FMTTYPE=image/png:https://www.chicagoculturalalliance.org/wp-content/uploads/2024/01/what-s-going-on-homepage-2-2-1.png
ORGANIZER;CN="Chicago Architecture Center":MAILTO:info@architecture.org
END:VEVENT
END:VCALENDAR