BEGIN:VCALENDAR
VERSION:2.0
PRODID:-//Chicago Cultural Alliance - ECPv6.15.20//NONSGML v1.0//EN
CALSCALE:GREGORIAN
METHOD:PUBLISH
X-WR-CALNAME:Chicago Cultural Alliance
X-ORIGINAL-URL:https://www.chicagoculturalalliance.org
X-WR-CALDESC:Events for Chicago Cultural Alliance
REFRESH-INTERVAL;VALUE=DURATION:PT1H
X-Robots-Tag:noindex
X-PUBLISHED-TTL:PT1H
BEGIN:VTIMEZONE
TZID:America/Chicago
BEGIN:DAYLIGHT
TZOFFSETFROM:-0600
TZOFFSETTO:-0500
TZNAME:CDT
DTSTART:20240310T080000
END:DAYLIGHT
BEGIN:STANDARD
TZOFFSETFROM:-0500
TZOFFSETTO:-0600
TZNAME:CST
DTSTART:20241103T070000
END:STANDARD
BEGIN:DAYLIGHT
TZOFFSETFROM:-0600
TZOFFSETTO:-0500
TZNAME:CDT
DTSTART:20250309T080000
END:DAYLIGHT
BEGIN:STANDARD
TZOFFSETFROM:-0500
TZOFFSETTO:-0600
TZNAME:CST
DTSTART:20251102T070000
END:STANDARD
BEGIN:DAYLIGHT
TZOFFSETFROM:-0600
TZOFFSETTO:-0500
TZNAME:CDT
DTSTART:20260308T080000
END:DAYLIGHT
BEGIN:STANDARD
TZOFFSETFROM:-0500
TZOFFSETTO:-0600
TZNAME:CST
DTSTART:20261101T070000
END:STANDARD
END:VTIMEZONE
BEGIN:VEVENT
DTSTART;TZID=America/Chicago:20250126T150000
DTEND;TZID=America/Chicago:20250126T173000
DTSTAMP:20260423T102757
CREATED:20250116T152929Z
LAST-MODIFIED:20250116T152929Z
UID:10007779-1737903600-1737912600@www.chicagoculturalalliance.org
SUMMARY:Chinese New Year Dumpling Making Dinner - Chicago Chinese Cultural Institute's 20th Year Celebration
DESCRIPTION:Join us at the Annual Chinese New Year Dumpling Making Dinner on Sunday\, Jan 26\, 2025 at Hing Kee Restaurant\, 2nd Floor. This is our 20th year anniversary. Get ready to indulge in a fun-filled afternoon of family style celebration as we welcome the Year of the Snake! (If you are not available on Jan. 26\, we offer this event on Feb. 1 and Feb. 2) \nBring your friends and family along to this exciting event where you’ll learn the story of Chinese New Year\, practice making dumpling by your own hands\, discover the dos and don’t for the celebration in Chinese tradition\, while enjoying the lively atmosphere and a traditional Chinese lion dance. \nAs you immerse yourself in the festivities\, you’ll also get to taste a wide variety of Chinese food\, each bursting with unique flavors. From classic Mongolian Beef to Vegetarian options\, there’s something for everyone to savor. \nDon’t miss out on the chance to experience our Annual Chinese New Year Dumpling Making Dinner! Book your spot now and be part of this memorable celebration. Get ready to roll\, fold\, and feast your way into the Lunar New Year!
URL:https://www.chicagoculturalalliance.org/event/chinese-new-year-dumpling-making-dinner-chicago-chinese-cultural-institutes-20th-year-celebration/
LOCATION:Hing Kee Restaurant\, 2140 South Archer Avenue\, Chicago\, 60616
CATEGORIES:Cultural Festivals and Fairs
ATTACH;FMTTYPE=image/png:https://www.chicagoculturalalliance.org/wp-content/uploads/2025/01/Screenshot-2025-01-08-at-2.43.13 PM-2-2.png
ORGANIZER;CN="Chicago Chinese Cultural Institute":MAILTO:info@chicagocci.com
END:VEVENT
END:VCALENDAR