BEGIN:VCALENDAR
VERSION:2.0
PRODID:-//Chicago Cultural Alliance - ECPv6.15.20//NONSGML v1.0//EN
CALSCALE:GREGORIAN
METHOD:PUBLISH
X-WR-CALNAME:Chicago Cultural Alliance
X-ORIGINAL-URL:https://www.chicagoculturalalliance.org
X-WR-CALDESC:Events for Chicago Cultural Alliance
REFRESH-INTERVAL;VALUE=DURATION:PT1H
X-Robots-Tag:noindex
X-PUBLISHED-TTL:PT1H
BEGIN:VTIMEZONE
TZID:America/Chicago
BEGIN:DAYLIGHT
TZOFFSETFROM:-0600
TZOFFSETTO:-0500
TZNAME:CDT
DTSTART:20220313T080000
END:DAYLIGHT
BEGIN:STANDARD
TZOFFSETFROM:-0500
TZOFFSETTO:-0600
TZNAME:CST
DTSTART:20221106T070000
END:STANDARD
BEGIN:DAYLIGHT
TZOFFSETFROM:-0600
TZOFFSETTO:-0500
TZNAME:CDT
DTSTART:20230312T080000
END:DAYLIGHT
BEGIN:STANDARD
TZOFFSETFROM:-0500
TZOFFSETTO:-0600
TZNAME:CST
DTSTART:20231105T070000
END:STANDARD
BEGIN:DAYLIGHT
TZOFFSETFROM:-0600
TZOFFSETTO:-0500
TZNAME:CDT
DTSTART:20240310T080000
END:DAYLIGHT
BEGIN:STANDARD
TZOFFSETFROM:-0500
TZOFFSETTO:-0600
TZNAME:CST
DTSTART:20241103T070000
END:STANDARD
END:VTIMEZONE
BEGIN:VEVENT
DTSTART;TZID=America/Chicago:20230204T140000
DTEND;TZID=America/Chicago:20230204T160000
DTSTAMP:20260421T034856
CREATED:20230126T165244Z
LAST-MODIFIED:20230126T165244Z
UID:10003208-1675519200-1675526400@www.chicagoculturalalliance.org
SUMMARY:Korean Games & Crafts
DESCRIPTION:The Korean Cultural Center of Chicago presents a variety of traditional Korean games and crafts. Learn to play Ddakji Making\, Jegi-chagi or Tuho or make a mask or kite. Drop in to participate anytime between 2-4 pm. Registration not required. All ages.
URL:https://www.chicagoculturalalliance.org/event/korean-games-crafts/
LOCATION:Indian Trails Public Library\, 355 Schoenbeck Rd\, Wheeling\, IL\, 60090\, United States
GEO:42.1326831;-87.9451982
X-APPLE-STRUCTURED-LOCATION;VALUE=URI;X-ADDRESS=Indian Trails Public Library 355 Schoenbeck Rd Wheeling IL 60090 United States;X-APPLE-RADIUS=500;X-TITLE=355 Schoenbeck Rd:geo:-87.9451982,42.1326831
END:VEVENT
END:VCALENDAR