BEGIN:VCALENDAR
VERSION:2.0
PRODID:-//Chicago Cultural Alliance - ECPv6.15.20//NONSGML v1.0//EN
CALSCALE:GREGORIAN
METHOD:PUBLISH
X-ORIGINAL-URL:https://www.chicagoculturalalliance.org
X-WR-CALDESC:Events for Chicago Cultural Alliance
REFRESH-INTERVAL;VALUE=DURATION:PT1H
X-Robots-Tag:noindex
X-PUBLISHED-TTL:PT1H
BEGIN:VTIMEZONE
TZID:America/Chicago
BEGIN:DAYLIGHT
TZOFFSETFROM:-0600
TZOFFSETTO:-0500
TZNAME:CDT
DTSTART:20240310T080000
END:DAYLIGHT
BEGIN:STANDARD
TZOFFSETFROM:-0500
TZOFFSETTO:-0600
TZNAME:CST
DTSTART:20241103T070000
END:STANDARD
BEGIN:DAYLIGHT
TZOFFSETFROM:-0600
TZOFFSETTO:-0500
TZNAME:CDT
DTSTART:20250309T080000
END:DAYLIGHT
BEGIN:STANDARD
TZOFFSETFROM:-0500
TZOFFSETTO:-0600
TZNAME:CST
DTSTART:20251102T070000
END:STANDARD
BEGIN:DAYLIGHT
TZOFFSETFROM:-0600
TZOFFSETTO:-0500
TZNAME:CDT
DTSTART:20260308T080000
END:DAYLIGHT
BEGIN:STANDARD
TZOFFSETFROM:-0500
TZOFFSETTO:-0600
TZNAME:CST
DTSTART:20261101T070000
END:STANDARD
END:VTIMEZONE
BEGIN:VEVENT
DTSTART;TZID=America/Chicago:20250617T080000
DTEND;TZID=America/Chicago:20250617T170000
DTSTAMP:20260423T062010
CREATED:20250626T170144Z
LAST-MODIFIED:20250626T170144Z
UID:10008015-1750147200-1750179600@www.chicagoculturalalliance.org
SUMMARY:‘Beyond Closure’: A Screening & Discussion
DESCRIPTION:Join us at Kennedy-King College for a screening of Beyond Closure (2024) and a panel discussion on community responses to Chicago’s 2013 school closures. \n  \n\n\n\n\n\n\n\nThe documentary Beyond Closure (2024) by On The Real Film and Borderless Studio recalls the history of Chicago’s 2013 school closures—the largest mass closure in U.S. history—and shares inspirational stories of community reclamation. Join us at Kennedy-King College in Englewood for a screening and panel discussion\, in partnership with Go Green on Racine. \nTaking a deeper look at three schools in Austin\, Bronzeville\, and Englewood\, Beyond Closure amplifies community voices leading the repurposing of Emmet\, Woods\, and Overton schools. They reflect on the local impact of these closures\, the struggle to reclaim school buildings for the public good\, and the intertwined inequity\, racism\, and injustice that led to shuttering of 50 neighborhood schools all at once\, mainly in low-income communities of color. \nAfter the film\, a panel discussion will bring together architects and community developers working on “The Regenerator\,” a nexus for housing\, healthcare\, and jobs within the former Woods Academy\, to address challenges overcome in the adaptive reuse. Borderless Studio’s Paola Aguirre Serrano moderates. \nWatch the trailer. \n\n\n\n\n\n\n\n 
URL:https://www.chicagoculturalalliance.org/event/beyond-closure-a-screening-discussion/
LOCATION:Kennedy-King College Theater\, 740 W. 63rd Street\, Chicago\, 60621
CATEGORIES:Music, Film, and Theater,Talks and Gatherings,Tour
ATTACH;FMTTYPE=image/png:https://www.chicagoculturalalliance.org/wp-content/uploads/2025/06/Screenshot-2025-06-17-140413.png
ORGANIZER;CN="Chicago Architecture Center":MAILTO:info@architecture.org
END:VEVENT
END:VCALENDAR