BEGIN:VCALENDAR
VERSION:2.0
PRODID:-//Chicago Cultural Alliance - ECPv6.15.20//NONSGML v1.0//EN
CALSCALE:GREGORIAN
METHOD:PUBLISH
X-WR-CALNAME:Chicago Cultural Alliance
X-ORIGINAL-URL:https://www.chicagoculturalalliance.org
X-WR-CALDESC:Events for Chicago Cultural Alliance
REFRESH-INTERVAL;VALUE=DURATION:PT1H
X-Robots-Tag:noindex
X-PUBLISHED-TTL:PT1H
BEGIN:VTIMEZONE
TZID:America/Chicago
BEGIN:DAYLIGHT
TZOFFSETFROM:-0600
TZOFFSETTO:-0500
TZNAME:CDT
DTSTART:20220313T080000
END:DAYLIGHT
BEGIN:STANDARD
TZOFFSETFROM:-0500
TZOFFSETTO:-0600
TZNAME:CST
DTSTART:20221106T070000
END:STANDARD
BEGIN:DAYLIGHT
TZOFFSETFROM:-0600
TZOFFSETTO:-0500
TZNAME:CDT
DTSTART:20230312T080000
END:DAYLIGHT
BEGIN:STANDARD
TZOFFSETFROM:-0500
TZOFFSETTO:-0600
TZNAME:CST
DTSTART:20231105T070000
END:STANDARD
BEGIN:DAYLIGHT
TZOFFSETFROM:-0600
TZOFFSETTO:-0500
TZNAME:CDT
DTSTART:20240310T080000
END:DAYLIGHT
BEGIN:STANDARD
TZOFFSETFROM:-0500
TZOFFSETTO:-0600
TZNAME:CST
DTSTART:20241103T070000
END:STANDARD
END:VTIMEZONE
BEGIN:VEVENT
DTSTART;TZID=America/Chicago:20231202T180000
DTEND;TZID=America/Chicago:20231202T235900
DTSTAMP:20260422T233207
CREATED:20230821T153553Z
LAST-MODIFIED:20230821T153553Z
UID:10004372-1701540000-1701561540@www.chicagoculturalalliance.org
SUMMARY:2023 Balzekas Museum Award Dinner Honoring the Hon. John V. Prunskis\, MD
DESCRIPTION:The Balzekas Museum of Lithuanian Culture will honor John V. Prunskis for his service and contributions in the field of anesthesiology and to the United States and Lithuania.
URL:https://www.chicagoculturalalliance.org/event/2023-balzekas-museum-award-dinner-honoring-the-hon-john-v-prunskis-md/
LOCATION:Le Méridien Chicago – Oakbrook Center\, 2100 Spring Rd\, Oak Brook\, United States
ATTACH;FMTTYPE=image/jpeg:https://www.chicagoculturalalliance.org/wp-content/uploads/2023/08/https-__cdn.evbuc_.com_images_571055439_227912696786_1_original.jpg
GEO:41.8501704;-87.9489886
X-APPLE-STRUCTURED-LOCATION;VALUE=URI;X-ADDRESS=Le Méridien Chicago – Oakbrook Center 2100 Spring Rd Oak Brook United States;X-APPLE-RADIUS=500;X-TITLE=2100 Spring Rd:geo:-87.9489886,41.8501704
END:VEVENT
END:VCALENDAR