BEGIN:VCALENDAR
VERSION:2.0
PRODID:-//Chicago Cultural Alliance - ECPv6.15.20//NONSGML v1.0//EN
CALSCALE:GREGORIAN
METHOD:PUBLISH
X-ORIGINAL-URL:https://www.chicagoculturalalliance.org
X-WR-CALDESC:Events for Chicago Cultural Alliance
REFRESH-INTERVAL;VALUE=DURATION:PT1H
X-Robots-Tag:noindex
X-PUBLISHED-TTL:PT1H
BEGIN:VTIMEZONE
TZID:America/Chicago
BEGIN:DAYLIGHT
TZOFFSETFROM:-0600
TZOFFSETTO:-0500
TZNAME:CDT
DTSTART:20230312T080000
END:DAYLIGHT
BEGIN:STANDARD
TZOFFSETFROM:-0500
TZOFFSETTO:-0600
TZNAME:CST
DTSTART:20231105T070000
END:STANDARD
BEGIN:DAYLIGHT
TZOFFSETFROM:-0600
TZOFFSETTO:-0500
TZNAME:CDT
DTSTART:20240310T080000
END:DAYLIGHT
BEGIN:STANDARD
TZOFFSETFROM:-0500
TZOFFSETTO:-0600
TZNAME:CST
DTSTART:20241103T070000
END:STANDARD
BEGIN:DAYLIGHT
TZOFFSETFROM:-0600
TZOFFSETTO:-0500
TZNAME:CDT
DTSTART:20250309T080000
END:DAYLIGHT
BEGIN:STANDARD
TZOFFSETFROM:-0500
TZOFFSETTO:-0600
TZNAME:CST
DTSTART:20251102T070000
END:STANDARD
END:VTIMEZONE
BEGIN:VEVENT
DTSTART;TZID=America/Chicago:20241214T180000
DTEND;TZID=America/Chicago:20241214T210000
DTSTAMP:20260422T232941
CREATED:20241206T174711Z
LAST-MODIFIED:20241206T174711Z
UID:10007354-1734199200-1734210000@www.chicagoculturalalliance.org
SUMMARY:Sistah Scrooge - Red Carpet Movie Premiere - a CoquieHughes film
DESCRIPTION:🎄✨ Experience the Holiday Magic Like Never Before! ✨🎄 \nJoin us for the highly-anticipated Chicago premiere of Sistah Scrooge\, a bold and modern twist on the classic redemption tale of A Christmas Carol. Written\, produced and directed by the visionary CoquieHughes and shot entirely on smartphones\, this urban holiday film promises heart\, humor\, and inspiration. \n💫 Event Schedule: \nDoors Open: 6:00 PM\nPre-Screening Reception: 6:00 PM – 7:00 PM\nSip on holiday-themed refreshments\, mingle with cast and crew\, and capture the moment in front of our festive Sistah Scrooge backdrop!\nFilm Screening: 7:15 PM – 8:30 PM\nDive into the story of Thomalisa White\, a wealthy and unapologetic businesswoman whose icy heart is about to be thawed by three unforgettable spirits determined to show her the true meaning of love\, community\, and holiday spirit.\nPost-Screening Q&A: 8:30 PM – 9:00 PM\nStick around for an engaging discussion with the director\, cast\, and crew! Get the behind-the-scenes scoop on how this holiday masterpiece came to life. \n📸 Photo Opportunities\nThroughout the evening\, capture memories with our stunning movie-themed backdrop and meet the creative team behind the film. \n🎥 Sistah Scrooge combines urban flair\, soulful storytelling\, and holiday cheer in a way you’ve never seen before. Whether you’re a fan of modern cinema or classic holiday tales\, this event is a must-attend! \n💌 Don’t miss out on the chance to be part of this magical evening—your holiday season won’t be complete without Sistah Scrooge! \n🎟️ Get your tickets now! Limited seating available.
URL:https://www.chicagoculturalalliance.org/event/sistah-scrooge-red-carpet-movie-premiere-a-coquiehughes-film/
LOCATION:Malcolm X College\, 1900 W Jackson Blvd\, Chicago\, 60612
CATEGORIES:Music, Film, and Theater
ATTACH;FMTTYPE=image/jpeg:https://www.chicagoculturalalliance.org/wp-content/uploads/2024/12/Sistah-Scrooge-Poster-2024.jpeg
ORGANIZER;CN="Pocket Cinema Studios":MAILTO:jjones.jch@gmail.com
END:VEVENT
BEGIN:VEVENT
DTSTART;TZID=America/Chicago:20241025T090000
DTEND;TZID=America/Chicago:20241025T160000
DTSTAMP:20260422T232941
CREATED:20241017T204447Z
LAST-MODIFIED:20241017T204447Z
UID:10007299-1729846800-1729872000@www.chicagoculturalalliance.org
SUMMARY:2024 Breakin' It Down Conference: Rooted in Purpose
DESCRIPTION:Since 2003\, Breakin’ It Down (BID)\, a fiscal sponsorship project of Mujeres Latinas en Accion\, has striven to advance racial equity in the field of nonprofit\, philanthropy\, and fundraising\, The Breakin’ It Down Conference provides equitable access to relevant programming and engages diverse professionals\, community volunteers\, grassroots activists\, and other stakeholders who serve under-recognized communities in the Chicago area in a day of thoughtful discourse.  \nThis important event’s interactive agenda focuses on key challenges in the field\, encouraging professional excellence\, promoting professional opportunity through networking and collaboration\, and exploring best practices and different sustainability strategies. Participants leave with an increased understanding of a substantive range of pertinent issues and an increased ability to be agents of change in our field.
URL:https://www.chicagoculturalalliance.org/event/2024-breakin-it-down-conference-rooted-in-purpose/
LOCATION:Malcolm X College\, 1900 W Jackson Blvd\, Chicago\, 60612
CATEGORIES:Talks and Gatherings
ATTACH;FMTTYPE=image/png:https://www.chicagoculturalalliance.org/wp-content/uploads/2024/10/BID_2024-L-2.png
ORGANIZER;CN="Breakin' It Down%2Ca fiscal sponsorship project of Mujeres Latinas en Accion":MAILTO:hello@breakinitdownchicago.org
END:VEVENT
END:VCALENDAR