BEGIN:VCALENDAR
VERSION:2.0
PRODID:-//Chicago Cultural Alliance - ECPv6.15.20//NONSGML v1.0//EN
CALSCALE:GREGORIAN
METHOD:PUBLISH
X-WR-CALNAME:Chicago Cultural Alliance
X-ORIGINAL-URL:https://www.chicagoculturalalliance.org
X-WR-CALDESC:Events for Chicago Cultural Alliance
REFRESH-INTERVAL;VALUE=DURATION:PT1H
X-Robots-Tag:noindex
X-PUBLISHED-TTL:PT1H
BEGIN:VTIMEZONE
TZID:America/Chicago
BEGIN:DAYLIGHT
TZOFFSETFROM:-0600
TZOFFSETTO:-0500
TZNAME:CDT
DTSTART:20210314T080000
END:DAYLIGHT
BEGIN:STANDARD
TZOFFSETFROM:-0500
TZOFFSETTO:-0600
TZNAME:CST
DTSTART:20211107T070000
END:STANDARD
BEGIN:DAYLIGHT
TZOFFSETFROM:-0600
TZOFFSETTO:-0500
TZNAME:CDT
DTSTART:20220313T080000
END:DAYLIGHT
BEGIN:STANDARD
TZOFFSETFROM:-0500
TZOFFSETTO:-0600
TZNAME:CST
DTSTART:20221106T070000
END:STANDARD
BEGIN:DAYLIGHT
TZOFFSETFROM:-0600
TZOFFSETTO:-0500
TZNAME:CDT
DTSTART:20230312T080000
END:DAYLIGHT
BEGIN:STANDARD
TZOFFSETFROM:-0500
TZOFFSETTO:-0600
TZNAME:CST
DTSTART:20231105T070000
END:STANDARD
BEGIN:DAYLIGHT
TZOFFSETFROM:-0600
TZOFFSETTO:-0500
TZNAME:CDT
DTSTART:20240310T080000
END:DAYLIGHT
BEGIN:STANDARD
TZOFFSETFROM:-0500
TZOFFSETTO:-0600
TZNAME:CST
DTSTART:20241103T070000
END:STANDARD
END:VTIMEZONE
BEGIN:VEVENT
DTSTART;TZID=America/Chicago:20231118T110000
DTEND;TZID=America/Chicago:20231118T150000
DTSTAMP:20260422T035756
CREATED:20231102T223334Z
LAST-MODIFIED:20240126T015459Z
UID:10004592-1700305200-1700319600@www.chicagoculturalalliance.org
SUMMARY:FREE Guided Tours at the National Hellenic Museum
DESCRIPTION:Join us for our FREE\, limited-time offer guided tours every Saturday at 11 a.m. and 2 p.m. These one-hour tours offer a comprehensive journey through the museum’s rich exhibitions and artifacts. \n\n\n 
URL:https://www.chicagoculturalalliance.org/event/free-guided-tours-at-the-national-hellenic-museum/2023-11-18/
LOCATION:National Hellenic Museum\, 333 S. Halsted St.\, Chicago\, IL\, 60661\, United States
CATEGORIES:Exhibitions and Gallery Events
ATTACH;FMTTYPE=image/jpeg:https://www.chicagoculturalalliance.org/wp-content/uploads/2023/10/https___cdn.evbuc_.com_images_627798979_580525801583_1_original.jpg
GEO:41.8769371;-87.646937
X-APPLE-STRUCTURED-LOCATION;VALUE=URI;X-ADDRESS=National Hellenic Museum 333 S. Halsted St. Chicago IL 60661 United States;X-APPLE-RADIUS=500;X-TITLE=333 S. Halsted St.:geo:-87.646937,41.8769371
END:VEVENT
BEGIN:VEVENT
DTSTART;TZID=America/Chicago:20231111T110000
DTEND;TZID=America/Chicago:20231111T150000
DTSTAMP:20260422T035756
CREATED:20231102T223334Z
LAST-MODIFIED:20240126T015459Z
UID:10004591-1699700400-1699714800@www.chicagoculturalalliance.org
SUMMARY:FREE Guided Tours at the National Hellenic Museum
DESCRIPTION:Join us for our FREE\, limited-time offer guided tours every Saturday at 11 a.m. and 2 p.m. These one-hour tours offer a comprehensive journey through the museum’s rich exhibitions and artifacts. \n\n\n 
URL:https://www.chicagoculturalalliance.org/event/free-guided-tours-at-the-national-hellenic-museum/2023-11-11/
LOCATION:National Hellenic Museum\, 333 S. Halsted St.\, Chicago\, IL\, 60661\, United States
CATEGORIES:Exhibitions and Gallery Events
ATTACH;FMTTYPE=image/jpeg:https://www.chicagoculturalalliance.org/wp-content/uploads/2023/10/https___cdn.evbuc_.com_images_627798979_580525801583_1_original.jpg
GEO:41.8769371;-87.646937
X-APPLE-STRUCTURED-LOCATION;VALUE=URI;X-ADDRESS=National Hellenic Museum 333 S. Halsted St. Chicago IL 60661 United States;X-APPLE-RADIUS=500;X-TITLE=333 S. Halsted St.:geo:-87.646937,41.8769371
END:VEVENT
BEGIN:VEVENT
DTSTART;TZID=America/Chicago:20231104T110000
DTEND;TZID=America/Chicago:20231104T150000
DTSTAMP:20260422T035756
CREATED:20231102T223334Z
LAST-MODIFIED:20240126T015459Z
UID:10004590-1699095600-1699110000@www.chicagoculturalalliance.org
SUMMARY:FREE Guided Tours at the National Hellenic Museum
DESCRIPTION:Join us for our FREE\, limited-time offer guided tours every Saturday at 11 a.m. and 2 p.m. These one-hour tours offer a comprehensive journey through the museum’s rich exhibitions and artifacts. \n\n\n 
URL:https://www.chicagoculturalalliance.org/event/free-guided-tours-at-the-national-hellenic-museum/2023-11-04/
LOCATION:National Hellenic Museum\, 333 S. Halsted St.\, Chicago\, IL\, 60661\, United States
CATEGORIES:Exhibitions and Gallery Events
ATTACH;FMTTYPE=image/jpeg:https://www.chicagoculturalalliance.org/wp-content/uploads/2023/10/https___cdn.evbuc_.com_images_627798979_580525801583_1_original.jpg
GEO:41.8769371;-87.646937
X-APPLE-STRUCTURED-LOCATION;VALUE=URI;X-ADDRESS=National Hellenic Museum 333 S. Halsted St. Chicago IL 60661 United States;X-APPLE-RADIUS=500;X-TITLE=333 S. Halsted St.:geo:-87.646937,41.8769371
END:VEVENT
BEGIN:VEVENT
DTSTART;TZID=America/Chicago:20221027T183000
DTEND;TZID=America/Chicago:20221027T200000
DTSTAMP:20260422T035756
CREATED:20220920T175211Z
LAST-MODIFIED:20221017T194706Z
UID:10001775-1666895400-1666900800@www.chicagoculturalalliance.org
SUMMARY:Journey Chicago: Stories that Travel: Mythology\, Folklore\, and Diaspora
DESCRIPTION:This event is part of Journey Chicago\, the Chicago Cultural Alliance’s annual citywide festival of cross-cultural events. \nA panel discussion focusing on the varied relationships different Diaspora communities have with the mythological & folklore stories of their culture of origin. We are specifically interested in interrogating the ways in which different communities invest in or distance themselves from their ancient/classical mythology and folklore in the American Diaspora\, and how those relationships have shifted over time. We will examine this question through both an academic & artistic lens. \n  \nOur Panel: \nAnna Cai (they/them) is a queer Indonesian Chinese American community-driven artist currently living in Chicago who explores the futurities of Asian diasporic identity through relationships\, textiles\, costume\, performance\, film\, graphic design\, and print media. At the center of their creative and social practice is a desire to steer their community into a future that embraces a transformation of fiction and reality and rejects outdated constructs of nation\, gender and capital. \nCai has received multiple awards for their work in art\, design\, and community engagement. They were a finalist in Lesotho Fashion Week of 2018 and their work in film has been selected for Lesotho Film Festival between the years of 2018-2020. Most recently they were a recipient of the 2020 New Artist Society scholarship\, the 2022 Caxton Book Club grant\, and Graphic Design USA’s 2022 Students to Watch Award. They are also a member of the 2022 Spring Tanda Artist Research fellowship program hosted by Chuquimarca Art Library in Chicago\, Illinois. They have collaborated with several organizations internationally including the Morija Arts Centre\, The Hub in Morija\, Lesotho Girls in Tech\, the Public Housing Authority of Residents in Charlottesville\, the White House Kitchen Garden initiative\, and the Chinese Historical Society of Memphis & the Midsouth. They have initiated numerous independent publications and initiatives such as The Morija Makers (2018)\, Stories from Westhaven (2016)\, and the upcoming Chicago-based independent magazine Tongues (2022). \nThey received a BS in Architecture from the University of Virginia. In 2016 to 2018 they served as a Peace Corps volunteer in Lesotho. Upon leaving the organization\, Cai apprenticed with a local textile artist and began exploring identity expression through wearable sculpture and performance. During this time\, they gained invaluable experience on how to build trusting relationships and engage in art-making that embraces an art practice at the intersection of community building\, education\, and design. They recently completed an MFA Visual Communication program at the School of the Arts Institute of Chicago where they were immersed in rituals that combine mythology\, pleasure\, play\, historical fabulation\, and the reclaiming of archives. \nDr. Katherine Kelaidis is the Director of Research and Content at the National Hellenic Museum. She has held research appointments at the American University in Cairo\, Oxford University\, and the Free University Berlin. She is also a Senior Editor at Religion Dispatches. Dr. Kelaidis holds a B.A. in Classical Languages from the University of California\, Berkeley and a Ph.D. in Classics from the University of London. \n  \nCori Nakamura Lin a midwest-based Japanese//Taiwanese-American illustrator and designer specializing in movement art and culture-centered storytelling. By visualizing narratives and illuminating concepts\, Cori makes art that fuels action. Some current projects include illustrating curriculum covering Japanese American Resettlement to Chicago in partnership with Katherine Nagasawa\, JASC\, and the JACS Grant\, and illustrating Cori’s sister\, Jami Nakamura Lin’s\, forthcoming book The Night Parade. \nWebsite: https://corilin.co/\nEtsy: https://www.etsy.com/shop/CoriLinArt \nInstagram: @cori.lin.art \n  \nJami Nakamura Lin is the author of the illustrated speculative memoir The Night Parade (Mariner/HarperCollins and Scribe UK\, 2023). A Catapult columnist\, she’s been published in The New York Times\, Electric Literature\, Passages North\, the anthology What God is Honored Here? (U. Minnesota Press) and other publications. She received a 2016 National Endowment of the Arts and the Japan-U.S. Friendship Commission\, and a 2015 Walter Dean Myers Grant from We Need Diverse Books. Her work interrogates mythology\, monstrosity\, mental illness\, and motherhood. \nWebsite: https://jaminakamuralin.com/ \nBook updates/newsletter: https://rokurokubi.substack.com/ \nInstagram: @jami_lin \nTwitter: @jaminlin \n  \nModerator: Cairo Dye\, NHM Programs & Events Manager
URL:https://www.chicagoculturalalliance.org/event/journey-chicago-stories-that-travel-mythology-folklore-and-diaspora/
LOCATION:National Hellenic Museum\, 333 S. Halsted St.\, Chicago\, IL\, 60661\, United States
CATEGORIES:Alliance Events,Talks and Gatherings
ATTACH;FMTTYPE=image/png:https://www.chicagoculturalalliance.org/wp-content/uploads/2022/09/Journey-Chicago-2022-Social-Media-square-template.png
GEO:41.8769371;-87.646937
X-APPLE-STRUCTURED-LOCATION;VALUE=URI;X-ADDRESS=National Hellenic Museum 333 S. Halsted St. Chicago IL 60661 United States;X-APPLE-RADIUS=500;X-TITLE=333 S. Halsted St.:geo:-87.646937,41.8769371
END:VEVENT
BEGIN:VEVENT
DTSTART;TZID=America/Chicago:20220918T100000
DTEND;TZID=America/Chicago:20220918T170000
DTSTAMP:20260422T035756
CREATED:20220728T164513Z
LAST-MODIFIED:20220810T190335Z
UID:10001651-1663495200-1663520400@www.chicagoculturalalliance.org
SUMMARY:Opening Weekend: RESILIENCE – Photography Exhibit
DESCRIPTION:Join us for the grand reopening of the National Hellenic Museum this fall \nwith the world premiere of a major photography exhibition \nResilience\nBy HRH Prince Nikolaos\nSeptember 16 – December 30\, 2022 \nPrince Nikolaos is an accomplished photographer whose work has been exhibited in major global cities including Athens\, London\, Copenhagen\, Doha and Melbourne—and now Chicago audiences and visitors from across the country will have the opportunity to experience his striking and impactful images. The National Hellenic Museum is honored to host Prince Nikolaos’ North American exhibition debut and excited to welcome our community back to the museum this fall. \nMore information on Resilience is available on the NHM website here and in this article from The National Herald. \n_______________ \nResilience by HRH Prince Nikolaos will be exhibited at the National Hellenic Museum (333 S. Halsted Street\, Chicago) from September 16 through December 30\, 2022. \nMuseum hours are Friday-Sunday from 10 AM -5 PM\nTickets to the museum are $10 and include admission to all exhibits. Discounts are available for seniors\, students and children. \nFor more information\, visit nationalhellenicmuseum.org or call 312-655-1234
URL:https://www.chicagoculturalalliance.org/event/opening-weekend-resilience-photography-exhibit/2022-09-18/
LOCATION:National Hellenic Museum\, 333 S. Halsted St.\, Chicago\, IL\, 60661\, United States
CATEGORIES:Exhibitions and Gallery Events,Member Events
ATTACH;FMTTYPE=image/jpeg:https://www.chicagoculturalalliance.org/wp-content/uploads/2022/07/Resilience.jpg
GEO:41.8769371;-87.646937
X-APPLE-STRUCTURED-LOCATION;VALUE=URI;X-ADDRESS=National Hellenic Museum 333 S. Halsted St. Chicago IL 60661 United States;X-APPLE-RADIUS=500;X-TITLE=333 S. Halsted St.:geo:-87.646937,41.8769371
END:VEVENT
BEGIN:VEVENT
DTSTART;TZID=America/Chicago:20220917T100000
DTEND;TZID=America/Chicago:20220917T170000
DTSTAMP:20260422T035756
CREATED:20220728T164513Z
LAST-MODIFIED:20220810T190335Z
UID:10001650-1663408800-1663434000@www.chicagoculturalalliance.org
SUMMARY:Opening Weekend: RESILIENCE – Photography Exhibit
DESCRIPTION:Join us for the grand reopening of the National Hellenic Museum this fall \nwith the world premiere of a major photography exhibition \nResilience\nBy HRH Prince Nikolaos\nSeptember 16 – December 30\, 2022 \nPrince Nikolaos is an accomplished photographer whose work has been exhibited in major global cities including Athens\, London\, Copenhagen\, Doha and Melbourne—and now Chicago audiences and visitors from across the country will have the opportunity to experience his striking and impactful images. The National Hellenic Museum is honored to host Prince Nikolaos’ North American exhibition debut and excited to welcome our community back to the museum this fall. \nMore information on Resilience is available on the NHM website here and in this article from The National Herald. \n_______________ \nResilience by HRH Prince Nikolaos will be exhibited at the National Hellenic Museum (333 S. Halsted Street\, Chicago) from September 16 through December 30\, 2022. \nMuseum hours are Friday-Sunday from 10 AM -5 PM\nTickets to the museum are $10 and include admission to all exhibits. Discounts are available for seniors\, students and children. \nFor more information\, visit nationalhellenicmuseum.org or call 312-655-1234
URL:https://www.chicagoculturalalliance.org/event/opening-weekend-resilience-photography-exhibit/2022-09-17/
LOCATION:National Hellenic Museum\, 333 S. Halsted St.\, Chicago\, IL\, 60661\, United States
CATEGORIES:Exhibitions and Gallery Events,Member Events
ATTACH;FMTTYPE=image/jpeg:https://www.chicagoculturalalliance.org/wp-content/uploads/2022/07/Resilience.jpg
GEO:41.8769371;-87.646937
X-APPLE-STRUCTURED-LOCATION;VALUE=URI;X-ADDRESS=National Hellenic Museum 333 S. Halsted St. Chicago IL 60661 United States;X-APPLE-RADIUS=500;X-TITLE=333 S. Halsted St.:geo:-87.646937,41.8769371
END:VEVENT
BEGIN:VEVENT
DTSTART;TZID=America/Chicago:20220916T100000
DTEND;TZID=America/Chicago:20220916T170000
DTSTAMP:20260422T035756
CREATED:20220728T164513Z
LAST-MODIFIED:20220810T190335Z
UID:10001649-1663322400-1663347600@www.chicagoculturalalliance.org
SUMMARY:Opening Weekend: RESILIENCE – Photography Exhibit
DESCRIPTION:Join us for the grand reopening of the National Hellenic Museum this fall \nwith the world premiere of a major photography exhibition \nResilience\nBy HRH Prince Nikolaos\nSeptember 16 – December 30\, 2022 \nPrince Nikolaos is an accomplished photographer whose work has been exhibited in major global cities including Athens\, London\, Copenhagen\, Doha and Melbourne—and now Chicago audiences and visitors from across the country will have the opportunity to experience his striking and impactful images. The National Hellenic Museum is honored to host Prince Nikolaos’ North American exhibition debut and excited to welcome our community back to the museum this fall. \nMore information on Resilience is available on the NHM website here and in this article from The National Herald. \n_______________ \nResilience by HRH Prince Nikolaos will be exhibited at the National Hellenic Museum (333 S. Halsted Street\, Chicago) from September 16 through December 30\, 2022. \nMuseum hours are Friday-Sunday from 10 AM -5 PM\nTickets to the museum are $10 and include admission to all exhibits. Discounts are available for seniors\, students and children. \nFor more information\, visit nationalhellenicmuseum.org or call 312-655-1234
URL:https://www.chicagoculturalalliance.org/event/opening-weekend-resilience-photography-exhibit/2022-09-16/
LOCATION:National Hellenic Museum\, 333 S. Halsted St.\, Chicago\, IL\, 60661\, United States
CATEGORIES:Exhibitions and Gallery Events,Member Events
ATTACH;FMTTYPE=image/jpeg:https://www.chicagoculturalalliance.org/wp-content/uploads/2022/07/Resilience.jpg
GEO:41.8769371;-87.646937
X-APPLE-STRUCTURED-LOCATION;VALUE=URI;X-ADDRESS=National Hellenic Museum 333 S. Halsted St. Chicago IL 60661 United States;X-APPLE-RADIUS=500;X-TITLE=333 S. Halsted St.:geo:-87.646937,41.8769371
END:VEVENT
BEGIN:VEVENT
DTSTART;VALUE=DATE:20220916
DTEND;VALUE=DATE:20230501
DTSTAMP:20260422T035756
CREATED:20220919T141213Z
LAST-MODIFIED:20220921T181326Z
UID:10001746-1663286400-1682899199@www.chicagoculturalalliance.org
SUMMARY:Gather Together: Chicago Street Photography by Diane Alexander White
DESCRIPTION:In this new exhibition\, the Chicago-based Greek American photographer presents 80 historic works showcasing Chicago’s Greek American celebrations alongside other ethnic and cultural festivals and parades\, primarily from the 1970s and 1980s. Depicted events include the Greek Independence Day Parade\, Bud Billiken Day Parade\, Chinese New Year Parade\, Mexican Civic Society Parade\, Jewish Festival and many more. \nThe National Hellenic Museum’s mission is to share Greek history\, art and culture\, and the Greek American experience. Diane’s works vividly capture how Chicago’s Greek American community gathers in the public space to show pride in its identity and share its culture. Through her images of other ethnic and cultural celebrations\, Diane also explores the universality of how Chicagoans gather together to show pride in their diverse communities. \nGather Together: Chicago Street Photography by Diane Alexander White will be exhibited at the National Hellenic Museum through April 30\, 2023. Museum hours are Thursday-Sunday from 10 a.m.-4 p.m. For more information\, visit nationalhellenicmuseum.org or call 312-655-1234. \n  \nADMISSION TO NHM:\n\n\n\n\nAdults:\n$10\n\n\nSeniors:\n$8\n\n\nStudents:\n$8\n\n\nChildren:\n$7\n\n\nChild under 3 years:\nFREE\n\n\nMembers:\nFREE
URL:https://www.chicagoculturalalliance.org/event/gather-together-chicago-street-photography-by-diane-alexander-white/
LOCATION:National Hellenic Museum\, 333 S. Halsted St.\, Chicago\, IL\, 60661\, United States
CATEGORIES:Exhibitions and Gallery Events
ATTACH;FMTTYPE=image/jpeg:https://www.chicagoculturalalliance.org/wp-content/uploads/2022/09/Gather-Together-Chicago-Street-Photography-by-Diane-Alexander-White.jpg
GEO:41.8769371;-87.646937
X-APPLE-STRUCTURED-LOCATION;VALUE=URI;X-ADDRESS=National Hellenic Museum 333 S. Halsted St. Chicago IL 60661 United States;X-APPLE-RADIUS=500;X-TITLE=333 S. Halsted St.:geo:-87.646937,41.8769371
END:VEVENT
BEGIN:VEVENT
DTSTART;VALUE=DATE:20220916
DTEND;VALUE=DATE:20221231
DTSTAMP:20260422T035756
CREATED:20220728T164436Z
LAST-MODIFIED:20220810T190504Z
UID:10001648-1663286400-1672444799@www.chicagoculturalalliance.org
SUMMARY:RESILIENCE – Photography Exhibit
DESCRIPTION:Join us for the grand reopening of the National Hellenic Museum this fall \nwith the world premiere of a major photography exhibition \nResilience\nBy HRH Prince Nikolaos\nSeptember 16 – December 30\, 2022 \nPrince Nikolaos is an accomplished photographer whose work has been exhibited in major global cities including Athens\, London\, Copenhagen\, Doha and Melbourne—and now Chicago audiences and visitors from across the country will have the opportunity to experience his striking and impactful images. The National Hellenic Museum is honored to host Prince Nikolaos’ North American exhibition debut and excited to welcome our community back to the museum this fall. \nMore information on Resilience is available on the NHM website here and in this article from The National Herald. \nThe museum will resume regular public hours beginning September 16\, on Friday-Sunday from 10 AM -5 PM \nResilience by HRH Prince Nikolaos will be exhibited at the National Hellenic Museum (333 S. Halsted Street\, Chicago) from September 16 through December 30\, 2022. \nMuseum hours are Friday-Sunday from 10 AM -5 PM\nTickets to the museum are $10 and include admission to all exhibits. Discounts are available for seniors\, students and children. \nFor more information\, visit nationalhellenicmuseum.org or call 312-655-1234
URL:https://www.chicagoculturalalliance.org/event/resilience-photography-exhibit/
LOCATION:National Hellenic Museum\, 333 S. Halsted St.\, Chicago\, IL\, 60661\, United States
CATEGORIES:Exhibitions and Gallery Events,Member Events
ATTACH;FMTTYPE=image/jpeg:https://www.chicagoculturalalliance.org/wp-content/uploads/2022/07/Resilience-1.jpg
GEO:41.8769371;-87.646937
X-APPLE-STRUCTURED-LOCATION;VALUE=URI;X-ADDRESS=National Hellenic Museum 333 S. Halsted St. Chicago IL 60661 United States;X-APPLE-RADIUS=500;X-TITLE=333 S. Halsted St.:geo:-87.646937,41.8769371
END:VEVENT
BEGIN:VEVENT
DTSTART;TZID=America/Chicago:20220519T180000
DTEND;TZID=America/Chicago:20220519T200000
DTSTAMP:20260422T035756
CREATED:20220426T191710Z
LAST-MODIFIED:20220728T164929Z
UID:10001486-1652983200-1652990400@www.chicagoculturalalliance.org
SUMMARY:Classical and Modern Mies
DESCRIPTION:Join the Mies van der Rohe Society and the National Hellenic Museum as we explore the blend of classical influences and constructivist form in Mies van der Rohe’s architecture\, with a special focus on how he folded the two together at the Illinois Institute of Technology – which houses the largest collection of his buildings. Reception to immediately follow. \n\nTickets: $40 in person\, $10 virtual\n\n\n\nRSVP by May 12th\, 2022
URL:https://www.chicagoculturalalliance.org/event/classical-and-modern-mies/
LOCATION:National Hellenic Museum\, 333 S. Halsted St.\, Chicago\, IL\, 60661\, United States
CATEGORIES:Online Events,Talks and Gatherings
ATTACH;FMTTYPE=image/jpeg:https://www.chicagoculturalalliance.org/wp-content/uploads/2022/04/170867-IIT-Mies-Society-Invite_PROOF-3_Page_1-scaled.jpg
GEO:41.8769371;-87.646937
X-APPLE-STRUCTURED-LOCATION;VALUE=URI;X-ADDRESS=National Hellenic Museum 333 S. Halsted St. Chicago IL 60661 United States;X-APPLE-RADIUS=500;X-TITLE=333 S. Halsted St.:geo:-87.646937,41.8769371
END:VEVENT
BEGIN:VEVENT
DTSTART;TZID=America/Chicago:20220409T050000
DTEND;TZID=America/Chicago:20220409T110000
DTSTAMP:20260422T035756
CREATED:20220317T201437Z
LAST-MODIFIED:20220317T201437Z
UID:10001413-1649480400-1649502000@www.chicagoculturalalliance.org
SUMMARY:Homer-athon: A Reading of Homer's Odyssey In Its Entirety
DESCRIPTION:Please join us as we read the ancient tale of Odysseus’ journey home from war. Like him\, each of us is also adjusting to new circumstances in our lives as we emerge from the pandemic. What better way to begin our journey home together? \nEach reader will be assigned a specific passage that is approximately 3 minutes long. Sign up for one passage or many. If being a reader isn’t for you\, consider participating as an audience member. Bring your friends and stay for as long as you like at this engaging\, live event!
URL:https://www.chicagoculturalalliance.org/event/homer-athon-a-reading-of-homers-odyssey-in-its-entirety-2/
LOCATION:National Hellenic Museum\, 333 S. Halsted St.\, Chicago\, IL\, 60661\, United States
CATEGORIES:Member Events,Talks and Gatherings
ATTACH;FMTTYPE=image/jpeg:https://www.chicagoculturalalliance.org/wp-content/uploads/2022/03/homerathon.jpeg
GEO:41.8769371;-87.646937
X-APPLE-STRUCTURED-LOCATION;VALUE=URI;X-ADDRESS=National Hellenic Museum 333 S. Halsted St. Chicago IL 60661 United States;X-APPLE-RADIUS=500;X-TITLE=333 S. Halsted St.:geo:-87.646937,41.8769371
END:VEVENT
BEGIN:VEVENT
DTSTART;TZID=America/Chicago:20220408T070000
DTEND;TZID=America/Chicago:20220408T140000
DTSTAMP:20260422T035756
CREATED:20220317T201305Z
LAST-MODIFIED:20220318T022203Z
UID:10001412-1649401200-1649426400@www.chicagoculturalalliance.org
SUMMARY:Homer-athon: A Reading of Homer's Odyssey In Its Entirety
DESCRIPTION:Please join us as we read the ancient tale of Odysseus’ journey home from war. Like him\, each of us is also adjusting to new circumstances in our lives as we emerge from the pandemic. What better way to begin our journey home together? \nEach reader will be assigned a specific passage that is approximately 3 minutes long. Sign up for one passage or many. If being a reader isn’t for you\, consider participating as an audience member. Bring your friends and stay for as long as you like at this engaging\, live event!
URL:https://www.chicagoculturalalliance.org/event/homer-athon-a-reading-of-homers-odyssey-in-its-entirety/
LOCATION:National Hellenic Museum\, 333 S. Halsted St.\, Chicago\, IL\, 60661\, United States
CATEGORIES:Member Events,Talks and Gatherings
ATTACH;FMTTYPE=image/jpeg:https://www.chicagoculturalalliance.org/wp-content/uploads/2022/03/homerathon.jpeg
GEO:41.8769371;-87.646937
X-APPLE-STRUCTURED-LOCATION;VALUE=URI;X-ADDRESS=National Hellenic Museum 333 S. Halsted St. Chicago IL 60661 United States;X-APPLE-RADIUS=500;X-TITLE=333 S. Halsted St.:geo:-87.646937,41.8769371
END:VEVENT
BEGIN:VEVENT
DTSTART;TZID=America/Chicago:20220327T080000
DTEND;TZID=America/Chicago:20220327T093000
DTSTAMP:20260422T035756
CREATED:20220322T214437Z
LAST-MODIFIED:20220728T164928Z
UID:10001422-1648368000-1648373400@www.chicagoculturalalliance.org
SUMMARY:Children's Story Time: A Story About Freedom
DESCRIPTION:Join us as we celebrate Greek Independence Day with a special event for children ages 5-12.  We will hear the story of how Greece gained it’s freedom from the Ottoman Empire and then participate in a related activity. Parents can enjoy some time in Greek Town with a discount coupon at a Greek Town restaurant.
URL:https://www.chicagoculturalalliance.org/event/childrens-story-time-a-story-about-freedom/
LOCATION:National Hellenic Museum\, 333 S. Halsted St.\, Chicago\, IL\, 60661\, United States
CATEGORIES:Cultural Festivals and Fairs,Talks and Gatherings
ATTACH;FMTTYPE=image/jpeg:https://www.chicagoculturalalliance.org/wp-content/uploads/2022/03/Kids-March-Event-p1.jpg
GEO:41.8769371;-87.646937
X-APPLE-STRUCTURED-LOCATION;VALUE=URI;X-ADDRESS=National Hellenic Museum 333 S. Halsted St. Chicago IL 60661 United States;X-APPLE-RADIUS=500;X-TITLE=333 S. Halsted St.:geo:-87.646937,41.8769371
END:VEVENT
END:VCALENDAR