BEGIN:VCALENDAR
VERSION:2.0
PRODID:-//Chicago Cultural Alliance - ECPv6.15.20//NONSGML v1.0//EN
CALSCALE:GREGORIAN
METHOD:PUBLISH
X-ORIGINAL-URL:https://www.chicagoculturalalliance.org
X-WR-CALDESC:Events for Chicago Cultural Alliance
REFRESH-INTERVAL;VALUE=DURATION:PT1H
X-Robots-Tag:noindex
X-PUBLISHED-TTL:PT1H
BEGIN:VTIMEZONE
TZID:America/Chicago
BEGIN:DAYLIGHT
TZOFFSETFROM:-0600
TZOFFSETTO:-0500
TZNAME:CDT
DTSTART:20210314T080000
END:DAYLIGHT
BEGIN:STANDARD
TZOFFSETFROM:-0500
TZOFFSETTO:-0600
TZNAME:CST
DTSTART:20211107T070000
END:STANDARD
BEGIN:DAYLIGHT
TZOFFSETFROM:-0600
TZOFFSETTO:-0500
TZNAME:CDT
DTSTART:20220313T080000
END:DAYLIGHT
BEGIN:STANDARD
TZOFFSETFROM:-0500
TZOFFSETTO:-0600
TZNAME:CST
DTSTART:20221106T070000
END:STANDARD
BEGIN:DAYLIGHT
TZOFFSETFROM:-0600
TZOFFSETTO:-0500
TZNAME:CDT
DTSTART:20230312T080000
END:DAYLIGHT
BEGIN:STANDARD
TZOFFSETFROM:-0500
TZOFFSETTO:-0600
TZNAME:CST
DTSTART:20231105T070000
END:STANDARD
BEGIN:DAYLIGHT
TZOFFSETFROM:-0600
TZOFFSETTO:-0500
TZNAME:CDT
DTSTART:20240310T080000
END:DAYLIGHT
BEGIN:STANDARD
TZOFFSETFROM:-0500
TZOFFSETTO:-0600
TZNAME:CST
DTSTART:20241103T070000
END:STANDARD
BEGIN:DAYLIGHT
TZOFFSETFROM:-0600
TZOFFSETTO:-0500
TZNAME:CDT
DTSTART:20250309T080000
END:DAYLIGHT
BEGIN:STANDARD
TZOFFSETFROM:-0500
TZOFFSETTO:-0600
TZNAME:CST
DTSTART:20251102T070000
END:STANDARD
END:VTIMEZONE
BEGIN:VEVENT
DTSTART;TZID=America/Chicago:20240229T163000
DTEND;TZID=America/Chicago:20240229T190000
DTSTAMP:20260422T183304
CREATED:20240228T185859Z
LAST-MODIFIED:20240228T185859Z
UID:10006137-1709224200-1709233200@www.chicagoculturalalliance.org
SUMMARY:NOTES FROM OUR COMMUNITY
DESCRIPTION:NOTES FROM OUR COMMUNITY is a series of events inspired by TimeLine’s production of Notes from the Field by Anna Deavere Smith.\nJoin us at The Logan Center for a reading of TimeLine South’s Recidivism and a T-Shirt Making Project!\nThursday\, February 29\, 2024\n4:30pm – 7pm (play reading begins at 5pm) \nReva and David Logan Center for the Arts\n915 E. 60th St.\, Chicago\nScreening Room \nABOUT RECIDIVISM – conceived and created by the TimeLine South 2022 Ensemble\nThe students of Connor High are trying their best to navigate their school’s new strict policies but when they learn that a prison is being built blocks away\, it sparks a fire within the students to take action towards autonomy. In a battle to break oppressive cycles\, they form an alliance to gain respect from those in authority and create a better future for their community. \nThe 60-minute play reading and a brief post-show discussion will be followed by a creative T-shirt making project for those interested in participating! This event is intended for all theater lovers\, but is especially for teens and young adults.\nFREE! Reservations required.
URL:https://www.chicagoculturalalliance.org/event/notes-from-our-community/
LOCATION:Reva and David Logan Center for the Arts\, 915 E 60th St.\, Chicago\, IL\, 60637\, United States
CATEGORIES:Music, Film, and Theater,Talks and Gatherings,Workshops and Classes
ATTACH;FMTTYPE=image/jpeg:https://www.chicagoculturalalliance.org/wp-content/uploads/2024/02/RecidivismArtwork.jpg
ORGANIZER;CN="TimeLine Theatre":MAILTO:info@timelinetheatre.com
GEO:41.7857274;-87.6038025
X-APPLE-STRUCTURED-LOCATION;VALUE=URI;X-ADDRESS=Reva and David Logan Center for the Arts 915 E 60th St. Chicago IL 60637 United States;X-APPLE-RADIUS=500;X-TITLE=915 E 60th St.:geo:-87.6038025,41.7857274
END:VEVENT
BEGIN:VEVENT
DTSTART;VALUE=DATE:20230917
DTEND;VALUE=DATE:20231001
DTSTAMP:20260422T183304
CREATED:20230814T144119Z
LAST-MODIFIED:20230816T145446Z
UID:10004351-1694908800-1696118399@www.chicagoculturalalliance.org
SUMMARY:Chicago Latino Dance Festival: Inaugural Season
DESCRIPTION:The International Latino Cultural Center of Chicago presents a four-week celebration of the rich variety and versatility of Chicago’s thriving Iberian dance scene.
URL:https://www.chicagoculturalalliance.org/event/chicago-latino-dance-festival-inaugural-season/
LOCATION:Reva and David Logan Center for the Arts\, 915 E 60th St.\, Chicago\, IL\, 60637\, United States
ATTACH;FMTTYPE=image/webp:https://www.chicagoculturalalliance.org/wp-content/uploads/2023/08/Adrian-Tenorio-The-Moves-Project-1130x650-1.webp
GEO:41.7857274;-87.6038025
X-APPLE-STRUCTURED-LOCATION;VALUE=URI;X-ADDRESS=Reva and David Logan Center for the Arts 915 E 60th St. Chicago IL 60637 United States;X-APPLE-RADIUS=500;X-TITLE=915 E 60th St.:geo:-87.6038025,41.7857274
END:VEVENT
BEGIN:VEVENT
DTSTART;TZID=America/Chicago:20230604T150000
DTEND;TZID=America/Chicago:20230604T170000
DTSTAMP:20260422T183304
CREATED:20230524T151247Z
LAST-MODIFIED:20230524T151247Z
UID:10004127-1685890800-1685898000@www.chicagoculturalalliance.org
SUMMARY:Ahimsa for Freedom
DESCRIPTION:A play performed by Bronzeville Youth on India’s Civil Rights movement. What happens when a child sees the monumental national struggle changing her life?
URL:https://www.chicagoculturalalliance.org/event/ahimsa-for-freedom/
LOCATION:Reva and David Logan Center for the Arts\, 915 E 60th St.\, Chicago\, IL\, 60637\, United States
ATTACH;FMTTYPE=image/png:https://www.chicagoculturalalliance.org/wp-content/uploads/2023/05/Screenshot2023-05-22at10.54.58AM.png
ORGANIZER;CN="Kalapriya Center for Indian Performing Arts":MAILTO:info@kalapriya.org
GEO:41.7857274;-87.6038025
X-APPLE-STRUCTURED-LOCATION;VALUE=URI;X-ADDRESS=Reva and David Logan Center for the Arts 915 E 60th St. Chicago IL 60637 United States;X-APPLE-RADIUS=500;X-TITLE=915 E 60th St.:geo:-87.6038025,41.7857274
END:VEVENT
BEGIN:VEVENT
DTSTART;TZID=America/Chicago:20221012T190000
DTEND;TZID=America/Chicago:20221012T201500
DTSTAMP:20260422T183304
CREATED:20220920T055705Z
LAST-MODIFIED:20220920T055705Z
UID:10001759-1665601200-1665605700@www.chicagoculturalalliance.org
SUMMARY:Reflections on 1919 with Eve L. Ewing
DESCRIPTION:A Conversation on 1919\, Black Chicago and Resilience. \n\n\nAbout this event\n\n\n\nA hot summer day set Chicago ablaze in 1919. Seventeen-year-old Eugene Williams crossed an invisible line in Lake Michigan that divided the segregated shores\, and he was killed by a group of white beachgoers. His death sparked a deadly 13-day riot. The fighting spread throughout the city\, then throughout the country in what became known as the Red Summer. In Chicago\, 38 people died\, more than 500 were injured\, and thousands were left homeless. \nThe ignition of the Red Summer proved that racism and prejudice had always existed in the north; it was just quieter here. And it’s a pervasive silence that’s lingered over a century – the scars of the Red Summer are still present\, open and bleeding in the underlying systems of inequity today. \nDr. Eve L. Ewing\, Chicago-based sociologist and poet\, explored the Red Summer and expanded on its lasting impact in her second collection of poems\, titled 1919. The book was recently adapted for the stage by J. Nicole Brooks and will make its world premiere at the Steppenwolf Theater this October. \nJoin WBEZ’s Sasha-Ann Simons for a reflective conversation about Chicago’s Red Summer with Dr. Ewing on October 12th at 7pm at the Logan Center. \nPhoto Credit: Mercedes Zapata
URL:https://www.chicagoculturalalliance.org/event/reflections-on-1919-with-eve-l-ewing/
LOCATION:Reva and David Logan Center for the Arts\, 915 E 60th St.\, Chicago\, IL\, 60637\, United States
CATEGORIES:Talks and Gatherings
ATTACH;FMTTYPE=image/png:https://www.chicagoculturalalliance.org/wp-content/uploads/2022/09/Screen-Shot-2022-09-20-at-12.53.39-AM.png
GEO:41.7857274;-87.6038025
X-APPLE-STRUCTURED-LOCATION;VALUE=URI;X-ADDRESS=Reva and David Logan Center for the Arts 915 E 60th St. Chicago IL 60637 United States;X-APPLE-RADIUS=500;X-TITLE=915 E 60th St.:geo:-87.6038025,41.7857274
END:VEVENT
BEGIN:VEVENT
DTSTART;TZID=America/Chicago:20220326T110000
DTEND;TZID=America/Chicago:20220326T123000
DTSTAMP:20260422T183304
CREATED:20220314T232116Z
LAST-MODIFIED:20220314T232116Z
UID:10001405-1648292400-1648297800@www.chicagoculturalalliance.org
SUMMARY:Kozmopoliz Kampopoliz: A Tour of Cosmo Campoli's Hyde Park
DESCRIPTION:Take a trolley tour through the Kozmopoliz\, also known as Cosmo Campoli’s Hyde Park\, as we celebrate the 100th birthday of the late artist.\n\n\n\n\n\nAbout this event\n\n\nMany know Campoli’s Bird of Peace sculpture in Nichols Park\, but he lived in the neighborhood for over 40 years\, leaving his mark on everything from what was eaten at certain restaurants (Spaghetti A La Gargoyle anyone?) to what got shown at the 57th St. Art Fair. On this tour\, we’ll retrace his steps\, searching out the bits of Hyde Park’s past that survive to this day. \nTour Guide: Paul Durica is the Director of Exhibitions at the Newberry Library. He has a PhD in English from the University of Chicago\, where he developed a series of free and interactive walks\, talks\, and reenactments dealing with Chicago’s past. These public history experiences have received local and national media attention and led to collaborations with cultural institutions from across the city. This is his fifth Hyde Park tour. Find out more at https://pocketguidetohell.com/ \nAdvance RSVP’s are required. Space is very limited. Masks and proof of vaccination required. \nThe trolley will load and unload passengers outside the Logan Center for the Arts\, 915 E 60th St. \n\n\nThis event is part of a day-long series of events\, Cosmo’s Cosmos: 100 Years of Birth\, Death\, and Rebirth. \nMarch 21\, 2022 will be the centenary of the birth of sculptor and Hyde Park resident Cosmo Campoli. Campoli (1922-1997) was part of the “Monster Roster” group associated with the Chicago Imagists in the 1950s\, including Leon Golub and H.C. Westermann. His work\, which frequently centered on themes of birth and death\, was exhibited as part of the Chicago Imagists at the Hyde Park Art Center. His sculpture\, “Bird of Peace\,” known colloquially as “The Egg\,” is a well-known piece of public art in Nichols Park. \n\nThis event is part of the Chicago Lost & Found series of events focused on Chicago art history created by Media Burn Archive. It is being held in partnership with the Smart Museum of Art and the Reva and David Logan Center for the Arts at the University of Chicago.  It is presented as part of Art Design Chicago Now\, an initiative funded by the Terra Foundation for American Art that amplifies the voices of Chicago’s diverse creatives\, past and present\, and explores the essential role they play in shaping the now.
URL:https://www.chicagoculturalalliance.org/event/kozmopoliz-kampopoliz-a-tour-of-cosmo-campolis-hyde-park/
LOCATION:Reva and David Logan Center for the Arts\, 915 E 60th St.\, Chicago\, IL\, 60637\, United States
CATEGORIES:Talks and Gatherings,Tour
ATTACH;FMTTYPE=image/jpeg:https://www.chicagoculturalalliance.org/wp-content/uploads/2022/03/cosmo-bus-tour.jpeg
GEO:41.7857274;-87.6038025
X-APPLE-STRUCTURED-LOCATION;VALUE=URI;X-ADDRESS=Reva and David Logan Center for the Arts 915 E 60th St. Chicago IL 60637 United States;X-APPLE-RADIUS=500;X-TITLE=915 E 60th St.:geo:-87.6038025,41.7857274
END:VEVENT
BEGIN:VEVENT
DTSTART;TZID=America/Chicago:20220314T030000
DTEND;TZID=America/Chicago:20220314T120000
DTSTAMP:20260422T183304
CREATED:20220314T231832Z
LAST-MODIFIED:20220314T231832Z
UID:10001404-1647226800-1647259200@www.chicagoculturalalliance.org
SUMMARY:Cosmo's Cosmos: 100 Years of Birth\, Death\, and Rebirth
DESCRIPTION:A celebration of the life and work of artist Cosmo Campoli (1922-1997)\, through images\, films\, lectures\, and storytelling.\n\n\n\n\n\nAbout this event\n\n\nThe event will be emceed by Paul Durica\, Director of Exhibitions at the Newberry Library. He has a PhD in English from the University of Chicago\, where he developed a series of free and interactive walks\, talks\, and reenactments dealing with Chicago’s past. These public history experiences have received local and national media attention and led to collaborations with cultural institutions from across the city. Find out more at https://pocketguidetohell.com/ \nPresentations will include: \n\nA riff on the Jean Debuffet’s seminal 1951 lecture “Anticultural Positions” by Northwestern University Professor Rebecca Zorach;\nPersonal and artistic remembrances from renowned sculptor Virginio Ferarri\, whose sculptures Dialogo (1971)\, Interlocking (1993)\, and Caring (2015) are visible on the University of Chicago campus;\nA screening of Cosmo’s Cosmos\, a 1981 documentary short by Annette Barbier and Terry Moyement;\nNewly unearthed 1991 footage of Campoli performing his unique take on beat poetry\, shot by filmmaker Joe Winston\, director of the soon-to-be-released documentary Punch 9 for Harold Washington;\nA screening of a cooking demonstration of the recipe for Cosmo’s Special Spaghetti\, a truly unique dish that reflected Campoli’s whimsical attitude. Won Kim\, chef at Bridgeport’s Kimski restaurant\, who is also a graffiti artist and DJ\, recreated Cosmo’s famous dish that he used to serve at the Blue Gargoyle.\n\nAdvance RSVP’s are encouraged. Masks and proof of vaccination are required. \n\n\nThis event is part of a day-long series of events\, Cosmo’s Cosmos: 100 Years of Birth\, Death\, and Rebirth. \nMarch 21\, 2022 will be the centenary of the birth of sculptor and Hyde Park resident Cosmo Campoli. Campoli (1922-1997) was part of the “Monster Roster” group associated with the Chicago Imagists in the 1950s\, including Leon Golub and H.C. Westermann. His work\, which frequently centered on themes of birth and death\, was exhibited as part of the Chicago Imagists at the Hyde Park Art Center. His sculpture\, “Bird of Peace\,” known colloquially as “The Egg\,” is a well-known piece of public art in Nichols Park.
URL:https://www.chicagoculturalalliance.org/event/cosmos-cosmos-100-years-of-birth-death-and-rebirth/
LOCATION:Reva and David Logan Center for the Arts\, 915 E 60th St.\, Chicago\, IL\, 60637\, United States
CATEGORIES:Exhibitions and Gallery Events,Talks and Gatherings
ATTACH;FMTTYPE=image/jpeg:https://www.chicagoculturalalliance.org/wp-content/uploads/2022/03/cosmos-cosmos.jpeg
GEO:41.7857274;-87.6038025
X-APPLE-STRUCTURED-LOCATION;VALUE=URI;X-ADDRESS=Reva and David Logan Center for the Arts 915 E 60th St. Chicago IL 60637 United States;X-APPLE-RADIUS=500;X-TITLE=915 E 60th St.:geo:-87.6038025,41.7857274
END:VEVENT
END:VCALENDAR