BEGIN:VCALENDAR
VERSION:2.0
PRODID:-//Chicago Cultural Alliance - ECPv6.15.20//NONSGML v1.0//EN
CALSCALE:GREGORIAN
METHOD:PUBLISH
X-WR-CALNAME:Chicago Cultural Alliance
X-ORIGINAL-URL:https://www.chicagoculturalalliance.org
X-WR-CALDESC:Events for Chicago Cultural Alliance
REFRESH-INTERVAL;VALUE=DURATION:PT1H
X-Robots-Tag:noindex
X-PUBLISHED-TTL:PT1H
BEGIN:VTIMEZONE
TZID:America/Chicago
BEGIN:DAYLIGHT
TZOFFSETFROM:-0600
TZOFFSETTO:-0500
TZNAME:CDT
DTSTART:20220313T080000
END:DAYLIGHT
BEGIN:STANDARD
TZOFFSETFROM:-0500
TZOFFSETTO:-0600
TZNAME:CST
DTSTART:20221106T070000
END:STANDARD
BEGIN:DAYLIGHT
TZOFFSETFROM:-0600
TZOFFSETTO:-0500
TZNAME:CDT
DTSTART:20230312T080000
END:DAYLIGHT
BEGIN:STANDARD
TZOFFSETFROM:-0500
TZOFFSETTO:-0600
TZNAME:CST
DTSTART:20231105T070000
END:STANDARD
BEGIN:DAYLIGHT
TZOFFSETFROM:-0600
TZOFFSETTO:-0500
TZNAME:CDT
DTSTART:20240310T080000
END:DAYLIGHT
BEGIN:STANDARD
TZOFFSETFROM:-0500
TZOFFSETTO:-0600
TZNAME:CST
DTSTART:20241103T070000
END:STANDARD
END:VTIMEZONE
BEGIN:VEVENT
DTSTART;TZID=America/Chicago:20230615T190000
DTEND;TZID=America/Chicago:20230615T230000
DTSTAMP:20260420T231756
CREATED:20230605T170610Z
LAST-MODIFIED:20230605T170610Z
UID:10004172-1686855600-1686870000@www.chicagoculturalalliance.org
SUMMARY:Konpa Sware
DESCRIPTION:Join the Haitian American Museum of Chicago in an immersive evening of Haitian dance and music.
URL:https://www.chicagoculturalalliance.org/event/konpa-sware-2/
LOCATION:Room 43\, 1039-1041 E. 43rd St\, Chicago\, IL\, 60653\, United States
ATTACH;FMTTYPE=image/jpeg:https://www.chicagoculturalalliance.org/wp-content/uploads/2023/06/https-__cdn.evbuc_.com_images_528563349_98582227643_1_original.jpg
GEO:41.816686;-87.600164
X-APPLE-STRUCTURED-LOCATION;VALUE=URI;X-ADDRESS=Room 43 1039-1041 E. 43rd St Chicago IL 60653 United States;X-APPLE-RADIUS=500;X-TITLE=1039-1041 E. 43rd St:geo:-87.600164,41.816686
END:VEVENT
BEGIN:VEVENT
DTSTART;TZID=America/Chicago:20230518T190000
DTEND;TZID=America/Chicago:20230518T230000
DTSTAMP:20260420T231756
CREATED:20230501T201703Z
LAST-MODIFIED:20230501T201703Z
UID:10003943-1684436400-1684450800@www.chicagoculturalalliance.org
SUMMARY:A Passport to Haiti: Konpa Sware and Flag Day Celebration
DESCRIPTION:Join the Haitian American Museum of Chicago (HAMOC) in A Passport to Haiti! A Passport to Haiti is a four-event program spanning over several months that focuses on the cuisine\, movement\, culture\, and art of Haiti. This event focuses on Konpa Sware\, the dance and music style traditional to Haiti. This event is to be held on May 18th\, which is Haitian Flag Day. \nIn this Passport event\, guests will be able to immerse themselves in Haitian culture by interacting through dance and music. Guests will also learn about the history of the flag. This event is appropriate for all ages and skill levels. \nKonpa Sware is a recurring event on the third Thursday of the month\, but this is the only Konpa event that is free for the public\, so register today! Please note that this event is held at Room43 at 1039-1041 E 43rd St\, Chicago\, IL 60653. \nIn addition to the 50 tickets here\, we are accepting walk-in guests until maximum capacity is reached.
URL:https://www.chicagoculturalalliance.org/event/a-passport-to-haiti-konpa-sware-and-flag-day-celebration/
LOCATION:Room 43\, 1039-1041 E. 43rd St\, Chicago\, IL\, 60653\, United States
GEO:41.816686;-87.600164
X-APPLE-STRUCTURED-LOCATION;VALUE=URI;X-ADDRESS=Room 43 1039-1041 E. 43rd St Chicago IL 60653 United States;X-APPLE-RADIUS=500;X-TITLE=1039-1041 E. 43rd St:geo:-87.600164,41.816686
END:VEVENT
BEGIN:VEVENT
DTSTART;TZID=America/Chicago:20230420T190000
DTEND;TZID=America/Chicago:20230420T230000
DTSTAMP:20260420T231756
CREATED:20230410T182639Z
LAST-MODIFIED:20230410T182639Z
UID:10003838-1682017200-1682031600@www.chicagoculturalalliance.org
SUMMARY:Konpa Sware
DESCRIPTION:Join the Haitian American Museum of Chicago (HAMOC) in its first Konpa Sware since 2019! The museum is excited to restart this event for an evening of Haitian dance and music. Join us at Room43. Ticket includes lite Haitian bites and 1 free drink. \nThis will be a recurring event on the Third Thursday of each month. Keep an eye out for future event registration! \nHAMOC Members – check your email for your discount code\, this event is free to you!
URL:https://www.chicagoculturalalliance.org/event/konpa-sware/
LOCATION:Room 43\, 1039-1041 E. 43rd St\, Chicago\, IL\, 60653\, United States
GEO:41.816686;-87.600164
X-APPLE-STRUCTURED-LOCATION;VALUE=URI;X-ADDRESS=Room 43 1039-1041 E. 43rd St Chicago IL 60653 United States;X-APPLE-RADIUS=500;X-TITLE=1039-1041 E. 43rd St:geo:-87.600164,41.816686
END:VEVENT
END:VCALENDAR