BEGIN:VCALENDAR
VERSION:2.0
PRODID:-//Chicago Cultural Alliance - ECPv6.15.20//NONSGML v1.0//EN
CALSCALE:GREGORIAN
METHOD:PUBLISH
X-WR-CALNAME:Chicago Cultural Alliance
X-ORIGINAL-URL:https://www.chicagoculturalalliance.org
X-WR-CALDESC:Events for Chicago Cultural Alliance
REFRESH-INTERVAL;VALUE=DURATION:PT1H
X-Robots-Tag:noindex
X-PUBLISHED-TTL:PT1H
BEGIN:VTIMEZONE
TZID:America/Chicago
BEGIN:DAYLIGHT
TZOFFSETFROM:-0600
TZOFFSETTO:-0500
TZNAME:CDT
DTSTART:20230312T080000
END:DAYLIGHT
BEGIN:STANDARD
TZOFFSETFROM:-0500
TZOFFSETTO:-0600
TZNAME:CST
DTSTART:20231105T070000
END:STANDARD
BEGIN:DAYLIGHT
TZOFFSETFROM:-0600
TZOFFSETTO:-0500
TZNAME:CDT
DTSTART:20240310T080000
END:DAYLIGHT
BEGIN:STANDARD
TZOFFSETFROM:-0500
TZOFFSETTO:-0600
TZNAME:CST
DTSTART:20241103T070000
END:STANDARD
BEGIN:DAYLIGHT
TZOFFSETFROM:-0600
TZOFFSETTO:-0500
TZNAME:CDT
DTSTART:20250309T080000
END:DAYLIGHT
BEGIN:STANDARD
TZOFFSETFROM:-0500
TZOFFSETTO:-0600
TZNAME:CST
DTSTART:20251102T070000
END:STANDARD
END:VTIMEZONE
BEGIN:VEVENT
DTSTART;TZID=America/Chicago:20241004T150000
DTEND;TZID=America/Chicago:20241004T180000
DTSTAMP:20260423T074434
CREATED:20240909T191759Z
LAST-MODIFIED:20240909T191759Z
UID:10007221-1728054000-1728064800@www.chicagoculturalalliance.org
SUMMARY:S&C Electric Manufacturing Day Celebration
DESCRIPTION:We invite you to celebrate National Manufacturing Day with us at our headquarters in Chicago’s Rogers Park neighborhood.\nHeld annually on the first Friday in October with events that continue throughout the month\, Manufacturing (MFG) Day helps show the reality and future of modern manufacturing careers by encouraging thousands of companies and educational institutions around the nation to open their doors to students\, parents\, educators\, job seekers\, and community leaders. As one of Chicago’s largest manufacturers\, we’re proud to celebrate S&C’s strong manufacturing history and our innovative culture with you.\nWhen you join us for MFG Day\, you’ll learn how S&C products help keep the power on for homes and communities around the world through:\nLive product demonstrations\,\nHear directly from our team members about how rewarding a career in manufacturing can be\,\nNetwork with S&C leaders\, recruiters\, and affinity groups.\nLogistics\nFree parking on campus. Wear closed toed shoes for tours. Bring photo ID to enter.
URL:https://www.chicagoculturalalliance.org/event/sc-electric-manufacturing-day-celebration/
LOCATION:S&C Electric Company\, 6601 N. Ridge\, Chicago\, IL\, 60626
ATTACH;FMTTYPE=image/jpeg:https://www.chicagoculturalalliance.org/wp-content/uploads/2024/08/ePyScFG5kEmnfh7C3BgfXg.large_.jpg
END:VEVENT
END:VCALENDAR