BEGIN:VCALENDAR
VERSION:2.0
PRODID:-//Chicago Cultural Alliance - ECPv6.15.20//NONSGML v1.0//EN
CALSCALE:GREGORIAN
METHOD:PUBLISH
X-WR-CALNAME:Chicago Cultural Alliance
X-ORIGINAL-URL:https://www.chicagoculturalalliance.org
X-WR-CALDESC:Events for Chicago Cultural Alliance
REFRESH-INTERVAL;VALUE=DURATION:PT1H
X-Robots-Tag:noindex
X-PUBLISHED-TTL:PT1H
BEGIN:VTIMEZONE
TZID:America/Chicago
BEGIN:DAYLIGHT
TZOFFSETFROM:-0600
TZOFFSETTO:-0500
TZNAME:CDT
DTSTART:20210314T080000
END:DAYLIGHT
BEGIN:STANDARD
TZOFFSETFROM:-0500
TZOFFSETTO:-0600
TZNAME:CST
DTSTART:20211107T070000
END:STANDARD
BEGIN:DAYLIGHT
TZOFFSETFROM:-0600
TZOFFSETTO:-0500
TZNAME:CDT
DTSTART:20220313T080000
END:DAYLIGHT
BEGIN:STANDARD
TZOFFSETFROM:-0500
TZOFFSETTO:-0600
TZNAME:CST
DTSTART:20221106T070000
END:STANDARD
BEGIN:DAYLIGHT
TZOFFSETFROM:-0600
TZOFFSETTO:-0500
TZNAME:CDT
DTSTART:20230312T080000
END:DAYLIGHT
BEGIN:STANDARD
TZOFFSETFROM:-0500
TZOFFSETTO:-0600
TZNAME:CST
DTSTART:20231105T070000
END:STANDARD
END:VTIMEZONE
BEGIN:VEVENT
DTSTART;TZID=America/Chicago:20220910T170000
DTEND;TZID=America/Chicago:20220910T190000
DTSTAMP:20260423T135944
CREATED:20220819T190415Z
LAST-MODIFIED:20220819T190415Z
UID:10001693-1662829200-1662836400@www.chicagoculturalalliance.org
SUMMARY:Mid-Autumn Festival
DESCRIPTION:Please join CAMOC from 5pm-7pm CT on Saturday\, September 10\, for the celebration of the Mid-Autumn Festival. The Mid-Autumn\, or Moon Festival falls on the 15th day of the 8th lunar month and is one of the most important traditional events for the Chinese\, like Christmas and Thanksgiving in the West. This event will include community planting\, storytelling\, Chinese cultural performances\, lantern and rabbit-mask making\, acoustic music\, tea and moon cake sampling\, and lantern parade. \n  \nDate: Saturday\, September 10\, 2022\nTime: 5pm – 7pm\nVenue: Set in Stone Gathering Space\nLocation: 31st Street Parking Lot\, West of Lake Shore Drive
URL:https://www.chicagoculturalalliance.org/event/mid-autumn-festival/
LOCATION:Set in Stone Gathering Space\, 3155 S. Lake Shore Dr.\, Chicago\, IL\, 60616\, United States
CATEGORIES:Cultural Festivals and Fairs,Member Events
ATTACH;FMTTYPE=image/png:https://www.chicagoculturalalliance.org/wp-content/uploads/2022/08/Screen-Shot-2022-08-19-at-2.02.17-PM.png
GEO:41.8300468;-87.6028092
X-APPLE-STRUCTURED-LOCATION;VALUE=URI;X-ADDRESS=Set in Stone Gathering Space 3155 S. Lake Shore Dr. Chicago IL 60616 United States;X-APPLE-RADIUS=500;X-TITLE=3155 S. Lake Shore Dr.:geo:-87.6028092,41.8300468
END:VEVENT
END:VCALENDAR