BEGIN:VCALENDAR
VERSION:2.0
PRODID:-//Chicago Cultural Alliance - ECPv6.15.20//NONSGML v1.0//EN
CALSCALE:GREGORIAN
METHOD:PUBLISH
X-ORIGINAL-URL:https://www.chicagoculturalalliance.org
X-WR-CALDESC:Events for Chicago Cultural Alliance
REFRESH-INTERVAL;VALUE=DURATION:PT1H
X-Robots-Tag:noindex
X-PUBLISHED-TTL:PT1H
BEGIN:VTIMEZONE
TZID:America/Chicago
BEGIN:DAYLIGHT
TZOFFSETFROM:-0600
TZOFFSETTO:-0500
TZNAME:CDT
DTSTART:20230312T080000
END:DAYLIGHT
BEGIN:STANDARD
TZOFFSETFROM:-0500
TZOFFSETTO:-0600
TZNAME:CST
DTSTART:20231105T070000
END:STANDARD
BEGIN:DAYLIGHT
TZOFFSETFROM:-0600
TZOFFSETTO:-0500
TZNAME:CDT
DTSTART:20240310T080000
END:DAYLIGHT
BEGIN:STANDARD
TZOFFSETFROM:-0500
TZOFFSETTO:-0600
TZNAME:CST
DTSTART:20241103T070000
END:STANDARD
BEGIN:DAYLIGHT
TZOFFSETFROM:-0600
TZOFFSETTO:-0500
TZNAME:CDT
DTSTART:20250309T080000
END:DAYLIGHT
BEGIN:STANDARD
TZOFFSETFROM:-0500
TZOFFSETTO:-0600
TZNAME:CST
DTSTART:20251102T070000
END:STANDARD
END:VTIMEZONE
BEGIN:VEVENT
DTSTART;TZID=America/Chicago:20241025T180000
DTEND;TZID=America/Chicago:20241025T220000
DTSTAMP:20260423T035131
CREATED:20241007T013616Z
LAST-MODIFIED:20241007T013616Z
UID:10007288-1729879200-1729893600@www.chicagoculturalalliance.org
SUMMARY:Art for Health
DESCRIPTION:Looking for a fun night out in Chicago while supporting a great cause? Community Empowerment is a Chicago-based global health nonprofit organization that provides essential medical and surgical services to our partner communities in the Dominican Republic and Haiti. Join us for a celebratory fundraising event that brings together art\, music\, food\, and community! See art works and installations from Marek Hosek\, Sebastian Kowalski\, Hague Williams\, All Star Press\, John Bannon\, and Paul Lukes. Throughout the night\, enjoy live screen printing\, new photo works\, functional art\, raffle prizes and more! Learn about our accomplishments and the sustainable impact of our work. \nProceeds from the Art for Health Benefit directly support medical and surgical services for underserved communities in the Dominican Republic and Haiti. Your support and generosity fuels our mission\, ensuring we can continue to connect and strengthen communities.
URL:https://www.chicagoculturalalliance.org/event/art-for-health/
LOCATION:Venue West\, 221 N Paulina\, Chicago\, 60612
CATEGORIES:Exhibitions and Gallery Events,Food and Drink
ATTACH;FMTTYPE=image/jpeg:https://www.chicagoculturalalliance.org/wp-content/uploads/2024/10/AFH-14-logo-sq-09-scaled.jpg
ORGANIZER;CN="Community Empowerment":MAILTO:info@community-empowerment.org
END:VEVENT
END:VCALENDAR