BEGIN:VCALENDAR
VERSION:2.0
PRODID:-//Chicago Cultural Alliance - ECPv6.15.20//NONSGML v1.0//EN
CALSCALE:GREGORIAN
METHOD:PUBLISH
X-ORIGINAL-URL:https://www.chicagoculturalalliance.org
X-WR-CALDESC:Events for Chicago Cultural Alliance
REFRESH-INTERVAL;VALUE=DURATION:PT1H
X-Robots-Tag:noindex
X-PUBLISHED-TTL:PT1H
BEGIN:VTIMEZONE
TZID:America/Chicago
BEGIN:DAYLIGHT
TZOFFSETFROM:-0600
TZOFFSETTO:-0500
TZNAME:CDT
DTSTART:20230312T080000
END:DAYLIGHT
BEGIN:STANDARD
TZOFFSETFROM:-0500
TZOFFSETTO:-0600
TZNAME:CST
DTSTART:20231105T070000
END:STANDARD
BEGIN:DAYLIGHT
TZOFFSETFROM:-0600
TZOFFSETTO:-0500
TZNAME:CDT
DTSTART:20240310T080000
END:DAYLIGHT
BEGIN:STANDARD
TZOFFSETFROM:-0500
TZOFFSETTO:-0600
TZNAME:CST
DTSTART:20241103T070000
END:STANDARD
BEGIN:DAYLIGHT
TZOFFSETFROM:-0600
TZOFFSETTO:-0500
TZNAME:CDT
DTSTART:20250309T080000
END:DAYLIGHT
BEGIN:STANDARD
TZOFFSETFROM:-0500
TZOFFSETTO:-0600
TZNAME:CST
DTSTART:20251102T070000
END:STANDARD
BEGIN:DAYLIGHT
TZOFFSETFROM:-0600
TZOFFSETTO:-0500
TZNAME:CDT
DTSTART:20260308T080000
END:DAYLIGHT
BEGIN:STANDARD
TZOFFSETFROM:-0500
TZOFFSETTO:-0600
TZNAME:CST
DTSTART:20261101T070000
END:STANDARD
END:VTIMEZONE
BEGIN:VEVENT
DTSTART;TZID=America/Chicago:20250717T173000
DTEND;TZID=America/Chicago:20250717T190000
DTSTAMP:20260423T091317
CREATED:20250626T165031Z
LAST-MODIFIED:20250626T165031Z
UID:10008026-1752773400-1752778800@www.chicagoculturalalliance.org
SUMMARY:LEGO & Libations with a Tour of the Wild Mile
DESCRIPTION:Join us for a very special adult LEGO workshop that includes a tour of The Wild Mile along the Chicago River and then partake in a hands-on LEGO & Libations workshop. \nBring a friend\, grab a drink and enjoy a hands-on workshop where you’ll think like a designer and bring your special nature-focused LEGO creation to life. All LEGO materials will be provided. One workshop registration includes one (1) draft beer ticket and one (1) pass for a future visit to the CAC. \nHosted by the CAC\, Urban Rivers and Off Color Brewing\, this unique workshop combines nature\, libations and LEGO in a fun and engaging way. \nThe Wild Mile is the flagship project of nonprofit Urban Rivers. It is a floating ecopark that takes a wildlife-first approach to public greenspace. Off Color Brewing is an American craft beer brewery and was founded to focus on brewing forgotten styles of beer. \nThe Wild Mile is ADA-accessible\, and participants should be prepared to walk and stand for about half an hour along the river. \nThe program begins with a tour of the Wild Mild and ends at Off Color Brewing Taproom The Mousetrap. \nMeeting point: The Wild Mile\, 905 W Eastman St\, Chicago\, IL 60642 \nEnd point: Off Color Brewing Taproom The Mousetrap\, 1460 N Kingsbury St\, Chicago\, IL 60642 \nThe CAC firmly believes that everyone should have the opportunity to discover why design matters. Should the registration fee be a barrier to your participation in this program\, we invite you to please contact us at CACLearning@architecture.org to apply for a partial or full scholarship.
URL:https://www.chicagoculturalalliance.org/event/lego-libations-with-a-tour-of-the-wild-mile/
LOCATION:Wild Mile\, 905 W Eastman St\, Chicago\, 60642
CATEGORIES:Tour,Workshops and Classes
ATTACH;FMTTYPE=image/png:https://www.chicagoculturalalliance.org/wp-content/uploads/2025/06/Screenshot-2025-06-24-131639-2.png
ORGANIZER;CN="Chicago Architecture Center":MAILTO:info@architecture.org
END:VEVENT
BEGIN:VEVENT
DTSTART;TZID=America/Chicago:20240802T170000
DTEND;TZID=America/Chicago:20240802T180000
DTSTAMP:20260423T091317
CREATED:20240528T173851Z
LAST-MODIFIED:20240701T141234Z
UID:10006480-1722618000-1722621600@www.chicagoculturalalliance.org
SUMMARY:Rewilding Chicago’s Waterways
DESCRIPTION:The Wild Mile is one-of-a-kind: a floating eco-park in the heart of the city. Visit this steadily growing wonder on the North Branch of the Chicago River for a conversation\, walking tour\, and optional kayak adventure with co-creators Urban Rivers and Skidmore\, Owings & Merrill (SOM). Backed by the City of Chicago as part of a larger effort to redefine and rehabilitate this channelized section of the river\, a team of experts and community partners devised the Wild Mile as proof-of-concept in how industrial waterways can be reborn as wildlife sanctuaries connecting city dwellers to nature. In 2022\, the first 400 feet of what will ultimately be an intricate mile-long network of floating boardwalks and wetlands debuted along the North Branch Canal behind the Kingsbury Street REI store. This spring an extension is underway that will double the park’s length. Urban Rivers co-founder and Executive Director Nick Wesley and SOM Partner Doug Voigt will share fascinating details of the design\, planning and lengthy negotiations behind this undertaking\, and give tours of the new landscape and habitat. Come discover the thriving ecosystem that has quickly taken hold above and below the water’s surface! This program is part of the Chicago Architecture Center’s Loop as Lab: Reshaping Downtowns exhibition series exploring key themes for the future of cities. \nDue to space limitations\, this event is capped at 40 registrants. Those interested in the kayak tour should reserve an extra hour (until 7pm)\, which is first come first served with a maximum capacity of 8 participants. This option will be available upon checkout.
URL:https://www.chicagoculturalalliance.org/event/rewilding-chicagos-waterways/
LOCATION:Wild Mile\, 905 W Eastman St\, Chicago\, 60642
CATEGORIES:Sporting Events,Talks and Gatherings,Tour
ATTACH;FMTTYPE=image/jpeg:https://www.chicagoculturalalliance.org/wp-content/uploads/2024/05/Wild-Mile-hero.jpg
ORGANIZER;CN="Chicago Architecture Center":MAILTO:info@architecture.org
END:VEVENT
END:VCALENDAR